Workbook

Sheet SE_2023
B1: SE_2023_forum_VER_33.xlsx | G1: Komentar: "kWh/kWp", enote tega kvocienta so ure. To pomeni, koliko ur bi morala delovati SE z nazivno močjo panelov, da bi proizvedla enako energije. Navadno leto ima 8760 ur.
B2: 6.5.2026 | C2: Podatki o SE so urejeni po vrsti, kot so v začetku prihajali. | J2: Azimut tukaj je kot merjen od smeri severa v smeri urinega kazalca: vzhod = 90°, jug = 180°, zahod = 270° | P2: Članek "več panelov": https://www.zurnal24.si/pod-streho/varcna-hisa/eles-to-ne-drzi-kdor-bo-to-storil-bo-letel-iz-ugodnega-sistema-442484?utm_source=chatgpt.com
B3: Ime | C3: Lokacija | D3: Pridelek 2025, kWh | E3: Leto 2025 kWh/kWp | F3: Leto 2024 kWh/kWp | G3: Leto 2023 kWh/kWp | H3: Leto 2022 kWh/kWp | I3: Paneli, kWp | J3: Azimut, ° | K3: Naklon, ° | L3: Soglasje, kW | M3: Export omejitev, kW | N3: Opombe | P3: ime: Caps
A4: 1 | B4: Caps | C4: sever Ljubljane | D4: 10140 | E4: =D4/I4 -> 1003.9604 | F4: 1045.5446 | G4: =10979/I4 -> 1087.0297 | I4: 10.1 | J4: 160 | K4: 21 | L4: 10.1 | M4: 9.7 | N4: senčenje panelov v mesecih 11-2 od 10. do 14. ure (sosedi na jugu) | P4: lokacija: sever Ljubljane
A5: 2 | B5: cimi82 | C5: okolica NM | E5: =D5/I5 -> 0 | F5: 1310.994 | G5: =14570/I5 -> 1097.1386 | I5: 13.28 | J5: 170 | K5: 40 | L5: 13.6 | N5: priklop 20.3.2023 | P5: pridelek 2023: 10979 kWh
A6: 3 | B6: xavi | C6: Maribor - Zrkovci | E6: =D6/I6 -> 0 | F6: 1352.5499 | G6: =11940/I6 -> 1323.7251 | I6: 9.02 | J6: 150.5 | K6: 42 | L6: 10.25 | N6: Elektrarna v pogonu od 22.9.2022. Proizvodnja leto 2022 2,09 MWh Proizvodnja od 22.9.2023 do 31.12.2023 - 2330 kWh oz. 11% več kot 2022. | P6: paneli 1: 10,1 kWp azimut 162°, naklon 21° (za več grup panelov podaj posebej)
A7: 4 | B7: slepec | C7: okolica Litije, višina 505 | D7: 16800 | E7: =D7/I7 -> 1241.6851 | F7: 1282.3356 | G7: =6750/I7 -> 498.89135 | I7: 13.53 | J7: 155 | K7: 35 | L7: 13.6 | M7: 13.5 | N7: priklop 10.7.2023 | P7: soglasje: 10,1 kW
A8: 5 | B8: JaBK | C8: okolica Kranja | D8: 14110 | E8: =D8/I8 -> 1045.1852 | F8: =13251/I8 -> 981.55556 | G8: =14127/I8 -> 1046.4444 | H8: =15394/I8 -> 1140.2963 | I8: 13.5 | J8: 249 | K8: 38 | L8: 13.5 | M8: 13.4 | N8: all black paneli (naj bi delali cca 3% slabše) Koledarsko leto 2022: 15394kWh oziroma 1140kWh/kWp | P8: omejitev oddaje v omrežje (export): 9.7 kW
A9: 6 | B9: pregela | C9: Litija | E9: =D9/I9 -> 0 | F9: 1010.4167 | G9: =9830/I9 -> 1023.9583 | H9: =10923/I9 -> 1137.8125 | I9: 9.6 | J9: 240 | K9: 30 | L9: 9.6 | M9: 9.6 | N9: 2022 10923 kWh 1138kWh/kWp | P9: opombe: senčenje panelov v mesecih 11-2 od 10. do 14. ure (sosedi na jugu)
A10: 7 | B10: labelsm | C10: Zgornje Hoče pri MB | E10: =D10/I10 -> 0 | G10: =13700/I10 -> 1053.8462 | I10: 13 | J10: 245 | K10: 30 | L10: 11 | M10: 10.9 | N10: Priklop 25.1.2023 black paneli Paneli so senčeni zaradi manjšega gozda od 13.45 h naprej
A11: 8 | B11: letalec007 | C11: okolica Cerknice | D11: 11200 | E11: =D11/I11 -> 1148.7179 | F11: 1106.6667 | G11: =10700/I11 -> 1097.4359 | I11: =3.75+6 -> 9.75 | J11: 3.75 kW, 158.5 6 kW, 247.9 | K11: 33 33 | L11: 11.2 | M11: 11 | N11: v zimskem času so nekateri paneli v senci (sosednje stavbe) | P11: ime: cimi82
A12: 9 | B12: vuego | C12: okolica Kamnika | E12: =D12/I12 -> 0 | G12: =12983/I12 -> 1129.9391 | I12: 11.49 | J12: 225 | K12: 35 | L12: 10 | M12: 9.99 | N12: v zimskem času so nekateri paneli popoldne v senci (drevesa na sosednji parceli) | P12: lokacija: okolica Nm
A13: 10 | B13: Dave | C13: okolica Črnomlja | D13: 14480 | E13: =D13/I13 -> 1087.0871 | F13: =15130/I13 -> 1135.8859 | G13: =15090/I13 -> 1132.8829 | I13: 13.32 | J13: 132 | K13: 30 | L13: 13.6 | M13: 13.4 | P13: pridelek 2023: 14570 kWh
A14: 11 | B14: MAGS | C14: okolica Novega mesta | E14: =D14/I14 -> 0 | G14: =10800/I14 -> 968.60987 | H14: =12300/I14 -> 1103.139 | I14: 11.15 | J14: 110 | K14: 30 | L14: 11.2 | M14: 11.11 | N14: Zagon aprila 2020 | P14: azimut -10°,
A15: 12 | B15: Fery | C15: Cerknica | D15: 18300 | E15: =D15/I15 -> 1150.9434 | G15: =14350/12 -> 1195.8333 | I15: 15.9 | J15: 180 | K15: 41 | M15: 10.8 | N15: zelo osenčeni paneli. Za leto 2025 15.9 kWp (za 2023, 12 kWp) | P15: naklon 40°
A16: 13 | B16: ivč | C16: Maribor vzhod | D16: 8790 | E16: =8790/8.54 -> 1029.274 | F16: 1036.2998 | G16: =8850/8.54 -> 1036.2998 | H16: =9900/8.54 -> 1159.2506 | I16: =4.5+5.49 -> 9.99 | J16: 4.5 kW, 203 5.49 kW, 113 | K16: 40 41 | L16: 11 | N16: senčenje pozimi (sosed. hiša) 25.3.2025 popravljen azimut in naklon (prej SE1: 180 30, SE2: 90 30). 16.2.2026 povečanje moči z 8.54 kW na 10 kW. Dodani paneli v veji z azimutom 203, moč povečana s 3.05 kW na 4.5 kW | P16: paneli: 32x410W = 13.28kW
A17: 14 | B17: vip58 | C17: okolica Janč, 530 m n.v. | D17: 15250 | E17: =D17/I17 -> 1279.3624 | F17: 1235.7383 | G17: =14320/I17 -> 1201.3423 | I17: =9.33+2.59 -> 11.92 | J17: 9.33 kW, 165 2.59 kW, 210 | K17: 35 35 | L17: 11.1 | M17: 10.8 | N17: nekaj senčenja, v idealnih razmerah bi pridelala 1300Kwh več | P17: opombe: priklop 20.3.2023
A18: 15 | B18: du77a | C18: Domžale | D18: 13922 | E18: =D18/I18 -> 1133.2519 | F18: 1142.8571 | G18: =14600/I18 -> 1188.4412 | I18: 12.285 | J18: 165 | K18: 37 | L18: 11.2 | M18: 11.1 | N18: senčenje 8 panelov zaradi oblike hiše priklop november 2022, takrat 628 kWh
A19: 16 | B19: Kvc | C19: Prlekija | E19: =D19/I19 -> 0 | F19: 1377.7778 | G19: =9346/I19 -> 1384.5926 | H19: =9690/I19 -> 1435.5556 | I19: 6.75 | J19: 189 | K19: 35 | L19: 6.75 | M19: 6.6
A20: 17 | B20: Unika542 | C20: okolica Ivančne gorice | E20: =D20/I20 -> 0 | G20: =9220/I20 -> 1111.513 | I20: =0.395*21 -> 8.295 | J20: 4.345 kW, 129 3.95 kW, 210 | K20: 40 40 | L20: 8.29 | M20: 7.9 | P20: xavi,Moji podatki.
A21: 18 | B21: Fantocci2 | C21: Posavje | D21: 11590 | E21: =D21/I21 -> 1317.0455 | F21: =11960/I21 -> 1359.0909 | G21: =8160/I21 -> 927.27273 | I21: 8.8 | J21: 182 | K21: 38 | L21: 11.2 | M21: 11.2 | N21: zagnana 9.5.2023 en dimnik pa ena frčada, večji vpliv v spomladnih in jesenskih mesecih ko je sonce nizko | P21: Maribor - Zrkovci.
A22: 19 | B22: JohnSnow | C22: Kozina z okolico | E22: =D22/I22 -> 0 | G22: =12300/I22 -> 1025 | I22: 12 | J22: 186.7 | K22: 18 | L22: 12 | N22: zagnana 17.4.2023 pozimi, ko je sonce nizko, je spodnja vrsta delno senčena
A23: 20 | B23: SebaR | C23: Braslovče | E23: =D23/I23 -> 0 | F23: 1149.1228 | G23: =13060/I23 -> 1145.614 | H23: =11700/I23 -> 1026.3158 | I23: 11.4 | J23: 217 | K23: 31 | L23: 13.6 | N23: zagon 23.5.2022 hrib povzroči predčasni zahod sonca za 90 minut, ena celica menjana zaradi okvare lota | P23: SE - moč 9,02 kw, azimut 150,5°, naklon strehe 42°. 22 panelov po 410 kw.
A24: 21 | B24: bojan03 | C24: okolica Medvod | D24: 11800 | E24: =D24/I24 -> 1068.8406 | F24: 1077.8986 | G24: =8250/I24 -> 747.28261 | I24: =5.06+5.98 -> 11.04 | J24: 5.06 kW, 150 5.98 kW, 240 | K24: 30 30 | L24: 11.04 | M24: 11.04 | N24: priklop 19.5.2023 paneli na azimutu 150° so dali 4,4% boljši pridelek | P24: Proizvodnja leto 2023 11940 kw oz. 1323,72 MWh/kWp.
A25: 22 | B25: veli | C25: Cerknica | E25: =D25/I25 -> 0 | G25: =14400/I25 -> 1263.1579 | I25: 11.4 | J25: 211 | K25: 39 | L25: 11.4 | M25: 11.2 | P25: Elektrarna v pogonu od 22.9.2022.
A26: 23 | B26: jormam | C26: Tolmin | E26: =D26/I26 -> 0 | F26: 1036.3924 | G26: =14600/I26 -> 1155.0633 | H26: =16300/I26 -> 1289.557 | I26: =32*0.395 -> 12.64 | J26: 173 | K26: 36.2 | L26: 11.2 | P26: Proizvodnja leto 2022 2,09 Mwh
A27: 24 | B27: Migaj | C27: na desni strani Mure | E27: =D27/I27 -> 0 | F27: 1250 | G27: =12660/I27 -> 1130.3571 | I27: 11.2 | J27: 194 | K27: 27 | L27: 11.2 | N27: Pridelek od 22.2.2023 do 31.12.2023 = 12,66MWh. | P27: Proizvodnja od 22.9.2023 do 31.12.2023 - 2330 kw oz. 11% več kot 2022.
A28: 25 | B28: Avatar | C28: Šentvid pri Grobelnem | E28: =D28/I28 -> 0 | F28: 1273.4375 | G28: =16520/I28 -> 1290.625 | I28: 12.8 | J28: 194 | K28: 38 | L28: 11.2 | M28: 11.1 | N28: Dopoldne rahlo senčenje od drevesa in pozimi popoldne nekaj panelov zakrije streha.
A29: 26 | B29: rorex | C29: Prekmurje | E29: =D29/I29 -> 0 | G29: =14400/I29 -> 1200 | I29: 12 | J29: 131 | K29: 20 | L29: 11.4 | M29: 11.2
A30: 27 | B30: M0rph3u5 | C30: okolica Mokronoga | E30: =D30/I30 -> 0 | G30: =12530/I30 -> 1305.2083 | H30: =3250/I30 -> 338.54167 | I30: 9.6 | J30: 190 | K30: 43 | L30: 9.6 | M30: 9.6 | N30: SE aktivna od 22.8.2022
A31: 28 | B31: Caps (gost) | C31: okolica Vipave | D31: 13190 | E31: =D31/I31 -> 1237.3358 | F31: 1184.803 | G31: =1390/I31 -> 130.394 | I31: 10.66 | J31: 150 | K31: 20 | L31: 10.5 | N31: Priklop oktober 2023
A32: 29 | B32: wilson34 | C32: Prekmurje | D32: 11000 | E32: =D32/I32 -> 1057.6923 | F32: 1105.7692 | G32: =9340/I32 -> 898.07692 | H32: =12300/I32 -> 1182.6923 | I32: 10.4 | J32: 5.2 kW, 125 5.2 kW, 215 | K32: 35 | N32: Zagon december 2020. Cel julij in pol avgusta 2023 je bila elektrarna izklopljena.
A33: 30 | B33: sašo65 | C33: Brežice | E33: =D33/I33 -> 0 | I33: 11.47 | J33: 194 | K33: 25 | L33: 11.2 | M33: 10.9 | N33: Zagon julij 2023 kWp = 27 x 425W
A34: 31 | B34: Celje | C34: okolica Celja | E34: =D34/I34 -> 0 | I34: 15.6 | J34: 6.746 kW, 136.4 8.854 kW, 223.5 | K34: ? | L34: 13.6 | N34: Začetek obratovanja 9/2023 | P34: ime: slepec
A35: 32 | B35: vrzislo | C35: Ljubno ob Savinji | D35: 17200 | E35: =D35/I35 -> 1155.914 | F35: 1135.7527 | G35: =16618/I35 -> 1116.8011 | I35: 14.88 | J35: 135 | K35: 32 | M35: 10.8 | N35: V zimskem času senčenje predvsem spodnje vrste zaradi dreves v bližini. Okoli 10 dni ni bilo pravega delovanja Solar Edge zaradi udara strele v juliju (2023). SE postavljena v letu 2019. | P35: lokacija: okolica Litija 505 višina
A36: 33 | B36: Mr_Fizl | C36: Dol pri Ljubljani | E36: =D36/I36 -> 0 | F36: 1071.4286 | I36: 14.56 | J36: 126 | K36: ? | P36: pridelek 2023: 6,75 MWh,dec 650kwh
A37: 34 | B37: oTTo | C37: Škofja Loka | E37: =D37/I37 -> 0 | G37: =797/I37 -> 68.647717 | I37: 11.61 | J37: 209 | K37: 36 | M37: 10.8 | N37: Zagnana 17.11.2023 | P37: paneli: 33x410W = 13.53kW
A38: 35 | B38: ufm | C38: Osrednja Slovenija, 380 m n.v. | E38: =D38/I38 -> 0 | I38: =28*0.44 -> 12.32 | J38: 8.36 kW, 245 3.96 kW, 65 | K38: 29 19 | L38: 3 | M38: 2.85 | N38: Zagon 18.10.2023 Baterija 9.2 kW Limitirana proizvodnja na 10 kW, soglasje z omejitvijo 3 kW. | P38: azimut 155
A39: 36 | B39: Letalec | C39: okolica Bleda | D39: 14917 | E39: =D39/I39 -> 1270.0724 | F39: 1160.4938 | I39: 11.745 | J39: 145 | K39: 40 | L39: 11.2 | N39: Priklop 5.2.2024 | P39: naklon 35*
A40: 37 | B40: misace | C40: pri Radovljici | E40: =D40/I40 -> 0 | I40: 11.56 | J40: 8.16 kW, 135 3.40 kW, 225 | K40: 45 35 | M40: 10.56 | N40: Priklop marec 2022 | P40: soglasje: 13,6 kW
...

Sheet SE_2023_WORK
L1: SE_2023_forum | BN1: Komentar: "kWh/kWp", enote tega kvocienta so ure. To pomeni, koliko ur bi morala delovati SE z nazivno močjo panelov, da bi proizvedla enako energije. Navadno leto ima 8760 ur.
B2: 13.1.2025
B3: Ime | C3: Lokacija | D3: Pridelek SE 21.12.2024 kWh | E3: Relat. pridelek SE 21.12.2024 kWh/kWp | F3: Pridelek SE maj 2024 kWh | G3: Relat. pridelek SE maj 2024 kWh/kWp | H3: Celotna poraba maj 2024 kWh | I3: Poraba za EV maj 2024 kWh | J3: Poraba za TČ maj 2024 kWh | L3: Ime | M3: Lokacija | N3: Pridelek SE april 2024 kWh | O3: Relat. pridelek SE april 2024 kWh/kWp | P3: Celotna poraba april 2024 kWh | Q3: Poraba za EV april 2024 kWh | R3: Poraba za TČ april 2024 kWh | T3: Ime | U3: Lokacija | V3: Pridelek SE marec 2024 kWh | W3: Relat. pridelek SE marec 2024 kWh/kWp | X3: Celotna poraba marec 2024 kWh | Y3: Poraba za EV marec 2024 kWh | Z3: Poraba za TČ marec 2024 kWh | AA3: Pridelek SE marec 2023 kWh | AB3: Relat. pridelek SE marec 2023 kWh/kWp | AC3: Celotna poraba marec 2023 kWh | AD3: Poraba za EV marec 2023 kWh | AE3: Poraba za TČ marec 2023 kWh | AG3: =L3 -> Ime | AH3: =M3 -> Lokacija | AI3: Pridelek SE februar 2024 kWh | AJ3: Relat. pridelek SE februar 2024 kWh/kWp | AK3: Celotna poraba februar 2024 kWh | AL3: Poraba za EV februar 2024 kWh | AM3: Poraba za TČ februar 2024 kWh | AN3: Pridelek SE februar 2023 kWh | AO3: Relat. pridelek SE februar 2023 kWh/kWp | AP3: Celotna poraba februar 2023 kWh | AQ3: Poraba za EV februar 2023 kWh | AR3: Poraba za TČ februar 2023 kWh | AT3: =L3 -> Ime | AU3: =M3 -> Lokacija | AV3: Pridelek SE januar 2024 kWh | AW3: Relat. pridelek SE januar 2024 kWh/kWp | AX3: Celotna poraba januar 2024 kWh | AY3: Poraba za EV januar 2024 kWh | AZ3: Poraba za TČ januar 2024 kWh | BA3: Pridelek SE januar 2023 kWh | BB3: Relat. pridelek SE januar 2023 kWh/kWp | BC3: Celotna poraba januar 2023 kWh | BD3: Poraba za EV januar 2023 kWh | BE3: Poraba za TČ januar 2023 kWh | BG3: Pridelek 17.1.2024 kWh | BH3: Relat. pridelek 17.1.2024 kWh/kWp | BI3: Poraba energije v objektu 17.1.2024 | BJ3: Pridelek 16.1.2024 kWh | BK3: Relat. pridelek 16.1.2024 kWh/kWp | BL3: Poraba energije v objektu 16.1.2024 | BM3: Pridelek 2023, kWh | BN3: Leto 2023 kWh/kWp | BO3: Leto 2022 kWh/kWp | BP3: Paneli, kWp | BQ3: Azimut, ° | BR3: Naklon, ° | BS3: Soglasje, kW | BT3: Export omejitev, kW | BU3: Opombe
A4: =SE_2023!A4 -> 1 | B4: =SE_2023!$B4 -> Caps | C4: =SE_2023!$C4 -> sever Ljubljane | D4: 14.34 | E4: =D4/$BP4 -> 1.419802 | F4: 1234 | G4: =F4/$BP4 -> 122.17822 | H4: 300 | L4: =SE_2023!$B4 -> Caps | M4: =SE_2023!$C4 -> sever Ljubljane | N4: 1273 | O4: =N4/$BP4 -> 126.0396 | P4: 447 | T4: =SE_2023!$B4 -> Caps | U4: =SE_2023!$C4 -> sever Ljubljane | V4: 844 | W4: =V4/$BP4 -> 83.564356 | X4: 883 | AA4: 917 | AB4: =AA4/$BP4 -> 90.792079 | AC4: 974 | AG4: =L4 -> Caps | AH4: =M4 -> sever Ljubljane | AI4: 506 | AJ4: =AI4/BP4 -> 50.09901 | AK4: =AI4/0.54 -> 937.03704 | AN4: 661 | AO4: =AN4/BP4 -> 65.445545 | AP4: =AN4/0.95 -> 695.78947 | AT4: =L4 -> Caps | AU4: =M4 -> sever Ljubljane | AV4: 361 | AW4: =AV4/BP4 -> 35.742574 | AX4: 1560 | AZ4: 1284 | BA4: 222 | BB4: =BA4/BP4 -> 21.980198 | BC4: 124 | BG4: 2.14 | BH4: =BG4/BP4 -> 0.21188119 | BI4: 41.16 kWh | BJ4: 21 | BK4: =BJ4/BP4 -> 2.0792079 | BL4: 40 kWh | BM4: =SE_2023!F4 -> 1045.5446 | BN4: =SE_2023!G4 -> 1087.0297 | BO4: =SE_2023!H4 -> 0 | BP4: =SE_2023!I4 -> 10.1 | BQ4: =SE_2023!J4 -> 160 | BR4: =SE_2023!K4 -> 21 | BS4: =SE_2023!L4 -> 10.1 | BT4: =SE_2023!M4 -> 9.7 | BU4: =SE_2023!N4 -> senčenje panelov v mesecih 11-2 od 10. do 14. ure (sosedi na jugu)
A5: =SE_2023!A5 -> 2 | B5: =SE_2023!$B5 -> cimi82 | C5: =SE_2023!$C5 -> okolica NM | D5: 55.28 | E5: =D5/$BP5 -> 4.1626506 | F5: 1820 | G5: =F5/$BP5 -> 137.04819 | H5: 870 | L5: =SE_2023!$B5 -> cimi82 | M5: =SE_2023!$C5 -> okolica NM | N5: 1900 | O5: =N5/$BP5 -> 143.07229 | P5: 801 | T5: =SE_2023!$B5 -> cimi82 | U5: =SE_2023!$C5 -> okolica NM | V5: 1380 | W5: =V5/$BP5 -> 103.91566 | X5: 896 | AB5: =AA5/$BP5 -> 0 | AG5: =L5 -> cimi82 | AH5: =M5 -> okolica NM | AI5: 1065 | AJ5: =AI5/BP5 -> 80.195783 | AK5: 726 | AO5: =AN5/BP5 -> 0 | AT5: =L5 -> cimi82 | AU5: =M5 -> okolica NM | AV5: 1017 | AW5: =AV5/BP5 -> 76.581325 | AX5: 845 | AY5: 350 do 400 | BG5: 5.32 | BH5: =BG5/BP5 -> 0.40060241 | BI5: 37.6 kWh | BJ5: 7.43 | BK5: =BJ5/BP5 -> 0.55948795 | BL5: 10.4 kWh | BM5: =SE_2023!F5 -> 1310.994 | BN5: =SE_2023!G5 -> 1097.1386 | BO5: =SE_2023!H5 -> 0 | BP5: =SE_2023!I5 -> 13.28 | BQ5: =SE_2023!J5 -> 170 | BR5: =SE_2023!K5 -> 40 | BS5: =SE_2023!L5 -> 13.6 | BT5: =SE_2023!M5 -> 0 | BU5: =SE_2023!N5 -> priklop 20.3.2023 | BW5: wilson34 javil 20.1.2024
A6: =SE_2023!A6 -> 3 | B6: =SE_2023!$B6 -> xavi | C6: =SE_2023!$C6 -> Maribor - Zrkovci | D6: 31.2 | E6: =D6/$BP6 -> 3.45898 | F6: 1320 | G6: =F6/$BP6 -> 146.34146 | H6: 418 | L6: =SE_2023!$B6 -> xavi | M6: =SE_2023!$C6 -> Maribor - Zrkovci | N6: 1330 | O6: =N6/$BP6 -> 147.45011 | P6: 614 | T6: =SE_2023!$B6 -> xavi | U6: =SE_2023!$C6 -> Maribor - Zrkovci | V6: 982 | W6: =V6/$BP6 -> 108.86918 | X6: 781 | AA6: 994 | AB6: =AA6/$BP6 -> 110.19956 | AG6: =L6 -> xavi | AH6: =M6 -> Maribor - Zrkovci | AI6: =BP6*82.15 -> 740.993 | AJ6: =AI6/BP6 -> 82.15 | AK6: =AI6+642.28-532.98 -> 850.293 | AO6: =AN6/BP6 -> 0 | AT6: =L6 -> xavi | AU6: =M6 -> Maribor - Zrkovci | AV6: 663 | AW6: =AV6/BP6 -> 73.503326 | AX6: 1289 | BA6: 410 | BB6: =BA6/BP6 -> 45.454545 | BG6: 3.21 | BH6: =BG6/BP6 -> 0.35587583 | BI6: 42.47 | BJ6: 31 | BK6: =BJ6/BP6 -> 3.4368071 | BL6: 47.11 kWh | BM6: =SE_2023!F6 -> 1352.5499 | BN6: =SE_2023!G6 -> 1323.7251 | BO6: =SE_2023!H6 -> 0 | BP6: =SE_2023!I6 -> 9.02 | BQ6: =SE_2023!J6 -> 150.5 | BR6: =SE_2023!K6 -> 42 | BS6: =SE_2023!L6 -> 10.25 | BT6: =SE_2023!M6 -> 0 | BU6: =SE_2023!N6 -> Elektrarna v pogonu od 22.9.2022. Proizvodnja leto 2022 2,09 MWh Proizvodnja od 22.9.2023 do 31.12.2023 - 2330 kWh oz. 11% več kot 2022. | BW6: Solaredge+prejeta-oddana
A7: =SE_2023!A7 -> 4 | B7: =SE_2023!$B7 -> slepec | C7: =SE_2023!$C7 -> okolica Litije, višina 505 | D7: 52 | E7: =D7/$BP7 -> 3.8433112 | F7: 1850 | G7: =F7/$BP7 -> 136.73319 | H7: 1030 | L7: =SE_2023!$B7 -> slepec | M7: =SE_2023!$C7 -> okolica Litije, višina 505 | N7: 1920 | O7: =N7/$BP7 -> 141.90687 | P7: 980 | T7: =SE_2023!$B7 -> slepec | U7: =SE_2023!$C7 -> okolica Litije, višina 505 | V7: 1350 | W7: =V7/$BP7 -> 99.778271 | X7: 1150 | Y7: 300 | AB7: =AA7/$BP7 -> 0 | AG7: =L7 -> slepec | AH7: =M7 -> okolica Litije, višina 505 | AI7: 950 | AJ7: =AI7/BP7 -> 70.214339 | AK7: 1470 | AL7: 670 | AM7: =202+100 -> 302 | AO7: =AN7/BP7 -> 0 | AT7: =L7 -> slepec | AU7: =M7 -> okolica Litije, višina 505 | AV7: 1102 | AW7: =AV7/BP7 -> 81.448633 | AX7: 1500 | AY7: 450 | AZ7: =450+110 -> 560 | BC7: 980 | BE7: =400+135 -> 535 | BG7: 5.5 | BH7: =BG7/BP7 -> 0.40650407 | BI7: 70 kWh (25+45) hiša, EV | BJ7: 42 | BK7: =BJ7/BP7 -> 3.1042129 | BL7: 30 kWh EV se ni polnil | BM7: =SE_2023!F7 -> 1282.3356 | BN7: =SE_2023!G7 -> 498.89135 | BO7: =SE_2023!H7 -> 0 | BP7: =SE_2023!I7 -> 13.53 | BQ7: =SE_2023!J7 -> 155 | BR7: =SE_2023!K7 -> 35 | BS7: =SE_2023!L7 -> 13.6 | BT7: =SE_2023!M7 -> 13.5 | BU7: =SE_2023!N7 -> priklop 10.7.2023 | BW7: Torek 16: 16.4+54.34-6.39=48.01
A8: =SE_2023!A8 -> 5 | B8: =SE_2023!$B8 -> JaBK | C8: =SE_2023!$C8 -> okolica Kranja | D8: 30.5 | E8: =D8/$BP8 -> 2.2592593 | G8: =F8/$BP8 -> 0 | L8: =SE_2023!$B8 -> JaBK | M8: =SE_2023!$C8 -> okolica Kranja | O8: =N8/$BP8 -> 0 | T8: =SE_2023!$B8 -> JaBK | U8: =SE_2023!$C8 -> okolica Kranja | W8: =V8/$BP8 -> 0 | AB8: =AA8/$BP8 -> 0 | AG8: =L8 -> JaBK | AH8: =M8 -> okolica Kranja | AI8: =BP8*48.4 -> 653.4 | AJ8: =AI8/BP8 -> 48.4 | AO8: =AN8/BP8 -> 0 | AT8: =L8 -> JaBK | AU8: =M8 -> okolica Kranja | BG8: 4.83 | BH8: =BG8/BP8 -> 0.35777778 | BI8: 41 kWh | BJ8: 28.5 | BK8: =BJ8/BP8 -> 2.1111111 | BL8: 42.5 kWh | BM8: =SE_2023!F8 -> 981.55556 | BN8: =SE_2023!G8 -> 1046.4444 | BO8: =SE_2023!H8 -> 1140.2963 | BP8: =SE_2023!I8 -> 13.5 | BQ8: =SE_2023!J8 -> 249 | BR8: =SE_2023!K8 -> 38 | BS8: =SE_2023!L8 -> 13.5 | BT8: =SE_2023!M8 -> 13.4 | BU8: =SE_2023!N8 -> all black paneli (naj bi delali cca 3% slabše) Koledarsko leto 2022: 15394kWh oziroma 1140kWh/kWp | BW8: Sreda 17: 3.04+54.54-0=57.58
A9: =SE_2023!A9 -> 6 | B9: =SE_2023!$B9 -> pregela | C9: =SE_2023!$C9 -> Litija | E9: =D9/$BP9 -> 0 | G9: =F9/$BP9 -> 0 | L9: =SE_2023!$B9 -> pregela | M9: =SE_2023!$C9 -> Litija | O9: =N9/$BP9 -> 0 | T9: =SE_2023!$B9 -> pregela | U9: =SE_2023!$C9 -> Litija | W9: =V9/$BP9 -> 0 | AB9: =AA9/$BP9 -> 0 | AG9: =L9 -> pregela | AH9: =M9 -> Litija | AJ9: =AI9/BP9 -> 0 | AO9: =AN9/BP9 -> 0 | AT9: =L9 -> pregela | AU9: =M9 -> Litija | BK9: =BJ9/BP9 -> 0 | BM9: =SE_2023!F9 -> 1010.4167 | BN9: =SE_2023!G9 -> 1023.9583 | BO9: =SE_2023!H9 -> 1137.8125 | BP9: =SE_2023!I9 -> 9.6 | BQ9: =SE_2023!J9 -> 240 | BR9: =SE_2023!K9 -> 30 | BS9: =SE_2023!L9 -> 9.6 | BT9: =SE_2023!M9 -> 9.6 | BU9: =SE_2023!N9 -> 2022 10923 kWh 1138kWh/kWp | BW9: Četrtek 18: 9.06+27.75-4.91=31.9
A10: =SE_2023!A10 -> 7 | B10: =SE_2023!$B10 -> labelsm | C10: =SE_2023!$C10 -> Zgornje Hoče pri MB | E10: =D10/$BP10 -> 0 | G10: =F10/$BP10 -> 0 | L10: =SE_2023!$B10 -> labelsm | M10: =SE_2023!$C10 -> Zgornje Hoče pri MB | O10: =N10/$BP10 -> 0 | T10: =SE_2023!$B10 -> labelsm | U10: =SE_2023!$C10 -> Zgornje Hoče pri MB | W10: =V10/$BP10 -> 0 | AB10: =AA10/$BP10 -> 0 | AG10: =L10 -> labelsm | AH10: =M10 -> Zgornje Hoče pri MB | AJ10: =AI10/BP10 -> 0 | AO10: =AN10/BP10 -> 0 | AT10: =L10 -> labelsm | AU10: =M10 -> Zgornje Hoče pri MB | AV10: 470 | AW10: =AV10/BP10 -> 36.153846 | AX10: 1850 | AZ10: 1310 | BG10: 6.5 | BH10: =BG10/BP10 -> 0.5 | BI10: 45 kWh do 20h | BJ10: 21.5 | BK10: =BJ10/BP10 -> 1.6538462 | BL10: 63.5 kWh do 22h | BM10: =SE_2023!F10 -> 0 | BN10: =SE_2023!G10 -> 1053.8462 | BO10: =SE_2023!H10 -> 0 | BP10: =SE_2023!I10 -> 13 | BQ10: =SE_2023!J10 -> 245 | BR10: =SE_2023!K10 -> 30 | BS10: =SE_2023!L10 -> 11 | BT10: =SE_2023!M10 -> 10.9 | BU10: =SE_2023!N10 -> Priklop 25.1.2023 black paneli Paneli so senčeni zaradi manjšega gozda od 13.45 h naprej | BW10: Petek 19: 0.42+60.82-0=61.24
A11: =SE_2023!A11 -> 8 | B11: =SE_2023!$B11 -> letalec007 | C11: =SE_2023!$C11 -> okolica Cerknice | D11: 12.2 | E11: =D11/$BP11 -> 1.2512821 | F11: 1080 | G11: =F11/$BP11 -> 110.76923 | H11: 677.51 | L11: =SE_2023!$B11 -> letalec007 | M11: =SE_2023!$C11 -> okolica Cerknice | N11: 1200 | O11: =N11/$BP11 -> 123.07692 | P11: 780.06 | T11: =SE_2023!$B11 -> letalec007 | U11: =SE_2023!$C11 -> okolica Cerknice | V11: 840 | W11: =V11/$BP11 -> 86.153846 | X11: 844.66 | AA11: 866 | AB11: =AA11/$BP11 -> 88.820513 | AC11: 936.5 | AG11: =L11 -> letalec007 | AH11: =M11 -> okolica Cerknice | AI11: 549 | AJ11: =AI11/BP11 -> 56.307692 | AK11: 858 | AM11: 357.9 | AN11: 354 | AO11: =AN11/BP11 -> 36.307692 | AP11: 1024.8 | AR11: 527.3 | AT11: =L11 -> letalec007 | AU11: =M11 -> okolica Cerknice | AV11: 484 | AW11: =AV11/BP11 -> 49.641026 | AX11: 1194.79 | AZ11: 541.5 | BA11: 133 | BB11: =BA11/BP11 -> 13.641026 | BC11: 1198.55 | BE11: 494.3 | BG11: 0.702 | BH11: =BG11/BP11 -> 0.072 | BI11: 33 kWh do 20h | BJ11: 27.6 | BK11: =BJ11/BP11 -> 2.8307692 | BM11: =SE_2023!F11 -> 1106.6667 | BN11: =SE_2023!G11 -> 1097.4359 | BO11: =SE_2023!H11 -> 0 | BP11: =SE_2023!I11 -> 9.75 | BQ11: =SE_2023!J11 -> 3.75 kW, 158.5 6 kW, 247.9 | BR11: =SE_2023!K11 -> 33 33 | BS11: =SE_2023!L11 -> 11.2 | BT11: =SE_2023!M11 -> 11 | BU11: =SE_2023!N11 -> v zimskem času so nekateri paneli v senci (sosednje stavbe)
A12: =SE_2023!A12 -> 9 | B12: =SE_2023!$B12 -> vuego | C12: =SE_2023!$C12 -> okolica Kamnika | E12: =D12/$BP12 -> 0 | G12: =F12/$BP12 -> 0 | L12: =SE_2023!$B12 -> vuego | M12: =SE_2023!$C12 -> okolica Kamnika | O12: =N12/$BP12 -> 0 | T12: =SE_2023!$B12 -> vuego | U12: =SE_2023!$C12 -> okolica Kamnika | W12: =V12/$BP12 -> 0 | AB12: =AA12/$BP12 -> 0 | AG12: =L12 -> vuego | AH12: =M12 -> okolica Kamnika | AJ12: =AI12/BP12 -> 0 | AO12: =AN12/BP12 -> 0 | AT12: =L12 -> vuego | AU12: =M12 -> okolica Kamnika | BK12: =BJ12/BP12 -> 0 | BM12: =SE_2023!F12 -> 0 | BN12: =SE_2023!G12 -> 1129.9391 | BO12: =SE_2023!H12 -> 0 | BP12: =SE_2023!I12 -> 11.49 | BQ12: =SE_2023!J12 -> 225 | BR12: =SE_2023!K12 -> 35 | BS12: =SE_2023!L12 -> 10 | BT12: =SE_2023!M12 -> 9.99 | BU12: =SE_2023!N12 -> v zimskem času so nekateri paneli popoldne v senci (drevesa na sosednji parceli) | BW12: cimi82 je 24.1.2024 sporočil:
A13: =SE_2023!A13 -> 10 | B13: =SE_2023!$B13 -> Dave | C13: =SE_2023!$C13 -> okolica Črnomlja | D13: 22.8 | E13: =D13/$BP13 -> 1.7117117 | G13: =F13/$BP13 -> 0 | L13: =SE_2023!$B13 -> Dave | M13: =SE_2023!$C13 -> okolica Črnomlja | O13: =N13/$BP13 -> 0 | T13: =SE_2023!$B13 -> Dave | U13: =SE_2023!$C13 -> okolica Črnomlja | W13: =V13/$BP13 -> 0 | AB13: =AA13/$BP13 -> 0 | AG13: =L13 -> Dave | AH13: =M13 -> okolica Črnomlja | AJ13: =AI13/BP13 -> 0 | AO13: =AN13/BP13 -> 0 | AT13: =L13 -> Dave | AU13: =M13 -> okolica Črnomlja | AV13: 491 | AW13: =AV13/BP13 -> 36.861862 | AZ13: 599 | BK13: =BJ13/BP13 -> 0 | BM13: =SE_2023!F13 -> 1135.8859 | BN13: =SE_2023!G13 -> 1132.8829 | BO13: =SE_2023!H13 -> 0 | BP13: =SE_2023!I13 -> 13.32 | BQ13: =SE_2023!J13 -> 132 | BR13: =SE_2023!K13 -> 30 | BS13: =SE_2023!L13 -> 13.6 | BT13: =SE_2023!M13 -> 13.4 | BU13: =SE_2023!N13 -> 0 | BW13: Moji podatki o porabi:
A14: =SE_2023!A14 -> 11 | B14: =SE_2023!$B14 -> MAGS | C14: =SE_2023!$C14 -> okolica Novega mesta | E14: =D14/$BP14 -> 0 | G14: =F14/$BP14 -> 0 | L14: =SE_2023!$B14 -> MAGS | M14: =SE_2023!$C14 -> okolica Novega mesta | O14: =N14/$BP14 -> 0 | T14: =SE_2023!$B14 -> MAGS | U14: =SE_2023!$C14 -> okolica Novega mesta | V14: 914 | W14: =V14/$BP14 -> 81.973094 | X14: 1081 | AA14: 917 | AB14: =AA14/$BP14 -> 82.242152 | AC14: 1060 | AG14: =L14 -> MAGS | AH14: =M14 -> okolica Novega mesta | AJ14: =AI14/BP14 -> 0 | AO14: =AN14/BP14 -> 0 | AT14: =L14 -> MAGS | AU14: =M14 -> okolica Novega mesta | AV14: 335 | AW14: =AV14/BP14 -> 30.044843 | AX14: 1535 | AY14: 285.5 | AZ14: 834 | BA14: 197 | BB14: =BA14/BP14 -> 17.668161 | BC14: 1142 | BE14: 708 | BG14: 3.4 | BH14: =BG14/BP14 -> 0.30493274 | BI14: 29.9 kWh | BJ14: 15.7 | BK14: =BJ14/BP14 -> 1.4080717 | BL14: 63.6 kWh | BM14: =SE_2023!F14 -> 0 | BN14: =SE_2023!G14 -> 968.60987 | BO14: =SE_2023!H14 -> 1103.139 | BP14: =SE_2023!I14 -> 11.15 | BQ14: =SE_2023!J14 -> 110 | BR14: =SE_2023!K14 -> 30 | BS14: =SE_2023!L14 -> 11.2 | BT14: =SE_2023!M14 -> 11.11 | BU14: =SE_2023!N14 -> Zagon aprila 2020 | BW14: 16.1. - poraba 10.4 kWh
A15: =SE_2023!A15 -> 12 | B15: =SE_2023!$B15 -> Fery | C15: =SE_2023!$C15 -> Cerknica | E15: =D15/$BP15 -> 0 | G15: =F15/$BP15 -> 0 | L15: =SE_2023!$B15 -> Fery | M15: =SE_2023!$C15 -> Cerknica | O15: =N15/$BP15 -> 0 | T15: =SE_2023!$B15 -> Fery | U15: =SE_2023!$C15 -> Cerknica | W15: =V15/$BP15 -> 0 | AB15: =AA15/$BP15 -> 0 | AG15: =L15 -> Fery | AH15: =M15 -> Cerknica | AI15: 795 | AJ15: =AI15/BP15 -> 50 | AN15: 1090 | AO15: =AN15/BP15 -> 68.553459 | AT15: =L15 -> Fery | AU15: =M15 -> Cerknica | AV15: 930 | AW15: =AV15/BP15 -> 58.490566 | BA15: 290 | BB15: =BA15/BP15 -> 18.238994 | BK15: =BJ15/BP15 -> 0 | BM15: =SE_2023!F15 -> 0 | BN15: =SE_2023!G15 -> 1195.8333 | BO15: =SE_2023!H15 -> 0 | BP15: =SE_2023!I15 -> 15.9 | BQ15: =SE_2023!J15 -> 180 | BR15: =SE_2023!K15 -> 41 | BS15: =SE_2023!L15 -> 0 | BT15: =SE_2023!M15 -> 10.8 | BU15: =SE_2023!N15 -> zelo osenčeni paneli. Za leto 2025 15.9 kWp (za 2023, 12 kWp) | BW15: 17.1. - poraba 37.6 kWh
A16: =SE_2023!A16 -> 13 | B16: =SE_2023!$B16 -> ivč | C16: =SE_2023!$C16 -> Maribor vzhod | D16: 13.3 | E16: =D16/$BP16 -> 1.3313313 | G16: =F16/$BP16 -> 0 | L16: =SE_2023!$B16 -> ivč | M16: =SE_2023!$C16 -> Maribor vzhod | O16: =N16/$BP16 -> 0 | T16: =SE_2023!$B16 -> ivč | U16: =SE_2023!$C16 -> Maribor vzhod | W16: =V16/$BP16 -> 0 | AB16: =AA16/$BP16 -> 0 | AG16: =L16 -> ivč | AH16: =M16 -> Maribor vzhod | AJ16: =AI16/BP16 -> 0 | AO16: =AN16/BP16 -> 0 | AT16: =L16 -> ivč | AU16: =M16 -> Maribor vzhod | BJ16: 17.8 | BK16: =BJ16/BP16 -> 1.7817818 | BM16: =SE_2023!F16 -> 1036.2998 | BN16: =SE_2023!G16 -> 1036.2998 | BO16: =SE_2023!H16 -> 1159.2506 | BP16: =SE_2023!I16 -> 9.99 | BQ16: =SE_2023!J16 -> 4.5 kW, 203 5.49 kW, 113 | BR16: =SE_2023!K16 -> 40 41 | BS16: =SE_2023!L16 -> 11 | BT16: =SE_2023!M16 -> 0 | BU16: =SE_2023!N16 -> senčenje pozimi (sosed. hiša) 25.3.2025 popravljen azimut in naklon (prej SE1: 180 30, SE2: 90 30). 16.2.2026 povečanje moči z 8.54 kW na 10 kW. Dodani paneli v veji z azimutom 203, moč povečana s 3.05 kW na 4.5 kW | BW16: Je pa tako, da je poraba pri meni trenutno odvisna od tega a tisti dan polnim EV ali ne. Ogrevanje bo na toplotno črpalko od naslednje kurilne sezone dalje.
A17: =SE_2023!A17 -> 14 | B17: =SE_2023!$B17 -> vip58 | C17: =SE_2023!$C17 -> okolica Janč, 530 m n.v. | D17: 37 | E17: =D17/$BP17 -> 3.1040268 | F17: 1560 | G17: =F17/$BP17 -> 130.87248 | H17: 417 | L17: =SE_2023!$B17 -> vip58 | M17: =SE_2023!$C17 -> okolica Janč, 530 m n.v. | N17: 1630 | O17: =N17/$BP17 -> 136.74497 | P17: 666 | T17: =SE_2023!$B17 -> vip58 | U17: =SE_2023!$C17 -> okolica Janč, 530 m n.v. | V17: 1153 | W17: =V17/$BP17 -> 96.728188 | X17: 835 | AA17: 1164 | AB17: =AA17/$BP17 -> 97.651007 | AC17: 905 | AG17: =L17 -> vip58 | AH17: =M17 -> okolica Janč, 530 m n.v. | AJ17: =AI17/BP17 -> 0 | AO17: =AN17/BP17 -> 0 | AT17: =L17 -> vip58 | AU17: =M17 -> okolica Janč, 530 m n.v. | AV17: 805 | AW17: =AV17/BP17 -> 67.533557 | AX17: 1320 | AZ17: 846 | BA17: 358 | BB17: =BA17/BP17 -> 30.033557 | BC17: 1290 | BE17: 912 | BG17: 6.5 | BH17: =BG17/BP17 -> 0.54530201 | BI17: 37.5 kWh | BJ17: 32.7 | BK17: =BJ17/BP17 -> 2.7432886 | BL17: 40.5 kWh | BM17: =SE_2023!F17 -> 1235.7383 | BN17: =SE_2023!G17 -> 1201.3423 | BO17: =SE_2023!H17 -> 0 | BP17: =SE_2023!I17 -> 11.92 | BQ17: =SE_2023!J17 -> 9.33 kW, 165 2.59 kW, 210 | BR17: =SE_2023!K17 -> 35 35 | BS17: =SE_2023!L17 -> 11.1 | BT17: =SE_2023!M17 -> 10.8 | BU17: =SE_2023!N17 -> nekaj senčenja, v idealnih razmerah bi pridelala 1300Kwh več
A18: =SE_2023!A18 -> 15 | B18: =SE_2023!$B18 -> du77a | C18: =SE_2023!$C18 -> Domžale | D18: 44.5 | E18: =D18/$BP18 -> 3.6223036 | G18: =F18/$BP18 -> 0 | L18: =SE_2023!$B18 -> du77a | M18: =SE_2023!$C18 -> Domžale | O18: =N18/$BP18 -> 0 | T18: =SE_2023!$B18 -> du77a | U18: =SE_2023!$C18 -> Domžale | V18: 1136 | W18: =V18/$BP18 -> 92.470492 | X18: 948 | AA18: 1089 | AB18: =AA18/$BP18 -> 88.644689 | AC18: 737 | AG18: =L18 -> du77a | AH18: =M18 -> Domžale | AJ18: =AI18/BP18 -> 0 | AO18: =AN18/BP18 -> 0 | AT18: =L18 -> du77a | AU18: =M18 -> Domžale | AV18: 715 | AW18: =AV18/BP18 -> 58.201058 | AX18: 1410 | AZ18: 775 | BA18: 396 | BB18: =BA18/BP18 -> 32.234432 | BG18: 2.3 | BH18: =BG18/BP18 -> 0.18722019 | BJ18: 39.3 | BK18: =BJ18/BP18 -> 3.1990232 | BM18: =SE_2023!F18 -> 1142.8571 | BN18: =SE_2023!G18 -> 1188.4412 | BO18: =SE_2023!H18 -> 0 | BP18: =SE_2023!I18 -> 12.285 | BQ18: =SE_2023!J18 -> 165 | BR18: =SE_2023!K18 -> 37 | BS18: =SE_2023!L18 -> 11.2 | BT18: =SE_2023!M18 -> 11.1 | BU18: =SE_2023!N18 -> senčenje 8 panelov zaradi oblike hiše priklop november 2022, takrat 628 kWh | BW18: xavi javil 25.1.2024
A19: =SE_2023!A19 -> 16 | B19: =SE_2023!$B19 -> Kvc | C19: =SE_2023!$C19 -> Prlekija | D19: 27 | E19: =D19/$BP19 -> 4 | G19: =F19/$BP19 -> 0 | L19: =SE_2023!$B19 -> Kvc | M19: =SE_2023!$C19 -> Prlekija | O19: =N19/$BP19 -> 0 | T19: =SE_2023!$B19 -> Kvc | U19: =SE_2023!$C19 -> Prlekija | V19: 758 | W19: =V19/$BP19 -> 112.2963 | X19: 659 | Z19: 290 | AA19: 824 | AB19: =AA19/$BP19 -> 122.07407 | AC19: 695 | AE19: 304 | AG19: =L19 -> Kvc | AH19: =M19 -> Prlekija | AJ19: =AI19/BP19 -> 0 | AO19: =AN19/BP19 -> 0 | AT19: =L19 -> Kvc | AU19: =M19 -> Prlekija | AV19: 535 | AW19: =AV19/BP19 -> 79.259259 | AX19: 859 | AZ19: 408 | BA19: 333 | BB19: =BA19/BP19 -> 49.333333 | BC19: 887 | BE19: 379 | BK19: =BJ19/BP19 -> 0 | BM19: =SE_2023!F19 -> 1377.7778 | BN19: =SE_2023!G19 -> 1384.5926 | BO19: =SE_2023!H19 -> 1435.5556 | BP19: =SE_2023!I19 -> 6.75 | BQ19: =SE_2023!J19 -> 189 | BR19: =SE_2023!K19 -> 35 | BS19: =SE_2023!L19 -> 6.75 | BT19: =SE_2023!M19 -> 6.6 | BU19: =SE_2023!N19 -> 0 | BW19: podatki porabe za nazaj.
A20: =SE_2023!A20 -> 17 | B20: =SE_2023!$B20 -> Unika542 | C20: =SE_2023!$C20 -> okolica Ivančne gorice | E20: =D20/$BP20 -> 0 | G20: =F20/$BP20 -> 0 | L20: =SE_2023!$B20 -> Unika542 | M20: =SE_2023!$C20 -> okolica Ivančne gorice | O20: =N20/$BP20 -> 0 | T20: =SE_2023!$B20 -> Unika542 | U20: =SE_2023!$C20 -> okolica Ivančne gorice | W20: =V20/$BP20 -> 0 | AB20: =AA20/$BP20 -> 0 | AG20: =L20 -> Unika542 | AH20: =M20 -> okolica Ivančne gorice | AJ20: =AI20/BP20 -> 0 | AO20: =AN20/BP20 -> 0 | AT20: =L20 -> Unika542 | AU20: =M20 -> okolica Ivančne gorice | BK20: =BJ20/BP20 -> 0 | BM20: =SE_2023!F20 -> 0 | BN20: =SE_2023!G20 -> 1111.513 | BO20: =SE_2023!H20 -> 0 | BP20: =SE_2023!I20 -> 8.295 | BQ20: =SE_2023!J20 -> 4.345 kW, 129 3.95 kW, 210 | BR20: =SE_2023!K20 -> 40 40 | BS20: =SE_2023!L20 -> 8.29 | BT20: =SE_2023!M20 -> 7.9 | BU20: =SE_2023!N20 -> 0 | BW20: 16.1.47,11 kw
A21: =SE_2023!A21 -> 18 | B21: =SE_2023!$B21 -> Fantocci2 | C21: =SE_2023!$C21 -> Posavje | D21: 37.6 | E21: =D21/$BP21 -> 4.2727273 | F21: 1250 | G21: =F21/$BP21 -> 142.04545 | H21: =F21+214-1036 -> 428 | L21: =SE_2023!$B21 -> Fantocci2 | M21: =SE_2023!$C21 -> Posavje | N21: 1310 | O21: =N21/$BP21 -> 148.86364 | P21: =N21+248-1118 -> 440 | T21: =SE_2023!$B21 -> Fantocci2 | U21: =SE_2023!$C21 -> Posavje | V21: 947 | W21: =V21/$BP21 -> 107.61364 | X21: =V21+382-747 -> 582 | AB21: =AA21/$BP21 -> 0 | AG21: =L21 -> Fantocci2 | AH21: =M21 -> Posavje | AI21: 747 | AJ21: =AI21/BP21 -> 84.886364 | AK21: =AI21+443.6-563.3 -> 627.3 | AO21: =AN21/BP21 -> 0 | AT21: =L21 -> Fantocci2 | AU21: =M21 -> Posavje | AV21: 692 | AW21: =AV21/BP21 -> 78.636364 | AX21: =692+696-505 -> 883 | BK21: =BJ21/BP21 -> 0 | BM21: =SE_2023!F21 -> 1359.0909 | BN21: =SE_2023!G21 -> 927.27273 | BO21: =SE_2023!H21 -> 0 | BP21: =SE_2023!I21 -> 8.8 | BQ21: =SE_2023!J21 -> 182 | BR21: =SE_2023!K21 -> 38 | BS21: =SE_2023!L21 -> 11.2 | BT21: =SE_2023!M21 -> 11.2 | BU21: =SE_2023!N21 -> zagnana 9.5.2023 en dimnik pa ena frčada, večji vpliv v spomladnih in jesenskih mesecih ko je sonce nizko | BW21: 17.1. 42,47
A22: =SE_2023!A22 -> 19 | B22: =SE_2023!$B22 -> JohnSnow | C22: =SE_2023!$C22 -> Kozina z okolico | E22: =D22/$BP22 -> 0 | G22: =F22/$BP22 -> 0 | L22: =SE_2023!$B22 -> JohnSnow | M22: =SE_2023!$C22 -> Kozina z okolico | O22: =N22/$BP22 -> 0 | T22: =SE_2023!$B22 -> JohnSnow | U22: =SE_2023!$C22 -> Kozina z okolico | V22: 1110 | W22: =V22/$BP22 -> 92.5 | X22: 1218 | Z22: 553 | AB22: =AA22/$BP22 -> 0 | AG22: =L22 -> JohnSnow | AH22: =M22 -> Kozina z okolico | AI22: 697 | AJ22: =AI22/BP22 -> 58.083333 | AK22: 1305 | AM22: 893 | AO22: =AN22/BP22 -> 0 | AT22: =L22 -> JohnSnow | AU22: =M22 -> Kozina z okolico | AV22: 720 | AW22: =AV22/BP22 -> 60 | AX22: 1829 | AZ22: 1008 | BK22: =BJ22/BP22 -> 0 | BM22: =SE_2023!F22 -> 0 | BN22: =SE_2023!G22 -> 1025 | BO22: =SE_2023!H22 -> 0 | BP22: =SE_2023!I22 -> 12 | BQ22: =SE_2023!J22 -> 186.7 | BR22: =SE_2023!K22 -> 18 | BS22: =SE_2023!L22 -> 12 | BT22: =SE_2023!M22 -> 0 | BU22: =SE_2023!N22 -> zagnana 17.4.2023 pozimi, ko je sonce nizko, je spodnja vrsta delno senčena | BW22: Malo mi je to sicer smešno. 16.1. sem imel prozvodnjo 31 kw, bili so tudi sončni pribitki, poraba pa večja kot 17.1. ko sem imel proizvodnjo po solar edgu 3,21 kw. Tu nekaj ne štima.
A23: =SE_2023!A23 -> 20 | B23: =SE_2023!$B23 -> SebaR | C23: =SE_2023!$C23 -> Braslovče | D23: 29.2 | E23: =D23/$BP23 -> 2.5614035 | G23: =F23/$BP23 -> 0 | L23: =SE_2023!$B23 -> SebaR | M23: =SE_2023!$C23 -> Braslovče | O23: =N23/$BP23 -> 0 | T23: =SE_2023!$B23 -> SebaR | U23: =SE_2023!$C23 -> Braslovče | V23: 956 | W23: =V23/$BP23 -> 83.859649 | X23: 807 | Z23: 518 | AA23: 1050 | AB23: =AA23/$BP23 -> 92.105263 | AC23: 883 | AE23: 625 | AG23: =L23 -> SebaR | AH23: =M23 -> Braslovče | AI23: 683 | AJ23: =AI23/BP23 -> 59.912281 | AK23: 921 | AM23: 633 | AN23: 763 | AO23: =AN23/BP23 -> 66.929825 | AP23: 1060 | AR23: 836 | AT23: =L23 -> SebaR | AU23: =M23 -> Braslovče | AV23: 430 | AW23: =AV23/BP23 -> 37.719298 | AX23: 1430 | AZ23: 1098 | BA23: 246 | BB23: =BA23/BP23 -> 21.578947 | BC23: 1320 | BE23: 1063 | BG23: 8.07 | BH23: =BG23/BP23 -> 0.70789474 | BI23: 55.4 kWh | BJ23: 6.31 | BK23: =BJ23/BP23 -> 0.55350877 | BL23: 60.2 kWh | BM23: =SE_2023!F23 -> 1149.1228 | BN23: =SE_2023!G23 -> 1145.614 | BO23: =SE_2023!H23 -> 1026.3158 | BP23: =SE_2023!I23 -> 11.4 | BQ23: =SE_2023!J23 -> 217 | BR23: =SE_2023!K23 -> 31 | BS23: =SE_2023!L23 -> 13.6 | BT23: =SE_2023!M23 -> 0 | BU23: =SE_2023!N23 -> zagon 23.5.2022 hrib povzroči predčasni zahod sonca za 90 minut, ena celica menjana zaradi okvare lota | BW23: Odčitavam pa podatke iz grafa, ker je exel tabela, ko naredim izvoz total mimo.
A24: =SE_2023!A24 -> 21 | B24: =SE_2023!$B24 -> bojan03 | C24: =SE_2023!$C24 -> okolica Medvod | D24: 29.2 | E24: =D24/$BP24 -> 2.6449275 | F24: 1320 | G24: =F24/$BP24 -> 119.56522 | H24: 649 | J24: 190 | L24: =SE_2023!$B24 -> bojan03 | M24: =SE_2023!$C24 -> okolica Medvod | N24: 1340 | O24: =N24/$BP24 -> 121.37681 | P24: 783 | R24: 346 | T24: =SE_2023!$B24 -> bojan03 | U24: =SE_2023!$C24 -> okolica Medvod | V24: 887 | W24: =V24/$BP24 -> 80.344203 | X24: 863 | Z24: 453 | AB24: =AA24/$BP24 -> 0 | AG24: =L24 -> bojan03 | AH24: =M24 -> okolica Medvod | AJ24: =AI24/BP24 -> 0 | AO24: =AN24/BP24 -> 0 | AT24: =L24 -> bojan03 | AU24: =M24 -> okolica Medvod | AV24: 480 | AW24: =AV24/BP24 -> 43.478261 | AX24: 1211 | AZ24: 718 | BG24: 4.1 | BH24: =BG24/BP24 -> 0.37137681 | BI24: 32 kWh | BJ24: 22.5 | BK24: =BJ24/BP24 -> 2.0380435 | BL24: 40.9 kWh | BM24: =SE_2023!F24 -> 1077.8986 | BN24: =SE_2023!G24 -> 747.28261 | BO24: =SE_2023!H24 -> 0 | BP24: =SE_2023!I24 -> 11.04 | BQ24: =SE_2023!J24 -> 5.06 kW, 150 5.98 kW, 240 | BR24: =SE_2023!K24 -> 30 30 | BS24: =SE_2023!L24 -> 11.04 | BT24: =SE_2023!M24 -> 11.04 | BU24: =SE_2023!N24 -> priklop 19.5.2023 paneli na azimutu 150° so dali 4,4% boljši pridelek
A25: =SE_2023!A25 -> 22 | B25: =SE_2023!$B25 -> veli | C25: =SE_2023!$C25 -> Cerknica | E25: =D25/$BP25 -> 0 | G25: =F25/$BP25 -> 0 | L25: =SE_2023!$B25 -> veli | M25: =SE_2023!$C25 -> Cerknica | O25: =N25/$BP25 -> 0 | T25: =SE_2023!$B25 -> veli | U25: =SE_2023!$C25 -> Cerknica | V25: 1100 | W25: =V25/$BP25 -> 96.491228 | X25: 1100 | AA25: 1280 | AB25: =AA25/$BP25 -> 112.2807 | AC25: =AA25+721.24-984.76 -> 1016.48 | AG25: =L25 -> veli | AH25: =M25 -> Cerknica | AI25: 782 | AJ25: =AI25/BP25 -> 68.596491 | AK25: 1080 | AM25: 435.58 | AN25: 1020 | AO25: =AN25/BP25 -> 89.473684 | AP25: 1300 | AR25: 784.89 | AT25: =L25 -> veli | AU25: =M25 -> Cerknica | AV25: 891 | AW25: =AV25/BP25 -> 78.157895 | AX25: =1430 -> 1430 | AZ25: 761 | BA25: 322 | BB25: =BA25/BP25 -> 28.245614 | BC25: 1444 | BG25: 2.65 | BH25: =BG25/BP25 -> 0.23245614 | BI25: 38.2 kWh | BJ25: 42.7 | BK25: =BJ25/BP25 -> 3.745614 | BL25: 37.6 kWh | BM25: =SE_2023!F25 -> 0 | BN25: =SE_2023!G25 -> 1263.1579 | BO25: =SE_2023!H25 -> 0 | BP25: =SE_2023!I25 -> 11.4 | BQ25: =SE_2023!J25 -> 211 | BR25: =SE_2023!K25 -> 39 | BS25: =SE_2023!L25 -> 11.4 | BT25: =SE_2023!M25 -> 11.2 | BU25: =SE_2023!N25 -> 0
A26: =SE_2023!A26 -> 23 | B26: =SE_2023!$B26 -> jormam | C26: =SE_2023!$C26 -> Tolmin | D26: 30.4 | E26: =D26/$BP26 -> 2.4050633 | G26: =F26/$BP26 -> 0 | L26: =SE_2023!$B26 -> jormam | M26: =SE_2023!$C26 -> Tolmin | O26: =N26/$BP26 -> 0 | T26: =SE_2023!$B26 -> jormam | U26: =SE_2023!$C26 -> Tolmin | W26: =V26/$BP26 -> 0 | AB26: =AA26/$BP26 -> 0 | AG26: =L26 -> jormam | AH26: =M26 -> Tolmin | AI26: 560.45 | AJ26: =AI26/BP26 -> 44.339399 | AK26: 1540.45 | AO26: =AN26/BP26 -> 0 | AT26: =L26 -> jormam | AU26: =M26 -> Tolmin | AV26: 658 | AW26: =AV26/BP26 -> 52.056962 | AX26: 2370 | BG26: 1.5 | BH26: =BG26/BP26 -> 0.11867089 | BI26: 87 kWh | BJ26: 34.7 | BK26: =BJ26/BP26 -> 2.7452532 | BL26: 76.3 kWh | BM26: =SE_2023!F26 -> 1036.3924 | BN26: =SE_2023!G26 -> 1155.0633 | BO26: =SE_2023!H26 -> 1289.557 | BP26: =SE_2023!I26 -> 12.64 | BQ26: =SE_2023!J26 -> 173 | BR26: =SE_2023!K26 -> 36.2 | BS26: =SE_2023!L26 -> 11.2 | BT26: =SE_2023!M26 -> 0 | BU26: =SE_2023!N26 -> 0 | BW26: ZAJEM PODATKOV JANUAR 2024
A27: =SE_2023!A27 -> 24 | B27: =SE_2023!$B27 -> Migaj | C27: =SE_2023!$C27 -> na desni strani Mure | D27: 37 | E27: =D27/$BP27 -> 3.3035714 | G27: =F27/$BP27 -> 0 | L27: =SE_2023!$B27 -> Migaj | M27: =SE_2023!$C27 -> na desni strani Mure | O27: =N27/$BP27 -> 0 | T27: =SE_2023!$B27 -> Migaj | U27: =SE_2023!$C27 -> na desni strani Mure | W27: =V27/$BP27 -> 0 | AB27: =AA27/$BP27 -> 0 | AG27: =L27 -> Migaj | AH27: =M27 -> na desni strani Mure | AI27: 880 | AJ27: =AI27/BP27 -> 78.571429 | AK27: 1210 | AO27: =AN27/BP27 -> 0 | AT27: =L27 -> Migaj | AU27: =M27 -> na desni strani Mure | AV27: 740 | AW27: =AV27/BP27 -> 66.071429 | AX27: 2000 | BJ27: 20 | BK27: =BJ27/BP27 -> 1.7857143 | BL27: 52 kWh do 18:30 | BM27: =SE_2023!F27 -> 1250 | BN27: =SE_2023!G27 -> 1130.3571 | BO27: =SE_2023!H27 -> 0 | BP27: =SE_2023!I27 -> 11.2 | BQ27: =SE_2023!J27 -> 194 | BR27: =SE_2023!K27 -> 27 | BS27: =SE_2023!L27 -> 11.2 | BT27: =SE_2023!M27 -> 0 | BU27: =SE_2023!N27 -> Pridelek od 22.2.2023 do 31.12.2023 = 12,66MWh.
A28: =SE_2023!A28 -> 25 | B28: =SE_2023!$B28 -> Avatar | C28: =SE_2023!$C28 -> Šentvid pri Grobelnem | D28: 49.7 | E28: =D28/$BP28 -> 3.8828125 | G28: =F28/$BP28 -> 0 | L28: =SE_2023!$B28 -> Avatar | M28: =SE_2023!$C28 -> Šentvid pri Grobelnem | O28: =N28/$BP28 -> 0 | T28: =SE_2023!$B28 -> Avatar | U28: =SE_2023!$C28 -> Šentvid pri Grobelnem | W28: =V28/$BP28 -> 0 | AB28: =AA28/$BP28 -> 0 | AG28: =L28 -> Avatar | AH28: =M28 -> Šentvid pri Grobelnem | AJ28: =AI28/BP28 -> 0 | AO28: =AN28/BP28 -> 0 | AT28: =L28 -> Avatar | AU28: =M28 -> Šentvid pri Grobelnem | BK28: =BJ28/BP28 -> 0 | BM28: =SE_2023!F28 -> 1273.4375 | BN28: =SE_2023!G28 -> 1290.625 | BO28: =SE_2023!H28 -> 0 | BP28: =SE_2023!I28 -> 12.8 | BQ28: =SE_2023!J28 -> 194 | BR28: =SE_2023!K28 -> 38 | BS28: =SE_2023!L28 -> 11.2 | BT28: =SE_2023!M28 -> 11.1 | BU28: =SE_2023!N28 -> Dopoldne rahlo senčenje od drevesa in pozimi popoldne nekaj panelov zakrije streha. | BW28: Ime: Caps
A29: =SE_2023!A29 -> 26 | B29: =SE_2023!$B29 -> rorex | C29: =SE_2023!$C29 -> Prekmurje | E29: =D29/$BP29 -> 0 | G29: =F29/$BP29 -> 0 | L29: =SE_2023!$B29 -> rorex | M29: =SE_2023!$C29 -> Prekmurje | O29: =N29/$BP29 -> 0 | T29: =SE_2023!$B29 -> rorex | U29: =SE_2023!$C29 -> Prekmurje | W29: =V29/$BP29 -> 0 | AB29: =AA29/$BP29 -> 0 | AG29: =L29 -> rorex | AH29: =M29 -> Prekmurje | AJ29: =AI29/BP29 -> 0 | AO29: =AN29/BP29 -> 0 | AT29: =L29 -> rorex | AU29: =M29 -> Prekmurje | BG29: 3.72 | BH29: =BG29/BP29 -> 0.31 | BJ29: 21.1 | BK29: =BJ29/BP29 -> 1.7583333 | BM29: =SE_2023!F29 -> 0 | BN29: =SE_2023!G29 -> 1200 | BO29: =SE_2023!H29 -> 0 | BP29: =SE_2023!I29 -> 12 | BQ29: =SE_2023!J29 -> 131 | BR29: =SE_2023!K29 -> 20 | BS29: =SE_2023!L29 -> 11.4 | BT29: =SE_2023!M29 -> 11.2 | BU29: =SE_2023!N29 -> 0 | BW29: Pridelek SE v januarju 2024: 361 kWh
A30: =SE_2023!A30 -> 27 | B30: =SE_2023!$B30 -> M0rph3u5 | C30: =SE_2023!$C30 -> okolica Mokronoga | E30: =D30/$BP30 -> 0 | G30: =F30/$BP30 -> 0 | L30: =SE_2023!$B30 -> M0rph3u5 | M30: =SE_2023!$C30 -> okolica Mokronoga | O30: =N30/$BP30 -> 0 | T30: =SE_2023!$B30 -> M0rph3u5 | U30: =SE_2023!$C30 -> okolica Mokronoga | W30: =V30/$BP30 -> 0 | AB30: =AA30/$BP30 -> 0 | AG30: =L30 -> M0rph3u5 | AH30: =M30 -> okolica Mokronoga | AJ30: =AI30/BP30 -> 0 | AO30: =AN30/BP30 -> 0 | AT30: =L30 -> M0rph3u5 | AU30: =M30 -> okolica Mokronoga | BG30: 5.32 | BH30: =BG30/BP30 -> 0.55416667 | BI30: =CONCATENATE(BG30+40.56-1.41," kWh") -> 44.47 kWh | BJ30: 32.8 | BK30: =BJ30/BP30 -> 3.4166667 | BL30: =CONCATENATE(BJ30+31.86-24.58," kWh") -> 40.08 kWh | BM30: =SE_2023!F30 -> 0 | BN30: =SE_2023!G30 -> 1305.2083 | BO30: =SE_2023!H30 -> 338.54167 | BP30: =SE_2023!I30 -> 9.6 | BQ30: =SE_2023!J30 -> 190 | BR30: =SE_2023!K30 -> 43 | BS30: =SE_2023!L30 -> 9.6 | BT30: =SE_2023!M30 -> 9.6 | BU30: =SE_2023!N30 -> SE aktivna od 22.8.2022 | BW30: Celotna poraba energije v januarju 2024*: 1550 kWh (od tega EV 0 KWh)
A31: =SE_2023!A31 -> 28 | B31: =SE_2023!$B31 -> Caps (gost) | C31: =SE_2023!$C31 -> okolica Vipave | D31: 28.79 | E31: =D31/$BP31 -> 2.7007505 | F31: 1400 | G31: =F31/$BP31 -> 131.33208 | H31: 221 | L31: =SE_2023!$B31 -> Caps (gost) | M31: =SE_2023!$C31 -> okolica Vipave | N31: 1330 | O31: =N31/$BP31 -> 124.76548 | P31: 584 | T31: =SE_2023!$B31 -> Caps (gost) | U31: =SE_2023!$C31 -> okolica Vipave | W31: =V31/$BP31 -> 0 | AB31: =AA31/$BP31 -> 0 | AG31: =L31 -> Caps (gost) | AH31: =M31 -> okolica Vipave | AI31: 819 | AJ31: =AI31/BP31 -> 76.829268 | AK31: 751 | AO31: =AN31/BP31 -> 0 | AT31: =L31 -> Caps (gost) | AU31: =M31 -> okolica Vipave | AV31: 634 | AW31: =AV31/BP31 -> 59.474672 | AX31: 1240 | AZ31: 1154 | BG31: 0.98 | BH31: =BG31/BP31 -> 0.091932458 | BI31: 49 kWh (ocena) | BJ31: 31.3 | BK31: =BJ31/BP31 -> 2.9362101 | BL31: 50 kWh (ocena) | BM31: =SE_2023!F31 -> 1184.803 | BN31: =SE_2023!G31 -> 130.394 | BO31: =SE_2023!H31 -> 0 | BP31: =SE_2023!I31 -> 10.66 | BQ31: =SE_2023!J31 -> 150 | BR31: =SE_2023!K31 -> 20 | BS31: =SE_2023!L31 -> 10.5 | BT31: =SE_2023!M31 -> 0 | BU31: =SE_2023!N31 -> Priklop oktober 2023 | BW31: Ogrevanje in SV (sanitarna voda): TČ
A32: =SE_2023!A32 -> 29 | B32: =SE_2023!$B32 -> wilson34 | C32: =SE_2023!$C32 -> Prekmurje | D32: 25.5 | E32: =D32/$BP32 -> 2.4519231 | G32: =F32/$BP32 -> 0 | L32: =SE_2023!$B32 -> wilson34 | M32: =SE_2023!$C32 -> Prekmurje | O32: =N32/$BP32 -> 0 | T32: =SE_2023!$B32 -> wilson34 | U32: =SE_2023!$C32 -> Prekmurje | V32: 970 | W32: =V32/$BP32 -> 93.269231 | X32: =V32+753-653 -> 1070 | AA32: 1002 | AB32: =AA32/$BP32 -> 96.346154 | AC32: =AA32+788-682 -> 1108 | AG32: =L32 -> wilson34 | AH32: =M32 -> Prekmurje | AJ32: =AI32/BP32 -> 0 | AO32: =AN32/BP32 -> 0 | AT32: =L32 -> wilson34 | AU32: =M32 -> Prekmurje | BG32: 3.04 | BH32: =BG32/BP32 -> 0.29230769 | BI32: =CONCATENATE(3.04+54.54-0," kWh") -> 57.58 kWh | BJ32: 16.4 | BK32: =BJ32/BP32 -> 1.5769231 | BL32: =CONCATENATE(16.4+54.34-6.39,"kWh") -> 64.35kWh | BM32: =SE_2023!F32 -> 1105.7692 | BN32: =SE_2023!G32 -> 898.07692 | BO32: =SE_2023!H32 -> 1182.6923 | BP32: =SE_2023!I32 -> 10.4 | BQ32: =SE_2023!J32 -> 5.2 kW, 125 5.2 kW, 215 | BR32: =SE_2023!K32 -> 35 | BS32: =SE_2023!L32 -> 0 | BT32: =SE_2023!M32 -> 0 | BU32: =SE_2023!N30 -> SE aktivna od 22.8.2022 | BW32: Opomba 1:
A33: =SE_2023!A33 -> 30 | B33: =SE_2023!$B33 -> sašo65 | C33: =SE_2023!$C33 -> Brežice | E33: =D33/$BP33 -> 0 | G33: =F33/$BP33 -> 0 | L33: =SE_2023!$B33 -> sašo65 | M33: =SE_2023!$C33 -> Brežice | O33: =N33/$BP33 -> 0 | T33: =SE_2023!$B33 -> sašo65 | U33: =SE_2023!$C33 -> Brežice | V33: 1170 | W33: =V33/$BP33 -> 102.00523 | X33: 585 | AB33: =AA33/$BP33 -> 0 | AG33: =L33 -> sašo65 | AH33: =M33 -> Brežice | AI33: 870 | AJ33: =AI33/BP33 -> 75.850044 | AK33: 680 | AO33: =AN33/BP33 -> 0 | AT33: =L33 -> sašo65 | AU33: =M33 -> Brežice | AV33: 698 | AW33: =AV33/BP33 -> 60.854403 | AX33: =698+994-439 -> 1253 | BJ33: 5.8 | BK33: =BJ33/BP33 -> 0.50566696 | BL33: *34-40 kWh/dan (MojElektro) | BM33: =SE_2023!F33 -> 0 | BN33: =SE_2023!G33 -> 0 | BO33: =SE_2023!H33 -> 0 | BP33: =SE_2023!I33 -> 11.47 | BQ33: =SE_2023!J33 -> 194 | BR33: =SE_2023!K33 -> 25 | BS33: =SE_2023!L33 -> 11.2 | BT33: =SE_2023!M33 -> 10.9 | BU33: =SE_2023!N33 -> Zagon julij 2023 kWp = 27 x 425W | BW33: ... za primerjavo še podatki za januar 2023 ...
A34: =SE_2023!A34 -> 31 | B34: =SE_2023!$B34 -> Celje | C34: =SE_2023!$C34 -> okolica Celja | E34: =D34/$BP34 -> 0 | F34: 2050 | G34: =F34/$BP34 -> 131.41026 | H34: 1000 | L34: =SE_2023!$B34 -> Celje | M34: =SE_2023!$C34 -> okolica Celja | N34: 2100 | O34: =N34/$BP34 -> 134.61538 | P34: 1700 | T34: =SE_2023!$B34 -> Celje | U34: =SE_2023!$C34 -> okolica Celja | V34: 1480 | W34: =V34/$BP34 -> 94.871795 | X34: 2200 | AB34: =AA34/$BP34 -> 0 | AG34: =L34 -> Celje | AH34: =M34 -> okolica Celja | AI34: 991 | AJ34: =AI34/BP34 -> 63.525641 | AK34: 2400 | AO34: =AN34/BP34 -> 0 | AT34: =L34 -> Celje | AU34: =M34 -> okolica Celja | AV34: 659 | AW34: =AV34/BP34 -> 42.24359 | AX34: 3200 | BG34: 7.51 | BH34: =BG34/BP34 -> 0.48141026 | BI34: 104 kWh | BJ34: 8.22 | BK34: =BJ34/BP34 -> 0.52692308 | BL34: 111 kWh | BM34: =SE_2023!F34 -> 0 | BN34: =SE_2023!G34 -> 0 | BO34: =SE_2023!H34 -> 0 | BP34: =SE_2023!I34 -> 15.6 | BQ34: =SE_2023!J34 -> 6.746 kW, 136.4 8.854 kW, 223.5 | BR34: =SE_2023!K34 -> ? | BS34: =SE_2023!L34 -> 13.6 | BT34: =SE_2023!M34 -> 0 | BU34: =SE_2023!N34 -> Začetek obratovanja 9/2023 | BW34: Pridelek SE v januarju 2023: 222 kWh
A35: =SE_2023!A35 -> 32 | B35: =SE_2023!$B35 -> vrzislo | C35: =SE_2023!$C35 -> Ljubno ob Savinji | D35: 35.5 | E35: =D35/$BP35 -> 2.3857527 | G35: =F35/$BP35 -> 0 | L35: =SE_2023!$B35 -> vrzislo | M35: =SE_2023!$C35 -> Ljubno ob Savinji | O35: =N35/$BP35 -> 0 | T35: =SE_2023!$B35 -> vrzislo | U35: =SE_2023!$C35 -> Ljubno ob Savinji | W35: =V35/$BP35 -> 0 | AB35: =AA35/$BP35 -> 0 | AG35: =L35 -> vrzislo | AH35: =M35 -> Ljubno ob Savinji | AI35: 964 | AJ35: =AI35/BP35 -> 64.784946 | AK35: =AI35*2 -> 1928 | AN35: =AI35*1.22 -> 1176.08 | AO35: =AN35/BP35 -> 79.037634 | AT35: =L35 -> vrzislo | AU35: =M35 -> Ljubno ob Savinji | AV35: 723 | AW35: =AV35/BP35 -> 48.58871 | AX35: 2660 | BM35: =SE_2023!F35 -> 1135.7527 | BN35: =SE_2023!G35 -> 1116.8011 | BO35: =SE_2023!H35 -> 0 | BP35: =SE_2023!I35 -> 14.88 | BQ35: =SE_2023!J35 -> 135 | BR35: =SE_2023!K35 -> 32 | BS35: =SE_2023!L35 -> 0 | BT35: =SE_2023!M35 -> 10.8 | BU35: =SE_2023!N35 -> V zimskem času senčenje predvsem spodnje vrste zaradi dreves v bližini. Okoli 10 dni ni bilo pravega delovanja Solar Edge zaradi udara strele v juliju (2023). SE postavljena v letu 2019. | BW35: Celotna poraba energije v januarju 2023*: 124 kWh (od tega EV 0 KWh)
A36: =SE_2023!A36 -> 33 | B36: =SE_2023!$B36 -> Mr_Fizl | C36: =SE_2023!$C36 -> Dol pri Ljubljani | D36: 34 | E36: =D36/$BP36 -> 2.3351648 | F36: 1910 | G36: =F36/$BP36 -> 131.18132 | H36: 776 | L36: =SE_2023!$B36 -> Mr_Fizl | M36: =SE_2023!$C36 -> Dol pri Ljubljani | N36: 1850 | O36: =N36/$BP36 -> 127.06044 | P36: 787 | T36: =SE_2023!$B36 -> Mr_Fizl | U36: =SE_2023!$C36 -> Dol pri Ljubljani | W36: =V36/$BP36 -> 0 | AB36: =AA36/$BP36 -> 0 | AG36: =L36 -> Mr_Fizl | AH36: =M36 -> Dol pri Ljubljani | AJ36: =AI36/BP36 -> 0 | AO36: =AN36/BP36 -> 0 | AT36: =L36 -> Mr_Fizl | AU36: =M36 -> Dol pri Ljubljani | AV36: 456 | AW36: =AV36/BP36 -> 31.318681 | AX36: 1030 | BA36: 324 | BB36: =BA36/BP36 -> 22.252747 | BM36: =SE_2023!F36 -> 1071.4286 | BN36: =SE_2023!G36 -> 0 | BO36: =SE_2023!H36 -> 0 | BP36: =SE_2023!I36 -> 14.56 | BQ36: =SE_2023!J36 -> 126 | BR36: =SE_2023!K36 -> ? | BS36: =SE_2023!L36 -> 0 | BT36: =SE_2023!M36 -> 0 | BU36: =SE_2023!N36 -> 0 | BW36: Ogrevanje in SV: plinska peč
A37: =SE_2023!A37 -> 34 | B37: =SE_2023!$B37 -> oTTo | C37: =SE_2023!$C37 -> Škofja Loka | E37: =D37/$BP37 -> 0 | F37: 1432 | G37: =F37/$BP37 -> 123.34195 | H37: 479 | J37: =0+153 -> 153 | L37: =SE_2023!$B37 -> oTTo | M37: =SE_2023!$C37 -> Škofja Loka | N37: 1520 | O37: =N37/$BP37 -> 130.92162 | P37: 680 | R37: =224+166 -> 390 | T37: =SE_2023!$B37 -> oTTo | U37: =SE_2023!$C37 -> Škofja Loka | V37: 997 | W37: =V37/$BP37 -> 85.874246 | X37: 880 | AB37: =AA37/$BP37 -> 0 | AG37: =L37 -> oTTo | AH37: =M37 -> Škofja Loka | AI37: 691 | AJ37: =AI37/BP37 -> 59.517657 | AK37: 1072 | AM37: =553+185 -> 738 | AO37: =AN37/BP37 -> 0 | AT37: =L37 -> oTTo | AU37: =M37 -> Škofja Loka | AV37: 647 | AW37: =AV37/BP37 -> 55.727821 | AX37: 1684.9 | BM37: =SE_2023!F37 -> 0 | BN37: =SE_2023!G37 -> 68.647717 | BO37: =SE_2023!H37 -> 0 | BP37: =SE_2023!I37 -> 11.61 | BQ37: =SE_2023!J37 -> 209 | BR37: =SE_2023!K37 -> 36 | BS37: =SE_2023!L37 -> 0 | BT37: =SE_2023!M37 -> 10.8 | BU37: =SE_2023!N37 -> Zagnana 17.11.2023 | BW37: Opomba 2: še ni bilo TČ
A38: =SE_2023!A38 -> 35 | B38: =SE_2023!$B38 -> ufm | C38: =SE_2023!$C38 -> Osrednja Slovenija, 380 m n.v. | E38: =D38/$BP38 -> 0 | G38: =F38/$BP38 -> 0 | L38: =SE_2023!$B38 -> ufm | M38: =SE_2023!$C38 -> Osrednja Slovenija, 380 m n.v. | O38: =N38/$BP38 -> 0 | T38: =SE_2023!$B38 -> ufm | U38: =SE_2023!$C38 -> Osrednja Slovenija, 380 m n.v. | W38: =V38/$BP38 -> 0 | AB38: =AA38/$BP38 -> 0 | AG38: =L38 -> ufm | AH38: =M38 -> Osrednja Slovenija, 380 m n.v. | AJ38: =AI38/BP38 -> 0 | AO38: =AN38/BP38 -> 0 | AT38: =L38 -> ufm | AU38: =M38 -> Osrednja Slovenija, 380 m n.v. | AV38: 343 | AW38: =AV38/BP38 -> 27.840909 | AX38: =343+1690-128 -> 1905 | BM38: =SE_2023!F38 -> 0 | BN38: =SE_2023!G38 -> 0 | BO38: =SE_2023!H38 -> 0 | BP38: =SE_2023!I38 -> 12.32 | BQ38: =SE_2023!J38 -> 8.36 kW, 245 3.96 kW, 65 | BR38: =SE_2023!K38 -> 29 19 | BS38: =SE_2023!L38 -> 3 | BT38: =SE_2023!M38 -> 2.85 | BU38: =SE_2023!N38 -> Zagon 18.10.2023 Baterija 9.2 kW Limitirana proizvodnja na 10 kW, soglasje z omejitvijo 3 kW.
A39: =SE_2023!A39 -> 36 | B39: =SE_2023!$B39 -> Letalec | C39: =SE_2023!$C39 -> okolica Bleda | D39: 39.91 | E39: =D39/$BP39 -> 3.3980417 | G39: =F39/$BP39 -> 0 | L39: =SE_2023!$B39 -> Letalec | M39: =SE_2023!$C39 -> okolica Bleda | O39: =N39/$BP39 -> 0 | T39: =SE_2023!$B39 -> Letalec | U39: =SE_2023!$C39 -> okolica Bleda | W39: =V39/$BP39 -> 0 | AB39: =AA39/$BP39 -> 0 | AG39: =L39 -> Letalec | AH39: =M39 -> okolica Bleda | AJ39: =AI39/BP39 -> 0 | AO39: =AN39/BP39 -> 0 | AT39: =L39 -> Letalec | AU39: =M39 -> okolica Bleda | BM39: =SE_2023!F39 -> 1160.4938 | BN39: =SE_2023!G39 -> 0 | BO39: =SE_2023!H39 -> 0 | BP39: =SE_2023!I39 -> 11.745 | BQ39: =SE_2023!J39 -> 145 | BR39: =SE_2023!K39 -> 40 | BS39: =SE_2023!L39 -> 11.2 | BT39: =SE_2023!M39 -> 0 | BU39: =SE_2023!N39 -> Priklop 5.2.2024 | BW39: Ime: MAGS
A40: =SE_2023!A40 -> 37 | B40: =SE_2023!$B40 -> misace | C40: =SE_2023!$C40 -> pri Radovljici | E40: =D40/$BP40 -> 0 | G40: =F40/$BP40 -> 0 | L40: =SE_2023!$B40 -> misace | M40: =SE_2023!$C40 -> pri Radovljici | O40: =N40/$BP40 -> 0 | T40: =SE_2023!$B40 -> misace | U40: =SE_2023!$C40 -> pri Radovljici | W40: =V40/$BP40 -> 0 | AB40: =AA40/$BP40 -> 0 | AG40: =L40 -> misace | AH40: =M40 -> pri Radovljici | AJ40: =AI40/BP40 -> 0 | AO40: =AN40/BP40 -> 0 | AT40: =L40 -> misace | AU40: =M40 -> pri Radovljici | AV40: 660 | AW40: =AV40/BP40 -> 57.093426 | BM40: =SE_2023!F40 -> 0 | BN40: =SE_2023!G40 -> 0 | BO40: =SE_2023!H40 -> 0 | BP40: =SE_2023!I40 -> 11.56 | BQ40: =SE_2023!J40 -> 8.16 kW, 135 3.40 kW, 225 | BR40: =SE_2023!K40 -> 45 35 | BS40: =SE_2023!L40 -> 0 | BT40: =SE_2023!M40 -> 10.56 | BU40: =SE_2023!N40 -> Priklop marec 2022 | BW40: Pridelek SE v januarju 2024: 335 kWh
...

Sheet 21_DEC_2024
A1: Pridelek v najkrajšem dnevu leta 2024 (21.12.2024)
B2: 13.1.2025 | C2: Urejeno po kWh/kWp
B3: Ime | C3: Lokacija | D3: Pridelek SE 21.12.2024 kWh | E3: Relat. pridelek SE 21.12.2024 kWh/kWp
B4: Fantocci2 | C4: Posavje | D4: 37.6 | E4: 4.2727273
B5: cimi82 | C5: okolica NM | D5: 55.28 | E5: 4.1626506
B6: Kvc | C6: Prlekija | D6: 27 | E6: 4
B7: Avatar | C7: Šentvid pri Grobelnem | D7: 49.7 | E7: 3.8828125
B8: slepec | C8: okolica Litije, višina 505 | D8: 52 | E8: 3.8433112
B9: Irmscher | C9: Ljubljana - okolica | D9: 55.84 | E9: 3.625974
B10: du77a | C10: Domžale | D10: 44.5 | E10: 3.6223036
B11: xavi | C11: Maribor - Zrkovci | D11: 31.2 | E11: 3.45898
B12: Letalec | C12: okolica Bleda | D12: 39.91 | E12: 3.3980417
B13: Migaj | C13: na desni strani Mure | D13: 37 | E13: 3.3035714
B14: marko71 | C14: Cerknica | D14: 36.55 | E14: 3.1949301
B15: vip58 | C15: okolica Janč, 530 m n.v. | D15: 37 | E15: 3.1040268
... B31: letalec007 | C31: okolica Cerknice | D31: 12.2 | E31: 1.2512821
B32: pregela | C32: Litija | E32: 0
B33: labelsm | C33: Zgornje Hoče pri MB | E33: 0
B34: vuego | C34: okolica Kamnika | E34: 0
B35: MAGS | C35: okolica Novega mesta | E35: 0
B36: Fery | C36: Cerknica | E36: 0
B37: Unika542 | C37: okolica Ivančne gorice | E37: 0
B38: JohnSnow | C38: J Primorska | E38: 0
B39: veli | C39: Cerknica | E39: 0
B40: rorex | C40: Prekmurje | E40: 0
B41: M0rph3u5 | C41: okolica Mokronoga | E41: 0
B42: sašo65 | C42: Brežice | E42: 0
B43: Celje | C43: okolica Celja | E43: 0
... B48: DejanB | C48: Ljubljana Barje | E48: 0

Sheet Maj_2024
A1: Pridelek in mesečna samooskrbnost v maju 2024.
B2: 27.6.2024 | C2: Urejeno po kWh/kWp (maj 2024)
A3: Samooskrba maj 2024 % | B3: Ime | C3: Lokacija | D3: Pridelek SE maj 2024 kWh | E3: Relat. pridelek SE maj 2024 kWh/kWp | F3: Celotna poraba maj 2024 kWh | G3: Poraba za EV maj 2024 kWh | H3: Poraba za TČ maj 2024 kWh
A4: =IF(F4="","",100*D4/F4) -> 315.78947 | B4: xavi | C4: Maribor - Zrkovci | D4: 1320 | E4: 146.34146 | F4: 418
A5: =IF(F5="","",100*D5/F5) -> 292.05607 | B5: Fantocci2 | C5: Posavje | D5: 1250 | E5: 142.04545 | F5: 428
A6: =IF(F6="","",100*D6/F6) -> 209.1954 | B6: cimi82 | C6: okolica NM | D6: 1820 | E6: 137.04819 | F6: 870
A7: =IF(F7="","",100*D7/F7) -> 179.61165 | B7: slepec | C7: okolica Litije, višina 505 | D7: 1850 | E7: 136.73319 | F7: 1030
A8: =IF(F8="","",100*D8/F8) -> 205 | B8: Celje | C8: okolica Celja | D8: 2050 | E8: 131.41026 | F8: 1000
A9: =IF(F9="","",100*D9/F9) -> 633.48416 | B9: Caps (gost) | C9: okolica Vipave | D9: 1400 | E9: 131.33208 | F9: 221
A10: =IF(F10="","",100*D10/F10) -> 246.13402 | B10: Mr_Fizl | C10: Dol pri Ljubljani | D10: 1910 | E10: 131.18132 | F10: 776
A11: =IF(F11="","",100*D11/F11) -> 374.10072 | B11: vip58 | C11: okolica Janč, 530 m n.v. | D11: 1560 | E11: 130.87248 | F11: 417
A12: =IF(F12="","",100*D12/F12) -> 298.95616 | B12: oTTo | C12: Škofja Loka | D12: 1432 | E12: 123.34195 | F12: 479 | H12: 153
A13: =IF(F13="","",100*D13/F13) -> 411.33333 | B13: Caps | C13: sever Ljubljane | D13: 1234 | E13: 122.17822 | F13: 300
A14: =IF(F14="","",100*D14/F14) -> 203.38983 | B14: bojan03 | C14: okolica Medvod | D14: 1320 | E14: 119.56522 | F14: 649 | H14: 190
A15: =IF(F15="","",100*D15/F15) -> 159.40724 | B15: letalec007 | C15: okolica Cerknice | D15: 1080 | E15: 110.76923 | F15: 677.51
A16: =IF(F16="","",100*D16/F16) -> 31.752765 | B16: DejanB | C16: Ljubljana Barje | D16: 209.6 | E16: 75.942029 | F16: 660.1
A17: =IF(F17="","",100*D17/F17) | B17: JaBK | C17: okolica Kranja | E17: 0
A18: =IF(F18="","",100*D18/F18) | B18: pregela | C18: Litija | E18: 0
A19: =IF(F19="","",100*D19/F19) | B19: labelsm | C19: Zgornje Hoče pri MB | E19: 0
A20: =IF(F20="","",100*D20/F20) | B20: vuego | C20: okolica Kamnika | E20: 0
A21: =IF(F21="","",100*D21/F21) | B21: Dave | C21: okolica Črnomlja | E21: 0
A22: =IF(F22="","",100*D22/F22) | B22: MAGS | C22: okolica Novega mesta | E22: 0
A23: =IF(F23="","",100*D23/F23) | B23: Fery | C23: Cerknica | E23: 0
A24: =IF(F24="","",100*D24/F24) | B24: ivč | C24: Maribor vzhod | E24: 0
A25: =IF(F25="","",100*D25/F25) | B25: du77a | C25: Domžale | E25: 0
A26: =IF(F26="","",100*D26/F26) | B26: Kvc | C26: Prlekija | E26: 0
A27: =IF(F27="","",100*D27/F27) | B27: Unika542 | C27: okolica Ivančne gorice | E27: 0
A28: =IF(F28="","",100*D28/F28) | B28: JohnSnow | C28: J Primorska | E28: 0
... A41: =IF(F41="","",100*D41/F41) | B41: misace | C41: pri Radovljici | E41: 0
B42: simbala007 | C42: okolica Zagorja ob Savi | E42: 0
B43: shock | C43: Koper | E43: 0

Sheet April_2024
A1: Pridelek in mesečna samooskrbnost v aprilu 2024.
B2: 27.6.2024 | C2: Urejeno po kWh/kWp (april 2024)
A3: Samooskrba april 2024 % | B3: Ime | C3: Lokacija | D3: Pridelek SE april 2024 kWh | E3: Relat. pridelek SE april 2024 kWh/kWp | F3: Celotna poraba april 2024 kWh | G3: Poraba za EV april 2024 kWh | H3: Poraba za TČ april 2024 kWh
A4: =IF(F4="","",100*D4/F4) -> 297.72727 | B4: Fantocci2 | C4: Posavje | D4: 1310 | E4: 148.86364 | F4: 440
A5: =IF(F5="","",100*D5/F5) -> 216.61238 | B5: xavi | C5: Maribor - Zrkovci | D5: 1330 | E5: 147.45011 | F5: 614
A6: =IF(F6="","",100*D6/F6) -> 237.2035 | B6: cimi82 | C6: okolica NM | D6: 1900 | E6: 143.07229 | F6: 801
A7: =IF(F7="","",100*D7/F7) -> 195.91837 | B7: slepec | C7: okolica Litije, višina 505 | D7: 1920 | E7: 141.90687 | F7: 980
A8: =IF(F8="","",100*D8/F8) -> 244.74474 | B8: vip58 | C8: okolica Janč, 530 m n.v. | D8: 1630 | E8: 136.74497 | F8: 666
A9: =IF(F9="","",100*D9/F9) -> 123.52941 | B9: Celje | C9: okolica Celja | D9: 2100 | E9: 134.61538 | F9: 1700
A10: =IF(F10="","",100*D10/F10) -> 223.52941 | B10: oTTo | C10: Škofja Loka | D10: 1520 | E10: 130.92162 | F10: 680 | H10: 390
A11: =IF(F11="","",100*D11/F11) -> 235.06989 | B11: Mr_Fizl | C11: Dol pri Ljubljani | D11: 1850 | E11: 127.06044 | F11: 787
A12: =IF(F12="","",100*D12/F12) -> 284.78747 | B12: Caps | C12: sever Ljubljane | D12: 1273 | E12: 126.0396 | F12: 447
A13: =IF(F13="","",100*D13/F13) -> 227.73973 | B13: Caps (gost) | C13: okolica Vipave | D13: 1330 | E13: 124.76548 | F13: 584
A14: =IF(F14="","",100*D14/F14) -> 153.83432 | B14: letalec007 | C14: okolica Cerknice | D14: 1200 | E14: 123.07692 | F14: 780.06
A15: =IF(F15="","",100*D15/F15) -> 171.13665 | B15: bojan03 | C15: okolica Medvod | D15: 1340 | E15: 121.37681 | F15: 783 | H15: 346
A16: =IF(F16="","",100*D16/F16) -> 27.38043 | B16: DejanB | C16: Ljubljana Barje | D16: 249.6 | E16: 90.434783 | F16: 911.6
A17: =IF(F17="","",100*D17/F17) | B17: JaBK | C17: okolica Kranja | E17: 0
A18: =IF(F18="","",100*D18/F18) | B18: pregela | C18: Litija | E18: 0
A19: =IF(F19="","",100*D19/F19) | B19: labelsm | C19: Zgornje Hoče pri MB | E19: 0
A20: =IF(F20="","",100*D20/F20) | B20: vuego | C20: okolica Kamnika | E20: 0
A21: =IF(F21="","",100*D21/F21) | B21: Dave | C21: okolica Črnomlja | E21: 0
A22: =IF(F22="","",100*D22/F22) | B22: MAGS | C22: okolica Novega mesta | E22: 0
