Workbook

Sheet SE_2023
B1: SE_2023_forum_VER_33.xlsx | G1: Komentar: "kWh/kWp", enote tega kvocienta so ure. To pomeni, koliko ur bi morala delovati SE z nazivno močjo panelov, da bi proizvedla enako energije. Navadno leto ima 8760 ur.
B2: 6.5.2026 | C2: Podatki o SE so urejeni po vrsti, kot so v začetku prihajali. | J2: Azimut tukaj je kot merjen od smeri severa v smeri urinega kazalca: vzhod = 90°, jug = 180°, zahod = 270° | P2: Članek "več panelov": https://www.zurnal24.si/pod-streho/varcna-hisa/eles-to-ne-drzi-kdor-bo-to-storil-bo-letel-iz-ugodnega-sistema-442484?utm_source=chatgpt.com
B3: Ime | C3: Lokacija | D3: Pridelek 2025, kWh | E3: Leto 2025 kWh/kWp | F3: Leto 2024 kWh/kWp | G3: Leto 2023 kWh/kWp | H3: Leto 2022 kWh/kWp | I3: Paneli, kWp | J3: Azimut, ° | K3: Naklon, ° | L3: Soglasje, kW | M3: Export omejitev, kW | N3: Opombe | P3: ime: Caps
A4: 1 | B4: Caps | C4: sever Ljubljane | D4: 10140 | E4: =D4/I4 -> 1003.9604 | F4: 1045.5446 | G4: =10979/I4 -> 1087.0297 | I4: 10.1 | J4: 160 | K4: 21 | L4: 10.1 | M4: 9.7 | N4: senčenje panelov v mesecih 11-2 od 10. do 14. ure (sosedi na jugu) | P4: lokacija: sever Ljubljane
A5: 2 | B5: cimi82 | C5: okolica NM | E5: =D5/I5 -> 0 | F5: 1310.994 | G5: =14570/I5 -> 1097.1386 | I5: 13.28 | J5: 170 | K5: 40 | L5: 13.6 | N5: priklop 20.3.2023 | P5: pridelek 2023: 10979 kWh
A6: 3 | B6: xavi | C6: Maribor - Zrkovci | E6: =D6/I6 -> 0 | F6: 1352.5499 | G6: =11940/I6 -> 1323.7251 | I6: 9.02 | J6: 150.5 | K6: 42 | L6: 10.25 | N6: Elektrarna v pogonu od 22.9.2022. Proizvodnja leto 2022 2,09 MWh Proizvodnja od 22.9.2023 do 31.12.2023 - 2330 kWh oz. 11% več kot 2022. | P6: paneli 1: 10,1 kWp azimut 162°, naklon 21° (za več grup panelov podaj posebej)
A7: 4 | B7: slepec | C7: okolica Litije, višina 505 | D7: 16800 | E7: =D7/I7 -> 1241.6851 | F7: 1282.3356 | G7: =6750/I7 -> 498.89135 | I7: 13.53 | J7: 155 | K7: 35 | L7: 13.6 | M7: 13.5 | N7: priklop 10.7.2023 | P7: soglasje: 10,1 kW
A8: 5 | B8: JaBK | C8: okolica Kranja | D8: 14110 | E8: =D8/I8 -> 1045.1852 | F8: =13251/I8 -> 981.55556 | G8: =14127/I8 -> 1046.4444 | H8: =15394/I8 -> 1140.2963 | I8: 13.5 | J8: 249 | K8: 38 | L8: 13.5 | M8: 13.4 | N8: all black paneli (naj bi delali cca 3% slabše) Koledarsko leto 2022: 15394kWh oziroma 1140kWh/kWp | P8: omejitev oddaje v omrežje (export): 9.7 kW
A9: 6 | B9: pregela | C9: Litija | E9: =D9/I9 -> 0 | F9: 1010.4167 | G9: =9830/I9 -> 1023.9583 | H9: =10923/I9 -> 1137.8125 | I9: 9.6 | J9: 240 | K9: 30 | L9: 9.6 | M9: 9.6 | N9: 2022 10923 kWh 1138kWh/kWp | P9: opombe: senčenje panelov v mesecih 11-2 od 10. do 14. ure (sosedi na jugu)
A10: 7 | B10: labelsm | C10: Zgornje Hoče pri MB | E10: =D10/I10 -> 0 | G10: =13700/I10 -> 1053.8462 | I10: 13 | J10: 245 | K10: 30 | L10: 11 | M10: 10.9 | N10: Priklop 25.1.2023 black paneli Paneli so senčeni zaradi manjšega gozda od 13.45 h naprej
A11: 8 | B11: letalec007 | C11: okolica Cerknice | D11: 11200 | E11: =D11/I11 -> 1148.7179 | F11: 1106.6667 | G11: =10700/I11 -> 1097.4359 | I11: =3.75+6 -> 9.75 | J11: 3.75 kW, 158.5 6 kW, 247.9 | K11: 33 33 | L11: 11.2 | M11: 11 | N11: v zimskem času so nekateri paneli v senci (sosednje stavbe) | P11: ime: cimi82
A12: 9 | B12: vuego | C12: okolica Kamnika | E12: =D12/I12 -> 0 | G12: =12983/I12 -> 1129.9391 | I12: 11.49 | J12: 225 | K12: 35 | L12: 10 | M12: 9.99 | N12: v zimskem času so nekateri paneli popoldne v senci (drevesa na sosednji parceli) | P12: lokacija: okolica Nm
A13: 10 | B13: Dave | C13: okolica Črnomlja | D13: 14480 | E13: =D13/I13 -> 1087.0871 | F13: =15130/I13 -> 1135.8859 | G13: =15090/I13 -> 1132.8829 | I13: 13.32 | J13: 132 | K13: 30 | L13: 13.6 | M13: 13.4 | P13: pridelek 2023: 14570 kWh
A14: 11 | B14: MAGS | C14: okolica Novega mesta | E14: =D14/I14 -> 0 | G14: =10800/I14 -> 968.60987 | H14: =12300/I14 -> 1103.139 | I14: 11.15 | J14: 110 | K14: 30 | L14: 11.2 | M14: 11.11 | N14: Zagon aprila 2020 | P14: azimut -10°,
A15: 12 | B15: Fery | C15: Cerknica | D15: 18300 | E15: =D15/I15 -> 1150.9434 | G15: =14350/12 -> 1195.8333 | I15: 15.9 | J15: 180 | K15: 41 | M15: 10.8 | N15: zelo osenčeni paneli. Za leto 2025 15.9 kWp (za 2023, 12 kWp) | P15: naklon 40°
A16: 13 | B16: ivč | C16: Maribor vzhod | D16: 8790 | E16: =8790/8.54 -> 1029.274 | F16: 1036.2998 | G16: =8850/8.54 -> 1036.2998 | H16: =9900/8.54 -> 1159.2506 | I16: =4.5+5.49 -> 9.99 | J16: 4.5 kW, 203 5.49 kW, 113 | K16: 40 41 | L16: 11 | N16: senčenje pozimi (sosed. hiša) 25.3.2025 popravljen azimut in naklon (prej SE1: 180 30, SE2: 90 30). 16.2.2026 povečanje moči z 8.54 kW na 10 kW. Dodani paneli v veji z azimutom 203, moč povečana s 3.05 kW na 4.5 kW | P16: paneli: 32x410W = 13.28kW
A17: 14 | B17: vip58 | C17: okolica Janč, 530 m n.v. | D17: 15250 | E17: =D17/I17 -> 1279.3624 | F17: 1235.7383 | G17: =14320/I17 -> 1201.3423 | I17: =9.33+2.59 -> 11.92 | J17: 9.33 kW, 165 2.59 kW, 210 | K17: 35 35 | L17: 11.1 | M17: 10.8 | N17: nekaj senčenja, v idealnih razmerah bi pridelala 1300Kwh več | P17: opombe: priklop 20.3.2023
A18: 15 | B18: du77a | C18: Domžale | D18: 13922 | E18: =D18/I18 -> 1133.2519 | F18: 1142.8571 | G18: =14600/I18 -> 1188.4412 | I18: 12.285 | J18: 165 | K18: 37 | L18: 11.2 | M18: 11.1 | N18: senčenje 8 panelov zaradi oblike hiše priklop november 2022, takrat 628 kWh
A19: 16 | B19: Kvc | C19: Prlekija | E19: =D19/I19 -> 0 | F19: 1377.7778 | G19: =9346/I19 -> 1384.5926 | H19: =9690/I19 -> 1435.5556 | I19: 6.75 | J19: 189 | K19: 35 | L19: 6.75 | M19: 6.6
A20: 17 | B20: Unika542 | C20: okolica Ivančne gorice | E20: =D20/I20 -> 0 | G20: =9220/I20 -> 1111.513 | I20: =0.395*21 -> 8.295 | J20: 4.345 kW, 129 3.95 kW, 210 | K20: 40 40 | L20: 8.29 | M20: 7.9 | P20: xavi,Moji podatki.
A21: 18 | B21: Fantocci2 | C21: Posavje | D21: 11590 | E21: =D21/I21 -> 1317.0455 | F21: =11960/I21 -> 1359.0909 | G21: =8160/I21 -> 927.27273 | I21: 8.8 | J21: 182 | K21: 38 | L21: 11.2 | M21: 11.2 | N21: zagnana 9.5.2023 en dimnik pa ena frčada, večji vpliv v spomladnih in jesenskih mesecih ko je sonce nizko | P21: Maribor - Zrkovci.
A22: 19 | B22: JohnSnow | C22: Kozina z okolico | E22: =D22/I22 -> 0 | G22: =12300/I22 -> 1025 | I22: 12 | J22: 186.7 | K22: 18 | L22: 12 | N22: zagnana 17.4.2023 pozimi, ko je sonce nizko, je spodnja vrsta delno senčena
A23: 20 | B23: SebaR | C23: Braslovče | E23: =D23/I23 -> 0 | F23: 1149.1228 | G23: =13060/I23 -> 1145.614 | H23: =11700/I23 -> 1026.3158 | I23: 11.4 | J23: 217 | K23: 31 | L23: 13.6 | N23: zagon 23.5.2022 hrib povzroči predčasni zahod sonca za 90 minut, ena celica menjana zaradi okvare lota | P23: SE - moč 9,02 kw, azimut 150,5°, naklon strehe 42°. 22 panelov po 410 kw.
A24: 21 | B24: bojan03 | C24: okolica Medvod | D24: 11800 | E24: =D24/I24 -> 1068.8406 | F24: 1077.8986 | G24: =8250/I24 -> 747.28261 | I24: =5.06+5.98 -> 11.04 | J24: 5.06 kW, 150 5.98 kW, 240 | K24: 30 30 | L24: 11.04 | M24: 11.04 | N24: priklop 19.5.2023 paneli na azimutu 150° so dali 4,4% boljši pridelek | P24: Proizvodnja leto 2023 11940 kw oz. 1323,72 MWh/kWp.
A25: 22 | B25: veli | C25: Cerknica | E25: =D25/I25 -> 0 | G25: =14400/I25 -> 1263.1579 | I25: 11.4 | J25: 211 | K25: 39 | L25: 11.4 | M25: 11.2 | P25: Elektrarna v pogonu od 22.9.2022.
A26: 23 | B26: jormam | C26: Tolmin | E26: =D26/I26 -> 0 | F26: 1036.3924 | G26: =14600/I26 -> 1155.0633 | H26: =16300/I26 -> 1289.557 | I26: =32*0.395 -> 12.64 | J26: 173 | K26: 36.2 | L26: 11.2 | P26: Proizvodnja leto 2022 2,09 Mwh
A27: 24 | B27: Migaj | C27: na desni strani Mure | E27: =D27/I27 -> 0 | F27: 1250 | G27: =12660/I27 -> 1130.3571 | I27: 11.2 | J27: 194 | K27: 27 | L27: 11.2 | N27: Pridelek od 22.2.2023 do 31.12.2023 = 12,66MWh. | P27: Proizvodnja od 22.9.2023 do 31.12.2023 - 2330 kw oz. 11% več kot 2022.
A28: 25 | B28: Avatar | C28: Šentvid pri Grobelnem | E28: =D28/I28 -> 0 | F28: 1273.4375 | G28: =16520/I28 -> 1290.625 | I28: 12.8 | J28: 194 | K28: 38 | L28: 11.2 | M28: 11.1 | N28: Dopoldne rahlo senčenje od drevesa in pozimi popoldne nekaj panelov zakrije streha.
A29: 26 | B29: rorex | C29: Prekmurje | E29: =D29/I29 -> 0 | G29: =14400/I29 -> 1200 | I29: 12 | J29: 131 | K29: 20 | L29: 11.4 | M29: 11.2
A30: 27 | B30: M0rph3u5 | C30: okolica Mokronoga | E30: =D30/I30 -> 0 | G30: =12530/I30 -> 1305.2083 | H30: =3250/I30 -> 338.54167 | I30: 9.6 | J30: 190 | K30: 43 | L30: 9.6 | M30: 9.6 | N30: SE aktivna od 22.8.2022
A31: 28 | B31: Caps (gost) | C31: okolica Vipave | D31: 13190 | E31: =D31/I31 -> 1237.3358 | F31: 1184.803 | G31: =1390/I31 -> 130.394 | I31: 10.66 | J31: 150 | K31: 20 | L31: 10.5 | N31: Priklop oktober 2023
A32: 29 | B32: wilson34 | C32: Prekmurje | D32: 11000 | E32: =D32/I32 -> 1057.6923 | F32: 1105.7692 | G32: =9340/I32 -> 898.07692 | H32: =12300/I32 -> 1182.6923 | I32: 10.4 | J32: 5.2 kW, 125 5.2 kW, 215 | K32: 35 | N32: Zagon december 2020. Cel julij in pol avgusta 2023 je bila elektrarna izklopljena.
A33: 30 | B33: sašo65 | C33: Brežice | E33: =D33/I33 -> 0 | I33: 11.47 | J33: 194 | K33: 25 | L33: 11.2 | M33: 10.9 | N33: Zagon julij 2023 kWp = 27 x 425W
A34: 31 | B34: Celje | C34: okolica Celja | E34: =D34/I34 -> 0 | I34: 15.6 | J34: 6.746 kW, 136.4 8.854 kW, 223.5 | K34: ? | L34: 13.6 | N34: Začetek obratovanja 9/2023 | P34: ime: slepec
A35: 32 | B35: vrzislo | C35: Ljubno ob Savinji | D35: 17200 | E35: =D35/I35 -> 1155.914 | F35: 1135.7527 | G35: =16618/I35 -> 1116.8011 | I35: 14.88 | J35: 135 | K35: 32 | M35: 10.8 | N35: V zimskem času senčenje predvsem spodnje vrste zaradi dreves v bližini. Okoli 10 dni ni bilo pravega delovanja Solar Edge zaradi udara strele v juliju (2023). SE postavljena v letu 2019. | P35: lokacija: okolica Litija 505 višina
A36: 33 | B36: Mr_Fizl | C36: Dol pri Ljubljani | E36: =D36/I36 -> 0 | F36: 1071.4286 | I36: 14.56 | J36: 126 | K36: ? | P36: pridelek 2023: 6,75 MWh,dec 650kwh
A37: 34 | B37: oTTo | C37: Škofja Loka | E37: =D37/I37 -> 0 | G37: =797/I37 -> 68.647717 | I37: 11.61 | J37: 209 | K37: 36 | M37: 10.8 | N37: Zagnana 17.11.2023 | P37: paneli: 33x410W = 13.53kW
A38: 35 | B38: ufm | C38: Osrednja Slovenija, 380 m n.v. | E38: =D38/I38 -> 0 | I38: =28*0.44 -> 12.32 | J38: 8.36 kW, 245 3.96 kW, 65 | K38: 29 19 | L38: 3 | M38: 2.85 | N38: Zagon 18.10.2023 Baterija 9.2 kW Limitirana proizvodnja na 10 kW, soglasje z omejitvijo 3 kW. | P38: azimut 155
A39: 36 | B39: Letalec | C39: okolica Bleda | D39: 14917 | E39: =D39/I39 -> 1270.0724 | F39: 1160.4938 | I39: 11.745 | J39: 145 | K39: 40 | L39: 11.2 | N39: Priklop 5.2.2024 | P39: naklon 35*
A40: 37 | B40: misace | C40: pri Radovljici | E40: =D40/I40 -> 0 | I40: 11.56 | J40: 8.16 kW, 135 3.40 kW, 225 | K40: 45 35 | M40: 10.56 | N40: Priklop marec 2022 | P40: soglasje: 13,6 kW
A41: 38 | B41: simbala007 | C41: okolica Zagorja ob Savi | D41: 13600 | E41: =D41/I41 -> 1103.4483 | F41: =12400/I41 -> 1006.0852 | I41: 12.325 | J41: 11.475 kW, 125.9 0.850 kW, 305.9 | K41: 16.6 16.8 | L41: 11.28 | M41: 10.6 | N41: Priklop 28.2.2024 TČ le za sanitarno vodo | P41: opombe: priklop 10.7.2023
A42: 39 | B42: shock | C42: Koper | D42: 17100 | E42: =D42/I42 -> 1401.6393 | F42: 882.70492 | I42: 12.2 | J42: 170 | K42: 25 | N42: Priklop zadnji teden maja 2024. Pridelek od konca maja do 31.12.2024: 10769 kWh Na strehi imamo tri dimnike, ki bodo v zimskem času metali senco na sončne panele.
A43: 40 | B43: DejanB | C43: Ljubljana Barje | E43: =D43/I43 -> 0 | G43: =1064/I43 -> 385.50725 | I43: 2.76 | J43: 180 | K43: 8 | L43: 0 | M43: 0.15 | N43: Priklop 25.6.2023, ZeroExport Izmenično senčenje 4 panelov (sosedov satelitski krožnik) | P43: ime: JaBK
A44: 41 | B44: Irmscher | C44: Ljubljana - okolica | D44: 18760 | E44: =D44/I44 -> 1218.1818 | F44: 548.05195 | I44: =35*0.44 -> 15.4 | J44: 12.76 kW, 202 2.64 kW, 202 | K44: 35 9 | L44: 13.7 | N44: Priklop 1.7.2024. Paneli 35x440W Jinko. Od 1.7.-31.12.2024 je bilo 8.44 MWh (avgusta 7 dni blackout) | P44: lokacija: okolica Kranja
A45: 42 | B45: bohinc | C45: Bohinj | D45: 10700 | E45: =10700/10.56 -> 1013.2576 | F45: 625 | I45: 13.2 | J45: 5.28 kW, 210 4.40 kW, 100 1.76 kW, 200 0.88 kW, 190 0.44 kW, 280 0.44 kW, 190 | K45: 52 48 12 16 25 16 | L45: 13.6 | N45: Začetek delovanja (uradni) 3.6.2024. Pred tem SE proizvedla 742 kWh (86+586+70). SE 10.56 kW + baterija. Možnost oddajne moči 13.6 kW. 30.4.2026: popravek oz. k 1,76kW azimuta 100, naklona 48 pripišeš dodatnih 2.64kW . SE iz 10.56 pa je 13.2kW, 30 panelov. | P45: pridelek 2023: 14127kWh
A46: 43 | B46: marko71 | C46: Cerknica | D46: 10332 | E46: =D46/I46 -> 903.14685 | I46: 11.44 | J46: 210 | K46: 32.5 | N46: Priklop 19.9.2024. Dimnik senči panele. | P46: paneli 1: 13,5 kWp, azimut 249°, naklon 38°
A47: 44 | B47: lokos | C47: Trebnje | D47: 16960 | E47: =D47/I47 -> 1239.7661 | F47: 1240.4971 | G47: =16660/I47 -> 1217.8363 | I47: =36*0.38 -> 13.68 | J47: 168 | K47: 17 | L47: 13.6 | M47: 13.5 | P47: soglasje: 13,5 kW
A48: 45 | B48: gt001 | C48: Celje okolica | D48: 9700 | E48: =D48/I48 -> 1037.4332 | F48: 1090.9091 | I48: 9.35 | J48: 99 | K48: 7 | M48: 6.18 | N48: 2024 je prvo celo leto obratovanja SE. | P48: omejitev oddaje v omrežje (export): 13,4 kW
A49: 46 | B49: Lentus | C49: okolica Murske Sobote | D49: 10500 | E49: =D49/I49 -> 786.51685 | I49: 13.35 | J49: 9.79 kW, 191 2.67 kW, 101 0.89 kW, 101 | K49: 17 27 27-x ?? | L49: 2.67 | M49: 2.4 | N49: Hibridna SE, zagon 25.2.2025. Paneli: Trina Solar Vertex S 445W x 30 komadov (Tigo optimizatorji) Hranilniki: 2 v skupni kapaciteti 20.5 kWh. Po novi shemi. N-Gen. | P49: opombe: all black paneli (naj bi delali cca 3% slabše)
P50: Koledarsko leto 2023: 14127kWh oziroma 1046kWh/kWp
P51: Koledarsko leto 2022: 15394kWh oziroma 1140kWh/kWp
P53: ime: pregela
P54: lokacija: Litija
P55: pridelek 2023: 9830kWh
P56: paneli 1: 32x300W = 9,6 kWp, azimut 240°, naklon 30°
P57: soglasje: 9,6 kW
P58: omejitev oddaje v omrežje (export): 9,6 kW
P59: opombe:
P60: 2022 10.923 kWh 1138kWh/kWp
P61: 2023 9.830 kWh 1024kWh/kWp
P63: ime: Labelsm
... P278: Izračun moči polj (Caps)
P279: =15.6*16/(16+21) -> 6.7459459
P280: =15.6*21/(16+21) -> 8.8540541
P282: vrzislo je 20.1.2024 sporočil (pozabil je lokacijo)
P283: Obračun za leto 2023.
P284: SE 14,88 kWp, orientacija 135, kot 32 stopinj. Omejitev oddaje na 10,8 kWh, v zimskem času senčenje predvsem spodnje vrste zaradi dreves v bližini.
P285: Prevzeto elektrika iz omrežja 17.009 kWh, oddano v omrežje 12.427kWh.
P286: Poračun 4582 kWh znese 744,57€ brez ddv.
P287: Direktna poraba po energo metru 4500 kWh, skupna poraba hiše okoli 21.200
P288: Okoli 10 dni ni bilo pravega delovanja Solar Edge zaradi udara strele v juliju.
P289: Pri hiši se za kuhanje deloma uporablja plin, bencin samo za vrtno kosilnico. Vsi prevozi na elektriko. Polnjenje vršimo 99 procentov doma.
P291: wilson34 je 20.1.2024 sporočil
P292: Pa se tole:
P293: 16 panelov 35naklona in 125azimut (garaža)
P294: 16 panelov 35naklona in 215azimut (hiša)
... P379: Ogrevanje sanitarne vode: 148,61kWh
P381: 45383
P382: Pridelek S : 246,9kWh (Od tega oddano v omrežje 4,8kWh)
P383: Poraba hiše: 911,6kWh
P384: Ogrevanje eloBLOCK: 250kWh
P385: Ogrevanje/Hlajenje AC: 47kWh
P386: Ogrevanje sanitarne vode: 141,7kWh
P388: Maj 2024
P389: Pridelek SE : 209,6kWh (Od tega oddano v omrežje 2,1kWh)
P390: Poraba hiše : 660,1kWh
P391: Ogrevanje eloBLOCK: 35,6kWh
P392: Ogrevanje/Hlajenje AC: 24,8kWh
P393: Ogrevanje sanitarne vode: 99,06kWh
P395: 16.1.2024
... P407: 6 x Tilt 9 , Azimuth 202

Sheet SE_2023_WORK
L1: SE_2023_forum | BN1: Komentar: "kWh/kWp", enote tega kvocienta so ure. To pomeni, koliko ur bi morala delovati SE z nazivno močjo panelov, da bi proizvedla enako energije. Navadno leto ima 8760 ur.
B2: 13.1.2025
B3: Ime | C3: Lokacija | D3: Pridelek SE 21.12.2024 kWh | E3: Relat. pridelek SE 21.12.2024 kWh/kWp | F3: Pridelek SE maj 2024 kWh | G3: Relat. pridelek SE maj 2024 kWh/kWp | H3: Celotna poraba maj 2024 kWh | I3: Poraba za EV maj 2024 kWh | J3: Poraba za TČ maj 2024 kWh | L3: Ime | M3: Lokacija | N3: Pridelek SE april 2024 kWh | O3: Relat. pridelek SE april 2024 kWh/kWp | P3: Celotna poraba april 2024 kWh | Q3: Poraba za EV april 2024 kWh | R3: Poraba za TČ april 2024 kWh | T3: Ime | U3: Lokacija | V3: Pridelek SE marec 2024 kWh | W3: Relat. pridelek SE marec 2024 kWh/kWp | X3: Celotna poraba marec 2024 kWh | Y3: Poraba za EV marec 2024 kWh | Z3: Poraba za TČ marec 2024 kWh | AA3: Pridelek SE marec 2023 kWh | AB3: Relat. pridelek SE marec 2023 kWh/kWp | AC3: Celotna poraba marec 2023 kWh | AD3: Poraba za EV marec 2023 kWh | AE3: Poraba za TČ marec 2023 kWh | AG3: =L3 -> Ime | AH3: =M3 -> Lokacija | AI3: Pridelek SE februar 2024 kWh | AJ3: Relat. pridelek SE februar 2024 kWh/kWp | AK3: Celotna poraba februar 2024 kWh | AL3: Poraba za EV februar 2024 kWh | AM3: Poraba za TČ februar 2024 kWh | AN3: Pridelek SE februar 2023 kWh | AO3: Relat. pridelek SE februar 2023 kWh/kWp | AP3: Celotna poraba februar 2023 kWh | AQ3: Poraba za EV februar 2023 kWh | AR3: Poraba za TČ februar 2023 kWh | AT3: =L3 -> Ime | AU3: =M3 -> Lokacija | AV3: Pridelek SE januar 2024 kWh | AW3: Relat. pridelek SE januar 2024 kWh/kWp | AX3: Celotna poraba januar 2024 kWh | AY3: Poraba za EV januar 2024 kWh | AZ3: Poraba za TČ januar 2024 kWh | BA3: Pridelek SE januar 2023 kWh | BB3: Relat. pridelek SE januar 2023 kWh/kWp | BC3: Celotna poraba januar 2023 kWh | BD3: Poraba za EV januar 2023 kWh | BE3: Poraba za TČ januar 2023 kWh | BG3: Pridelek 17.1.2024 kWh | BH3: Relat. pridelek 17.1.2024 kWh/kWp | BI3: Poraba energije v objektu 17.1.2024 | BJ3: Pridelek 16.1.2024 kWh | BK3: Relat. pridelek 16.1.2024 kWh/kWp | BL3: Poraba energije v objektu 16.1.2024 | BM3: Pridelek 2023, kWh | BN3: Leto 2023 kWh/kWp | BO3: Leto 2022 kWh/kWp | BP3: Paneli, kWp | BQ3: Azimut, ° | BR3: Naklon, ° | BS3: Soglasje, kW | BT3: Export omejitev, kW | BU3: Opombe
A4: =SE_2023!A4 -> 1 | B4: =SE_2023!$B4 -> Caps | C4: =SE_2023!$C4 -> sever Ljubljane | D4: 14.34 | E4: =D4/$BP4 -> 1.419802 | F4: 1234 | G4: =F4/$BP4 -> 122.17822 | H4: 300 | L4: =SE_2023!$B4 -> Caps | M4: =SE_2023!$C4 -> sever Ljubljane | N4: 1273 | O4: =N4/$BP4 -> 126.0396 | P4: 447 | T4: =SE_2023!$B4 -> Caps | U4: =SE_2023!$C4 -> sever Ljubljane | V4: 844 | W4: =V4/$BP4 -> 83.564356 | X4: 883 | AA4: 917 | AB4: =AA4/$BP4 -> 90.792079 | AC4: 974 | AG4: =L4 -> Caps | AH4: =M4 -> sever Ljubljane | AI4: 506 | AJ4: =AI4/BP4 -> 50.09901 | AK4: =AI4/0.54 -> 937.03704 | AN4: 661 | AO4: =AN4/BP4 -> 65.445545 | AP4: =AN4/0.95 -> 695.78947 | AT4: =L4 -> Caps | AU4: =M4 -> sever Ljubljane | AV4: 361 | AW4: =AV4/BP4 -> 35.742574 | AX4: 1560 | AZ4: 1284 | BA4: 222 | BB4: =BA4/BP4 -> 21.980198 | BC4: 124 | BG4: 2.14 | BH4: =BG4/BP4 -> 0.21188119 | BI4: 41.16 kWh | BJ4: 21 | BK4: =BJ4/BP4 -> 2.0792079 | BL4: 40 kWh | BM4: =SE_2023!F4 -> 1045.5446 | BN4: =SE_2023!G4 -> 1087.0297 | BO4: =SE_2023!H4 -> 0 | BP4: =SE_2023!I4 -> 10.1 | BQ4: =SE_2023!J4 -> 160 | BR4: =SE_2023!K4 -> 21 | BS4: =SE_2023!L4 -> 10.1 | BT4: =SE_2023!M4 -> 9.7 | BU4: =SE_2023!N4 -> senčenje panelov v mesecih 11-2 od 10. do 14. ure (sosedi na jugu)
A5: =SE_2023!A5 -> 2 | B5: =SE_2023!$B5 -> cimi82 | C5: =SE_2023!$C5 -> okolica NM | D5: 55.28 | E5: =D5/$BP5 -> 4.1626506 | F5: 1820 | G5: =F5/$BP5 -> 137.04819 | H5: 870 | L5: =SE_2023!$B5 -> cimi82 | M5: =SE_2023!$C5 -> okolica NM | N5: 1900 | O5: =N5/$BP5 -> 143.07229 | P5: 801 | T5: =SE_2023!$B5 -> cimi82 | U5: =SE_2023!$C5 -> okolica NM | V5: 1380 | W5: =V5/$BP5 -> 103.91566 | X5: 896 | AB5: =AA5/$BP5 -> 0 | AG5: =L5 -> cimi82 | AH5: =M5 -> okolica NM | AI5: 1065 | AJ5: =AI5/BP5 -> 80.195783 | AK5: 726 | AO5: =AN5/BP5 -> 0 | AT5: =L5 -> cimi82 | AU5: =M5 -> okolica NM | AV5: 1017 | AW5: =AV5/BP5 -> 76.581325 | AX5: 845 | AY5: 350 do 400 | BG5: 5.32 | BH5: =BG5/BP5 -> 0.40060241 | BI5: 37.6 kWh | BJ5: 7.43 | BK5: =BJ5/BP5 -> 0.55948795 | BL5: 10.4 kWh | BM5: =SE_2023!F5 -> 1310.994 | BN5: =SE_2023!G5 -> 1097.1386 | BO5: =SE_2023!H5 -> 0 | BP5: =SE_2023!I5 -> 13.28 | BQ5: =SE_2023!J5 -> 170 | BR5: =SE_2023!K5 -> 40 | BS5: =SE_2023!L5 -> 13.6 | BT5: =SE_2023!M5 -> 0 | BU5: =SE_2023!N5 -> priklop 20.3.2023 | BW5: wilson34 javil 20.1.2024
A6: =SE_2023!A6 -> 3 | B6: =SE_2023!$B6 -> xavi | C6: =SE_2023!$C6 -> Maribor - Zrkovci | D6: 31.2 | E6: =D6/$BP6 -> 3.45898 | F6: 1320 | G6: =F6/$BP6 -> 146.34146 | H6: 418 | L6: =SE_2023!$B6 -> xavi | M6: =SE_2023!$C6 -> Maribor - Zrkovci | N6: 1330 | O6: =N6/$BP6 -> 147.45011 | P6: 614 | T6: =SE_2023!$B6 -> xavi | U6: =SE_2023!$C6 -> Maribor - Zrkovci | V6: 982 | W6: =V6/$BP6 -> 108.86918 | X6: 781 | AA6: 994 | AB6: =AA6/$BP6 -> 110.19956 | AG6: =L6 -> xavi | AH6: =M6 -> Maribor - Zrkovci | AI6: =BP6*82.15 -> 740.993 | AJ6: =AI6/BP6 -> 82.15 | AK6: =AI6+642.28-532.98 -> 850.293 | AO6: =AN6/BP6 -> 0 | AT6: =L6 -> xavi | AU6: =M6 -> Maribor - Zrkovci | AV6: 663 | AW6: =AV6/BP6 -> 73.503326 | AX6: 1289 | BA6: 410 | BB6: =BA6/BP6 -> 45.454545 | BG6: 3.21 | BH6: =BG6/BP6 -> 0.35587583 | BI6: 42.47 | BJ6: 31 | BK6: =BJ6/BP6 -> 3.4368071 | BL6: 47.11 kWh | BM6: =SE_2023!F6 -> 1352.5499 | BN6: =SE_2023!G6 -> 1323.7251 | BO6: =SE_2023!H6 -> 0 | BP6: =SE_2023!I6 -> 9.02 | BQ6: =SE_2023!J6 -> 150.5 | BR6: =SE_2023!K6 -> 42 | BS6: =SE_2023!L6 -> 10.25 | BT6: =SE_2023!M6 -> 0 | BU6: =SE_2023!N6 -> Elektrarna v pogonu od 22.9.2022. Proizvodnja leto 2022 2,09 MWh Proizvodnja od 22.9.2023 do 31.12.2023 - 2330 kWh oz. 11% več kot 2022. | BW6: Solaredge+prejeta-oddana
A7: =SE_2023!A7 -> 4 | B7: =SE_2023!$B7 -> slepec | C7: =SE_2023!$C7 -> okolica Litije, višina 505 | D7: 52 | E7: =D7/$BP7 -> 3.8433112 | F7: 1850 | G7: =F7/$BP7 -> 136.73319 | H7: 1030 | L7: =SE_2023!$B7 -> slepec | M7: =SE_2023!$C7 -> okolica Litije, višina 505 | N7: 1920 | O7: =N7/$BP7 -> 141.90687 | P7: 980 | T7: =SE_2023!$B7 -> slepec | U7: =SE_2023!$C7 -> okolica Litije, višina 505 | V7: 1350 | W7: =V7/$BP7 -> 99.778271 | X7: 1150 | Y7: 300 | AB7: =AA7/$BP7 -> 0 | AG7: =L7 -> slepec | AH7: =M7 -> okolica Litije, višina 505 | AI7: 950 | AJ7: =AI7/BP7 -> 70.214339 | AK7: 1470 | AL7: 670 | AM7: =202+100 -> 302 | AO7: =AN7/BP7 -> 0 | AT7: =L7 -> slepec | AU7: =M7 -> okolica Litije, višina 505 | AV7: 1102 | AW7: =AV7/BP7 -> 81.448633 | AX7: 1500 | AY7: 450 | AZ7: =450+110 -> 560 | BC7: 980 | BE7: =400+135 -> 535 | BG7: 5.5 | BH7: =BG7/BP7 -> 0.40650407 | BI7: 70 kWh (25+45) hiša, EV | BJ7: 42 | BK7: =BJ7/BP7 -> 3.1042129 | BL7: 30 kWh EV se ni polnil | BM7: =SE_2023!F7 -> 1282.3356 | BN7: =SE_2023!G7 -> 498.89135 | BO7: =SE_2023!H7 -> 0 | BP7: =SE_2023!I7 -> 13.53 | BQ7: =SE_2023!J7 -> 155 | BR7: =SE_2023!K7 -> 35 | BS7: =SE_2023!L7 -> 13.6 | BT7: =SE_2023!M7 -> 13.5 | BU7: =SE_2023!N7 -> priklop 10.7.2023 | BW7: Torek 16: 16.4+54.34-6.39=48.01
A8: =SE_2023!A8 -> 5 | B8: =SE_2023!$B8 -> JaBK | C8: =SE_2023!$C8 -> okolica Kranja | D8: 30.5 | E8: =D8/$BP8 -> 2.2592593 | G8: =F8/$BP8 -> 0 | L8: =SE_2023!$B8 -> JaBK | M8: =SE_2023!$C8 -> okolica Kranja | O8: =N8/$BP8 -> 0 | T8: =SE_2023!$B8 -> JaBK | U8: =SE_2023!$C8 -> okolica Kranja | W8: =V8/$BP8 -> 0 | AB8: =AA8/$BP8 -> 0 | AG8: =L8 -> JaBK | AH8: =M8 -> okolica Kranja | AI8: =BP8*48.4 -> 653.4 | AJ8: =AI8/BP8 -> 48.4 | AO8: =AN8/BP8 -> 0 | AT8: =L8 -> JaBK | AU8: =M8 -> okolica Kranja | BG8: 4.83 | BH8: =BG8/BP8 -> 0.35777778 | BI8: 41 kWh | BJ8: 28.5 | BK8: =BJ8/BP8 -> 2.1111111 | BL8: 42.5 kWh | BM8: =SE_2023!F8 -> 981.55556 | BN8: =SE_2023!G8 -> 1046.4444 | BO8: =SE_2023!H8 -> 1140.2963 | BP8: =SE_2023!I8 -> 13.5 | BQ8: =SE_2023!J8 -> 249 | BR8: =SE_2023!K8 -> 38 | BS8: =SE_2023!L8 -> 13.5 | BT8: =SE_2023!M8 -> 13.4 | BU8: =SE_2023!N8 -> all black paneli (naj bi delali cca 3% slabše) Koledarsko leto 2022: 15394kWh oziroma 1140kWh/kWp | BW8: Sreda 17: 3.04+54.54-0=57.58
A9: =SE_2023!A9 -> 6 | B9: =SE_2023!$B9 -> pregela | C9: =SE_2023!$C9 -> Litija | E9: =D9/$BP9 -> 0 | G9: =F9/$BP9 -> 0 | L9: =SE_2023!$B9 -> pregela | M9: =SE_2023!$C9 -> Litija | O9: =N9/$BP9 -> 0 | T9: =SE_2023!$B9 -> pregela | U9: =SE_2023!$C9 -> Litija | W9: =V9/$BP9 -> 0 | AB9: =AA9/$BP9 -> 0 | AG9: =L9 -> pregela | AH9: =M9 -> Litija | AJ9: =AI9/BP9 -> 0 | AO9: =AN9/BP9 -> 0 | AT9: =L9 -> pregela | AU9: =M9 -> Litija | BK9: =BJ9/BP9 -> 0 | BM9: =SE_2023!F9 -> 1010.4167 | BN9: =SE_2023!G9 -> 1023.9583 | BO9: =SE_2023!H9 -> 1137.8125 | BP9: =SE_2023!I9 -> 9.6 | BQ9: =SE_2023!J9 -> 240 | BR9: =SE_2023!K9 -> 30 | BS9: =SE_2023!L9 -> 9.6 | BT9: =SE_2023!M9 -> 9.6 | BU9: =SE_2023!N9 -> 2022 10923 kWh 1138kWh/kWp | BW9: Četrtek 18: 9.06+27.75-4.91=31.9
A10: =SE_2023!A10 -> 7 | B10: =SE_2023!$B10 -> labelsm | C10: =SE_2023!$C10 -> Zgornje Hoče pri MB | E10: =D10/$BP10 -> 0 | G10: =F10/$BP10 -> 0 | L10: =SE_2023!$B10 -> labelsm | M10: =SE_2023!$C10 -> Zgornje Hoče pri MB | O10: =N10/$BP10 -> 0 | T10: =SE_2023!$B10 -> labelsm | U10: =SE_2023!$C10 -> Zgornje Hoče pri MB | W10: =V10/$BP10 -> 0 | AB10: =AA10/$BP10 -> 0 | AG10: =L10 -> labelsm | AH10: =M10 -> Zgornje Hoče pri MB | AJ10: =AI10/BP10 -> 0 | AO10: =AN10/BP10 -> 0 | AT10: =L10 -> labelsm | AU10: =M10 -> Zgornje Hoče pri MB | AV10: 470 | AW10: =AV10/BP10 -> 36.153846 | AX10: 1850 | AZ10: 1310 | BG10: 6.5 | BH10: =BG10/BP10 -> 0.5 | BI10: 45 kWh do 20h | BJ10: 21.5 | BK10: =BJ10/BP10 -> 1.6538462 | BL10: 63.5 kWh do 22h | BM10: =SE_2023!F10 -> 0 | BN10: =SE_2023!G10 -> 1053.8462 | BO10: =SE_2023!H10 -> 0 | BP10: =SE_2023!I10 -> 13 | BQ10: =SE_2023!J10 -> 245 | BR10: =SE_2023!K10 -> 30 | BS10: =SE_2023!L10 -> 11 | BT10: =SE_2023!M10 -> 10.9 | BU10: =SE_2023!N10 -> Priklop 25.1.2023 black paneli Paneli so senčeni zaradi manjšega gozda od 13.45 h naprej | BW10: Petek 19: 0.42+60.82-0=61.24
A11: =SE_2023!A11 -> 8 | B11: =SE_2023!$B11 -> letalec007 | C11: =SE_2023!$C11 -> okolica Cerknice | D11: 12.2 | E11: =D11/$BP11 -> 1.2512821 | F11: 1080 | G11: =F11/$BP11 -> 110.76923 | H11: 677.51 | L11: =SE_2023!$B11 -> letalec007 | M11: =SE_2023!$C11 -> okolica Cerknice | N11: 1200 | O11: =N11/$BP11 -> 123.07692 | P11: 780.06 | T11: =SE_2023!$B11 -> letalec007 | U11: =SE_2023!$C11 -> okolica Cerknice | V11: 840 | W11: =V11/$BP11 -> 86.153846 | X11: 844.66 | AA11: 866 | AB11: =AA11/$BP11 -> 88.820513 | AC11: 936.5 | AG11: =L11 -> letalec007 | AH11: =M11 -> okolica Cerknice | AI11: 549 | AJ11: =AI11/BP11 -> 56.307692 | AK11: 858 | AM11: 357.9 | AN11: 354 | AO11: =AN11/BP11 -> 36.307692 | AP11: 1024.8 | AR11: 527.3 | AT11: =L11 -> letalec007 | AU11: =M11 -> okolica Cerknice | AV11: 484 | AW11: =AV11/BP11 -> 49.641026 | AX11: 1194.79 | AZ11: 541.5 | BA11: 133 | BB11: =BA11/BP11 -> 13.641026 | BC11: 1198.55 | BE11: 494.3 | BG11: 0.702 | BH11: =BG11/BP11 -> 0.072 | BI11: 33 kWh do 20h | BJ11: 27.6 | BK11: =BJ11/BP11 -> 2.8307692 | BM11: =SE_2023!F11 -> 1106.6667 | BN11: =SE_2023!G11 -> 1097.4359 | BO11: =SE_2023!H11 -> 0 | BP11: =SE_2023!I11 -> 9.75 | BQ11: =SE_2023!J11 -> 3.75 kW, 158.5 6 kW, 247.9 | BR11: =SE_2023!K11 -> 33 33 | BS11: =SE_2023!L11 -> 11.2 | BT11: =SE_2023!M11 -> 11 | BU11: =SE_2023!N11 -> v zimskem času so nekateri paneli v senci (sosednje stavbe)
A12: =SE_2023!A12 -> 9 | B12: =SE_2023!$B12 -> vuego | C12: =SE_2023!$C12 -> okolica Kamnika | E12: =D12/$BP12 -> 0 | G12: =F12/$BP12 -> 0 | L12: =SE_2023!$B12 -> vuego | M12: =SE_2023!$C12 -> okolica Kamnika | O12: =N12/$BP12 -> 0 | T12: =SE_2023!$B12 -> vuego | U12: =SE_2023!$C12 -> okolica Kamnika | W12: =V12/$BP12 -> 0 | AB12: =AA12/$BP12 -> 0 | AG12: =L12 -> vuego | AH12: =M12 -> okolica Kamnika | AJ12: =AI12/BP12 -> 0 | AO12: =AN12/BP12 -> 0 | AT12: =L12 -> vuego | AU12: =M12 -> okolica Kamnika | BK12: =BJ12/BP12 -> 0 | BM12: =SE_2023!F12 -> 0 | BN12: =SE_2023!G12 -> 1129.9391 | BO12: =SE_2023!H12 -> 0 | BP12: =SE_2023!I12 -> 11.49 | BQ12: =SE_2023!J12 -> 225 | BR12: =SE_2023!K12 -> 35 | BS12: =SE_2023!L12 -> 10 | BT12: =SE_2023!M12 -> 9.99 | BU12: =SE_2023!N12 -> v zimskem času so nekateri paneli popoldne v senci (drevesa na sosednji parceli) | BW12: cimi82 je 24.1.2024 sporočil:
A13: =SE_2023!A13 -> 10 | B13: =SE_2023!$B13 -> Dave | C13: =SE_2023!$C13 -> okolica Črnomlja | D13: 22.8 | E13: =D13/$BP13 -> 1.7117117 | G13: =F13/$BP13 -> 0 | L13: =SE_2023!$B13 -> Dave | M13: =SE_2023!$C13 -> okolica Črnomlja | O13: =N13/$BP13 -> 0 | T13: =SE_2023!$B13 -> Dave | U13: =SE_2023!$C13 -> okolica Črnomlja | W13: =V13/$BP13 -> 0 | AB13: =AA13/$BP13 -> 0 | AG13: =L13 -> Dave | AH13: =M13 -> okolica Črnomlja | AJ13: =AI13/BP13 -> 0 | AO13: =AN13/BP13 -> 0 | AT13: =L13 -> Dave | AU13: =M13 -> okolica Črnomlja | AV13: 491 | AW13: =AV13/BP13 -> 36.861862 | AZ13: 599 | BK13: =BJ13/BP13 -> 0 | BM13: =SE_2023!F13 -> 1135.8859 | BN13: =SE_2023!G13 -> 1132.8829 | BO13: =SE_2023!H13 -> 0 | BP13: =SE_2023!I13 -> 13.32 | BQ13: =SE_2023!J13 -> 132 | BR13: =SE_2023!K13 -> 30 | BS13: =SE_2023!L13 -> 13.6 | BT13: =SE_2023!M13 -> 13.4 | BU13: =SE_2023!N13 -> 0 | BW13: Moji podatki o porabi:
A14: =SE_2023!A14 -> 11 | B14: =SE_2023!$B14 -> MAGS | C14: =SE_2023!$C14 -> okolica Novega mesta | E14: =D14/$BP14 -> 0 | G14: =F14/$BP14 -> 0 | L14: =SE_2023!$B14 -> MAGS | M14: =SE_2023!$C14 -> okolica Novega mesta | O14: =N14/$BP14 -> 0 | T14: =SE_2023!$B14 -> MAGS | U14: =SE_2023!$C14 -> okolica Novega mesta | V14: 914 | W14: =V14/$BP14 -> 81.973094 | X14: 1081 | AA14: 917 | AB14: =AA14/$BP14 -> 82.242152 | AC14: 1060 | AG14: =L14 -> MAGS | AH14: =M14 -> okolica Novega mesta | AJ14: =AI14/BP14 -> 0 | AO14: =AN14/BP14 -> 0 | AT14: =L14 -> MAGS | AU14: =M14 -> okolica Novega mesta | AV14: 335 | AW14: =AV14/BP14 -> 30.044843 | AX14: 1535 | AY14: 285.5 | AZ14: 834 | BA14: 197 | BB14: =BA14/BP14 -> 17.668161 | BC14: 1142 | BE14: 708 | BG14: 3.4 | BH14: =BG14/BP14 -> 0.30493274 | BI14: 29.9 kWh | BJ14: 15.7 | BK14: =BJ14/BP14 -> 1.4080717 | BL14: 63.6 kWh | BM14: =SE_2023!F14 -> 0 | BN14: =SE_2023!G14 -> 968.60987 | BO14: =SE_2023!H14 -> 1103.139 | BP14: =SE_2023!I14 -> 11.15 | BQ14: =SE_2023!J14 -> 110 | BR14: =SE_2023!K14 -> 30 | BS14: =SE_2023!L14 -> 11.2 | BT14: =SE_2023!M14 -> 11.11 | BU14: =SE_2023!N14 -> Zagon aprila 2020 | BW14: 16.1. - poraba 10.4 kWh
A15: =SE_2023!A15 -> 12 | B15: =SE_2023!$B15 -> Fery | C15: =SE_2023!$C15 -> Cerknica | E15: =D15/$BP15 -> 0 | G15: =F15/$BP15 -> 0 | L15: =SE_2023!$B15 -> Fery | M15: =SE_2023!$C15 -> Cerknica | O15: =N15/$BP15 -> 0 | T15: =SE_2023!$B15 -> Fery | U15: =SE_2023!$C15 -> Cerknica | W15: =V15/$BP15 -> 0 | AB15: =AA15/$BP15 -> 0 | AG15: =L15 -> Fery | AH15: =M15 -> Cerknica | AI15: 795 | AJ15: =AI15/BP15 -> 50 | AN15: 1090 | AO15: =AN15/BP15 -> 68.553459 | AT15: =L15 -> Fery | AU15: =M15 -> Cerknica | AV15: 930 | AW15: =AV15/BP15 -> 58.490566 | BA15: 290 | BB15: =BA15/BP15 -> 18.238994 | BK15: =BJ15/BP15 -> 0 | BM15: =SE_2023!F15 -> 0 | BN15: =SE_2023!G15 -> 1195.8333 | BO15: =SE_2023!H15 -> 0 | BP15: =SE_2023!I15 -> 15.9 | BQ15: =SE_2023!J15 -> 180 | BR15: =SE_2023!K15 -> 41 | BS15: =SE_2023!L15 -> 0 | BT15: =SE_2023!M15 -> 10.8 | BU15: =SE_2023!N15 -> zelo osenčeni paneli. Za leto 2025 15.9 kWp (za 2023, 12 kWp) | BW15: 17.1. - poraba 37.6 kWh
A16: =SE_2023!A16 -> 13 | B16: =SE_2023!$B16 -> ivč | C16: =SE_2023!$C16 -> Maribor vzhod | D16: 13.3 | E16: =D16/$BP16 -> 1.3313313 | G16: =F16/$BP16 -> 0 | L16: =SE_2023!$B16 -> ivč | M16: =SE_2023!$C16 -> Maribor vzhod | O16: =N16/$BP16 -> 0 | T16: =SE_2023!$B16 -> ivč | U16: =SE_2023!$C16 -> Maribor vzhod | W16: =V16/$BP16 -> 0 | AB16: =AA16/$BP16 -> 0 | AG16: =L16 -> ivč | AH16: =M16 -> Maribor vzhod | AJ16: =AI16/BP16 -> 0 | AO16: =AN16/BP16 -> 0 | AT16: =L16 -> ivč | AU16: =M16 -> Maribor vzhod | BJ16: 17.8 | BK16: =BJ16/BP16 -> 1.7817818 | BM16: =SE_2023!F16 -> 1036.2998 | BN16: =SE_2023!G16 -> 1036.2998 | BO16: =SE_2023!H16 -> 1159.2506 | BP16: =SE_2023!I16 -> 9.99 | BQ16: =SE_2023!J16 -> 4.5 kW, 203 5.49 kW, 113 | BR16: =SE_2023!K16 -> 40 41 | BS16: =SE_2023!L16 -> 11 | BT16: =SE_2023!M16 -> 0 | BU16: =SE_2023!N16 -> senčenje pozimi (sosed. hiša) 25.3.2025 popravljen azimut in naklon (prej SE1: 180 30, SE2: 90 30). 16.2.2026 povečanje moči z 8.54 kW na 10 kW. Dodani paneli v veji z azimutom 203, moč povečana s 3.05 kW na 4.5 kW | BW16: Je pa tako, da je poraba pri meni trenutno odvisna od tega a tisti dan polnim EV ali ne. Ogrevanje bo na toplotno črpalko od naslednje kurilne sezone dalje.
A17: =SE_2023!A17 -> 14 | B17: =SE_2023!$B17 -> vip58 | C17: =SE_2023!$C17 -> okolica Janč, 530 m n.v. | D17: 37 | E17: =D17/$BP17 -> 3.1040268 | F17: 1560 | G17: =F17/$BP17 -> 130.87248 | H17: 417 | L17: =SE_2023!$B17 -> vip58 | M17: =SE_2023!$C17 -> okolica Janč, 530 m n.v. | N17: 1630 | O17: =N17/$BP17 -> 136.74497 | P17: 666 | T17: =SE_2023!$B17 -> vip58 | U17: =SE_2023!$C17 -> okolica Janč, 530 m n.v. | V17: 1153 | W17: =V17/$BP17 -> 96.728188 | X17: 835 | AA17: 1164 | AB17: =AA17/$BP17 -> 97.651007 | AC17: 905 | AG17: =L17 -> vip58 | AH17: =M17 -> okolica Janč, 530 m n.v. | AJ17: =AI17/BP17 -> 0 | AO17: =AN17/BP17 -> 0 | AT17: =L17 -> vip58 | AU17: =M17 -> okolica Janč, 530 m n.v. | AV17: 805 | AW17: =AV17/BP17 -> 67.533557 | AX17: 1320 | AZ17: 846 | BA17: 358 | BB17: =BA17/BP17 -> 30.033557 | BC17: 1290 | BE17: 912 | BG17: 6.5 | BH17: =BG17/BP17 -> 0.54530201 | BI17: 37.5 kWh | BJ17: 32.7 | BK17: =BJ17/BP17 -> 2.7432886 | BL17: 40.5 kWh | BM17: =SE_2023!F17 -> 1235.7383 | BN17: =SE_2023!G17 -> 1201.3423 | BO17: =SE_2023!H17 -> 0 | BP17: =SE_2023!I17 -> 11.92 | BQ17: =SE_2023!J17 -> 9.33 kW, 165 2.59 kW, 210 | BR17: =SE_2023!K17 -> 35 35 | BS17: =SE_2023!L17 -> 11.1 | BT17: =SE_2023!M17 -> 10.8 | BU17: =SE_2023!N17 -> nekaj senčenja, v idealnih razmerah bi pridelala 1300Kwh več
A18: =SE_2023!A18 -> 15 | B18: =SE_2023!$B18 -> du77a | C18: =SE_2023!$C18 -> Domžale | D18: 44.5 | E18: =D18/$BP18 -> 3.6223036 | G18: =F18/$BP18 -> 0 | L18: =SE_2023!$B18 -> du77a | M18: =SE_2023!$C18 -> Domžale | O18: =N18/$BP18 -> 0 | T18: =SE_2023!$B18 -> du77a | U18: =SE_2023!$C18 -> Domžale | V18: 1136 | W18: =V18/$BP18 -> 92.470492 | X18: 948 | AA18: 1089 | AB18: =AA18/$BP18 -> 88.644689 | AC18: 737 | AG18: =L18 -> du77a | AH18: =M18 -> Domžale | AJ18: =AI18/BP18 -> 0 | AO18: =AN18/BP18 -> 0 | AT18: =L18 -> du77a | AU18: =M18 -> Domžale | AV18: 715 | AW18: =AV18/BP18 -> 58.201058 | AX18: 1410 | AZ18: 775 | BA18: 396 | BB18: =BA18/BP18 -> 32.234432 | BG18: 2.3 | BH18: =BG18/BP18 -> 0.18722019 | BJ18: 39.3 | BK18: =BJ18/BP18 -> 3.1990232 | BM18: =SE_2023!F18 -> 1142.8571 | BN18: =SE_2023!G18 -> 1188.4412 | BO18: =SE_2023!H18 -> 0 | BP18: =SE_2023!I18 -> 12.285 | BQ18: =SE_2023!J18 -> 165 | BR18: =SE_2023!K18 -> 37 | BS18: =SE_2023!L18 -> 11.2 | BT18: =SE_2023!M18 -> 11.1 | BU18: =SE_2023!N18 -> senčenje 8 panelov zaradi oblike hiše priklop november 2022, takrat 628 kWh | BW18: xavi javil 25.1.2024
A19: =SE_2023!A19 -> 16 | B19: =SE_2023!$B19 -> Kvc | C19: =SE_2023!$C19 -> Prlekija | D19: 27 | E19: =D19/$BP19 -> 4 | G19: =F19/$BP19 -> 0 | L19: =SE_2023!$B19 -> Kvc | M19: =SE_2023!$C19 -> Prlekija | O19: =N19/$BP19 -> 0 | T19: =SE_2023!$B19 -> Kvc | U19: =SE_2023!$C19 -> Prlekija | V19: 758 | W19: =V19/$BP19 -> 112.2963 | X19: 659 | Z19: 290 | AA19: 824 | AB19: =AA19/$BP19 -> 122.07407 | AC19: 695 | AE19: 304 | AG19: =L19 -> Kvc | AH19: =M19 -> Prlekija | AJ19: =AI19/BP19 -> 0 | AO19: =AN19/BP19 -> 0 | AT19: =L19 -> Kvc | AU19: =M19 -> Prlekija | AV19: 535 | AW19: =AV19/BP19 -> 79.259259 | AX19: 859 | AZ19: 408 | BA19: 333 | BB19: =BA19/BP19 -> 49.333333 | BC19: 887 | BE19: 379 | BK19: =BJ19/BP19 -> 0 | BM19: =SE_2023!F19 -> 1377.7778 | BN19: =SE_2023!G19 -> 1384.5926 | BO19: =SE_2023!H19 -> 1435.5556 | BP19: =SE_2023!I19 -> 6.75 | BQ19: =SE_2023!J19 -> 189 | BR19: =SE_2023!K19 -> 35 | BS19: =SE_2023!L19 -> 6.75 | BT19: =SE_2023!M19 -> 6.6 | BU19: =SE_2023!N19 -> 0 | BW19: podatki porabe za nazaj.
A20: =SE_2023!A20 -> 17 | B20: =SE_2023!$B20 -> Unika542 | C20: =SE_2023!$C20 -> okolica Ivančne gorice | E20: =D20/$BP20 -> 0 | G20: =F20/$BP20 -> 0 | L20: =SE_2023!$B20 -> Unika542 | M20: =SE_2023!$C20 -> okolica Ivančne gorice | O20: =N20/$BP20 -> 0 | T20: =SE_2023!$B20 -> Unika542 | U20: =SE_2023!$C20 -> okolica Ivančne gorice | W20: =V20/$BP20 -> 0 | AB20: =AA20/$BP20 -> 0 | AG20: =L20 -> Unika542 | AH20: =M20 -> okolica Ivančne gorice | AJ20: =AI20/BP20 -> 0 | AO20: =AN20/BP20 -> 0 | AT20: =L20 -> Unika542 | AU20: =M20 -> okolica Ivančne gorice | BK20: =BJ20/BP20 -> 0 | BM20: =SE_2023!F20 -> 0 | BN20: =SE_2023!G20 -> 1111.513 | BO20: =SE_2023!H20 -> 0 | BP20: =SE_2023!I20 -> 8.295 | BQ20: =SE_2023!J20 -> 4.345 kW, 129 3.95 kW, 210 | BR20: =SE_2023!K20 -> 40 40 | BS20: =SE_2023!L20 -> 8.29 | BT20: =SE_2023!M20 -> 7.9 | BU20: =SE_2023!N20 -> 0 | BW20: 16.1.47,11 kw
A21: =SE_2023!A21 -> 18 | B21: =SE_2023!$B21 -> Fantocci2 | C21: =SE_2023!$C21 -> Posavje | D21: 37.6 | E21: =D21/$BP21 -> 4.2727273 | F21: 1250 | G21: =F21/$BP21 -> 142.04545 | H21: =F21+214-1036 -> 428 | L21: =SE_2023!$B21 -> Fantocci2 | M21: =SE_2023!$C21 -> Posavje | N21: 1310 | O21: =N21/$BP21 -> 148.86364 | P21: =N21+248-1118 -> 440 | T21: =SE_2023!$B21 -> Fantocci2 | U21: =SE_2023!$C21 -> Posavje | V21: 947 | W21: =V21/$BP21 -> 107.61364 | X21: =V21+382-747 -> 582 | AB21: =AA21/$BP21 -> 0 | AG21: =L21 -> Fantocci2 | AH21: =M21 -> Posavje | AI21: 747 | AJ21: =AI21/BP21 -> 84.886364 | AK21: =AI21+443.6-563.3 -> 627.3 | AO21: =AN21/BP21 -> 0 | AT21: =L21 -> Fantocci2 | AU21: =M21 -> Posavje | AV21: 692 | AW21: =AV21/BP21 -> 78.636364 | AX21: =692+696-505 -> 883 | BK21: =BJ21/BP21 -> 0 | BM21: =SE_2023!F21 -> 1359.0909 | BN21: =SE_2023!G21 -> 927.27273 | BO21: =SE_2023!H21 -> 0 | BP21: =SE_2023!I21 -> 8.8 | BQ21: =SE_2023!J21 -> 182 | BR21: =SE_2023!K21 -> 38 | BS21: =SE_2023!L21 -> 11.2 | BT21: =SE_2023!M21 -> 11.2 | BU21: =SE_2023!N21 -> zagnana 9.5.2023 en dimnik pa ena frčada, večji vpliv v spomladnih in jesenskih mesecih ko je sonce nizko | BW21: 17.1. 42,47
A22: =SE_2023!A22 -> 19 | B22: =SE_2023!$B22 -> JohnSnow | C22: =SE_2023!$C22 -> Kozina z okolico | E22: =D22/$BP22 -> 0 | G22: =F22/$BP22 -> 0 | L22: =SE_2023!$B22 -> JohnSnow | M22: =SE_2023!$C22 -> Kozina z okolico | O22: =N22/$BP22 -> 0 | T22: =SE_2023!$B22 -> JohnSnow | U22: =SE_2023!$C22 -> Kozina z okolico | V22: 1110 | W22: =V22/$BP22 -> 92.5 | X22: 1218 | Z22: 553 | AB22: =AA22/$BP22 -> 0 | AG22: =L22 -> JohnSnow | AH22: =M22 -> Kozina z okolico | AI22: 697 | AJ22: =AI22/BP22 -> 58.083333 | AK22: 1305 | AM22: 893 | AO22: =AN22/BP22 -> 0 | AT22: =L22 -> JohnSnow | AU22: =M22 -> Kozina z okolico | AV22: 720 | AW22: =AV22/BP22 -> 60 | AX22: 1829 | AZ22: 1008 | BK22: =BJ22/BP22 -> 0 | BM22: =SE_2023!F22 -> 0 | BN22: =SE_2023!G22 -> 1025 | BO22: =SE_2023!H22 -> 0 | BP22: =SE_2023!I22 -> 12 | BQ22: =SE_2023!J22 -> 186.7 | BR22: =SE_2023!K22 -> 18 | BS22: =SE_2023!L22 -> 12 | BT22: =SE_2023!M22 -> 0 | BU22: =SE_2023!N22 -> zagnana 17.4.2023 pozimi, ko je sonce nizko, je spodnja vrsta delno senčena | BW22: Malo mi je to sicer smešno. 16.1. sem imel prozvodnjo 31 kw, bili so tudi sončni pribitki, poraba pa večja kot 17.1. ko sem imel proizvodnjo po solar edgu 3,21 kw. Tu nekaj ne štima.
A23: =SE_2023!A23 -> 20 | B23: =SE_2023!$B23 -> SebaR | C23: =SE_2023!$C23 -> Braslovče | D23: 29.2 | E23: =D23/$BP23 -> 2.5614035 | G23: =F23/$BP23 -> 0 | L23: =SE_2023!$B23 -> SebaR | M23: =SE_2023!$C23 -> Braslovče | O23: =N23/$BP23 -> 0 | T23: =SE_2023!$B23 -> SebaR | U23: =SE_2023!$C23 -> Braslovče | V23: 956 | W23: =V23/$BP23 -> 83.859649 | X23: 807 | Z23: 518 | AA23: 1050 | AB23: =AA23/$BP23 -> 92.105263 | AC23: 883 | AE23: 625 | AG23: =L23 -> SebaR | AH23: =M23 -> Braslovče | AI23: 683 | AJ23: =AI23/BP23 -> 59.912281 | AK23: 921 | AM23: 633 | AN23: 763 | AO23: =AN23/BP23 -> 66.929825 | AP23: 1060 | AR23: 836 | AT23: =L23 -> SebaR | AU23: =M23 -> Braslovče | AV23: 430 | AW23: =AV23/BP23 -> 37.719298 | AX23: 1430 | AZ23: 1098 | BA23: 246 | BB23: =BA23/BP23 -> 21.578947 | BC23: 1320 | BE23: 1063 | BG23: 8.07 | BH23: =BG23/BP23 -> 0.70789474 | BI23: 55.4 kWh | BJ23: 6.31 | BK23: =BJ23/BP23 -> 0.55350877 | BL23: 60.2 kWh | BM23: =SE_2023!F23 -> 1149.1228 | BN23: =SE_2023!G23 -> 1145.614 | BO23: =SE_2023!H23 -> 1026.3158 | BP23: =SE_2023!I23 -> 11.4 | BQ23: =SE_2023!J23 -> 217 | BR23: =SE_2023!K23 -> 31 | BS23: =SE_2023!L23 -> 13.6 | BT23: =SE_2023!M23 -> 0 | BU23: =SE_2023!N23 -> zagon 23.5.2022 hrib povzroči predčasni zahod sonca za 90 minut, ena celica menjana zaradi okvare lota | BW23: Odčitavam pa podatke iz grafa, ker je exel tabela, ko naredim izvoz total mimo.
A24: =SE_2023!A24 -> 21 | B24: =SE_2023!$B24 -> bojan03 | C24: =SE_2023!$C24 -> okolica Medvod | D24: 29.2 | E24: =D24/$BP24 -> 2.6449275 | F24: 1320 | G24: =F24/$BP24 -> 119.56522 | H24: 649 | J24: 190 | L24: =SE_2023!$B24 -> bojan03 | M24: =SE_2023!$C24 -> okolica Medvod | N24: 1340 | O24: =N24/$BP24 -> 121.37681 | P24: 783 | R24: 346 | T24: =SE_2023!$B24 -> bojan03 | U24: =SE_2023!$C24 -> okolica Medvod | V24: 887 | W24: =V24/$BP24 -> 80.344203 | X24: 863 | Z24: 453 | AB24: =AA24/$BP24 -> 0 | AG24: =L24 -> bojan03 | AH24: =M24 -> okolica Medvod | AJ24: =AI24/BP24 -> 0 | AO24: =AN24/BP24 -> 0 | AT24: =L24 -> bojan03 | AU24: =M24 -> okolica Medvod | AV24: 480 | AW24: =AV24/BP24 -> 43.478261 | AX24: 1211 | AZ24: 718 | BG24: 4.1 | BH24: =BG24/BP24 -> 0.37137681 | BI24: 32 kWh | BJ24: 22.5 | BK24: =BJ24/BP24 -> 2.0380435 | BL24: 40.9 kWh | BM24: =SE_2023!F24 -> 1077.8986 | BN24: =SE_2023!G24 -> 747.28261 | BO24: =SE_2023!H24 -> 0 | BP24: =SE_2023!I24 -> 11.04 | BQ24: =SE_2023!J24 -> 5.06 kW, 150 5.98 kW, 240 | BR24: =SE_2023!K24 -> 30 30 | BS24: =SE_2023!L24 -> 11.04 | BT24: =SE_2023!M24 -> 11.04 | BU24: =SE_2023!N24 -> priklop 19.5.2023 paneli na azimutu 150° so dali 4,4% boljši pridelek
A25: =SE_2023!A25 -> 22 | B25: =SE_2023!$B25 -> veli | C25: =SE_2023!$C25 -> Cerknica | E25: =D25/$BP25 -> 0 | G25: =F25/$BP25 -> 0 | L25: =SE_2023!$B25 -> veli | M25: =SE_2023!$C25 -> Cerknica | O25: =N25/$BP25 -> 0 | T25: =SE_2023!$B25 -> veli | U25: =SE_2023!$C25 -> Cerknica | V25: 1100 | W25: =V25/$BP25 -> 96.491228 | X25: 1100 | AA25: 1280 | AB25: =AA25/$BP25 -> 112.2807 | AC25: =AA25+721.24-984.76 -> 1016.48 | AG25: =L25 -> veli | AH25: =M25 -> Cerknica | AI25: 782 | AJ25: =AI25/BP25 -> 68.596491 | AK25: 1080 | AM25: 435.58 | AN25: 1020 | AO25: =AN25/BP25 -> 89.473684 | AP25: 1300 | AR25: 784.89 | AT25: =L25 -> veli | AU25: =M25 -> Cerknica | AV25: 891 | AW25: =AV25/BP25 -> 78.157895 | AX25: =1430 -> 1430 | AZ25: 761 | BA25: 322 | BB25: =BA25/BP25 -> 28.245614 | BC25: 1444 | BG25: 2.65 | BH25: =BG25/BP25 -> 0.23245614 | BI25: 38.2 kWh | BJ25: 42.7 | BK25: =BJ25/BP25 -> 3.745614 | BL25: 37.6 kWh | BM25: =SE_2023!F25 -> 0 | BN25: =SE_2023!G25 -> 1263.1579 | BO25: =SE_2023!H25 -> 0 | BP25: =SE_2023!I25 -> 11.4 | BQ25: =SE_2023!J25 -> 211 | BR25: =SE_2023!K25 -> 39 | BS25: =SE_2023!L25 -> 11.4 | BT25: =SE_2023!M25 -> 11.2 | BU25: =SE_2023!N25 -> 0
A26: =SE_2023!A26 -> 23 | B26: =SE_2023!$B26 -> jormam | C26: =SE_2023!$C26 -> Tolmin | D26: 30.4 | E26: =D26/$BP26 -> 2.4050633 | G26: =F26/$BP26 -> 0 | L26: =SE_2023!$B26 -> jormam | M26: =SE_2023!$C26 -> Tolmin | O26: =N26/$BP26 -> 0 | T26: =SE_2023!$B26 -> jormam | U26: =SE_2023!$C26 -> Tolmin | W26: =V26/$BP26 -> 0 | AB26: =AA26/$BP26 -> 0 | AG26: =L26 -> jormam | AH26: =M26 -> Tolmin | AI26: 560.45 | AJ26: =AI26/BP26 -> 44.339399 | AK26: 1540.45 | AO26: =AN26/BP26 -> 0 | AT26: =L26 -> jormam | AU26: =M26 -> Tolmin | AV26: 658 | AW26: =AV26/BP26 -> 52.056962 | AX26: 2370 | BG26: 1.5 | BH26: =BG26/BP26 -> 0.11867089 | BI26: 87 kWh | BJ26: 34.7 | BK26: =BJ26/BP26 -> 2.7452532 | BL26: 76.3 kWh | BM26: =SE_2023!F26 -> 1036.3924 | BN26: =SE_2023!G26 -> 1155.0633 | BO26: =SE_2023!H26 -> 1289.557 | BP26: =SE_2023!I26 -> 12.64 | BQ26: =SE_2023!J26 -> 173 | BR26: =SE_2023!K26 -> 36.2 | BS26: =SE_2023!L26 -> 11.2 | BT26: =SE_2023!M26 -> 0 | BU26: =SE_2023!N26 -> 0 | BW26: ZAJEM PODATKOV JANUAR 2024
A27: =SE_2023!A27 -> 24 | B27: =SE_2023!$B27 -> Migaj | C27: =SE_2023!$C27 -> na desni strani Mure | D27: 37 | E27: =D27/$BP27 -> 3.3035714 | G27: =F27/$BP27 -> 0 | L27: =SE_2023!$B27 -> Migaj | M27: =SE_2023!$C27 -> na desni strani Mure | O27: =N27/$BP27 -> 0 | T27: =SE_2023!$B27 -> Migaj | U27: =SE_2023!$C27 -> na desni strani Mure | W27: =V27/$BP27 -> 0 | AB27: =AA27/$BP27 -> 0 | AG27: =L27 -> Migaj | AH27: =M27 -> na desni strani Mure | AI27: 880 | AJ27: =AI27/BP27 -> 78.571429 | AK27: 1210 | AO27: =AN27/BP27 -> 0 | AT27: =L27 -> Migaj | AU27: =M27 -> na desni strani Mure | AV27: 740 | AW27: =AV27/BP27 -> 66.071429 | AX27: 2000 | BJ27: 20 | BK27: =BJ27/BP27 -> 1.7857143 | BL27: 52 kWh do 18:30 | BM27: =SE_2023!F27 -> 1250 | BN27: =SE_2023!G27 -> 1130.3571 | BO27: =SE_2023!H27 -> 0 | BP27: =SE_2023!I27 -> 11.2 | BQ27: =SE_2023!J27 -> 194 | BR27: =SE_2023!K27 -> 27 | BS27: =SE_2023!L27 -> 11.2 | BT27: =SE_2023!M27 -> 0 | BU27: =SE_2023!N27 -> Pridelek od 22.2.2023 do 31.12.2023 = 12,66MWh.
A28: =SE_2023!A28 -> 25 | B28: =SE_2023!$B28 -> Avatar | C28: =SE_2023!$C28 -> Šentvid pri Grobelnem | D28: 49.7 | E28: =D28/$BP28 -> 3.8828125 | G28: =F28/$BP28 -> 0 | L28: =SE_2023!$B28 -> Avatar | M28: =SE_2023!$C28 -> Šentvid pri Grobelnem | O28: =N28/$BP28 -> 0 | T28: =SE_2023!$B28 -> Avatar | U28: =SE_2023!$C28 -> Šentvid pri Grobelnem | W28: =V28/$BP28 -> 0 | AB28: =AA28/$BP28 -> 0 | AG28: =L28 -> Avatar | AH28: =M28 -> Šentvid pri Grobelnem | AJ28: =AI28/BP28 -> 0 | AO28: =AN28/BP28 -> 0 | AT28: =L28 -> Avatar | AU28: =M28 -> Šentvid pri Grobelnem | BK28: =BJ28/BP28 -> 0 | BM28: =SE_2023!F28 -> 1273.4375 | BN28: =SE_2023!G28 -> 1290.625 | BO28: =SE_2023!H28 -> 0 | BP28: =SE_2023!I28 -> 12.8 | BQ28: =SE_2023!J28 -> 194 | BR28: =SE_2023!K28 -> 38 | BS28: =SE_2023!L28 -> 11.2 | BT28: =SE_2023!M28 -> 11.1 | BU28: =SE_2023!N28 -> Dopoldne rahlo senčenje od drevesa in pozimi popoldne nekaj panelov zakrije streha. | BW28: Ime: Caps
A29: =SE_2023!A29 -> 26 | B29: =SE_2023!$B29 -> rorex | C29: =SE_2023!$C29 -> Prekmurje | E29: =D29/$BP29 -> 0 | G29: =F29/$BP29 -> 0 | L29: =SE_2023!$B29 -> rorex | M29: =SE_2023!$C29 -> Prekmurje | O29: =N29/$BP29 -> 0 | T29: =SE_2023!$B29 -> rorex | U29: =SE_2023!$C29 -> Prekmurje | W29: =V29/$BP29 -> 0 | AB29: =AA29/$BP29 -> 0 | AG29: =L29 -> rorex | AH29: =M29 -> Prekmurje | AJ29: =AI29/BP29 -> 0 | AO29: =AN29/BP29 -> 0 | AT29: =L29 -> rorex | AU29: =M29 -> Prekmurje | BG29: 3.72 | BH29: =BG29/BP29 -> 0.31 | BJ29: 21.1 | BK29: =BJ29/BP29 -> 1.7583333 | BM29: =SE_2023!F29 -> 0 | BN29: =SE_2023!G29 -> 1200 | BO29: =SE_2023!H29 -> 0 | BP29: =SE_2023!I29 -> 12 | BQ29: =SE_2023!J29 -> 131 | BR29: =SE_2023!K29 -> 20 | BS29: =SE_2023!L29 -> 11.4 | BT29: =SE_2023!M29 -> 11.2 | BU29: =SE_2023!N29 -> 0 | BW29: Pridelek SE v januarju 2024: 361 kWh
A30: =SE_2023!A30 -> 27 | B30: =SE_2023!$B30 -> M0rph3u5 | C30: =SE_2023!$C30 -> okolica Mokronoga | E30: =D30/$BP30 -> 0 | G30: =F30/$BP30 -> 0 | L30: =SE_2023!$B30 -> M0rph3u5 | M30: =SE_2023!$C30 -> okolica Mokronoga | O30: =N30/$BP30 -> 0 | T30: =SE_2023!$B30 -> M0rph3u5 | U30: =SE_2023!$C30 -> okolica Mokronoga | W30: =V30/$BP30 -> 0 | AB30: =AA30/$BP30 -> 0 | AG30: =L30 -> M0rph3u5 | AH30: =M30 -> okolica Mokronoga | AJ30: =AI30/BP30 -> 0 | AO30: =AN30/BP30 -> 0 | AT30: =L30 -> M0rph3u5 | AU30: =M30 -> okolica Mokronoga | BG30: 5.32 | BH30: =BG30/BP30 -> 0.55416667 | BI30: =CONCATENATE(BG30+40.56-1.41," kWh") -> 44.47 kWh | BJ30: 32.8 | BK30: =BJ30/BP30 -> 3.4166667 | BL30: =CONCATENATE(BJ30+31.86-24.58," kWh") -> 40.08 kWh | BM30: =SE_2023!F30 -> 0 | BN30: =SE_2023!G30 -> 1305.2083 | BO30: =SE_2023!H30 -> 338.54167 | BP30: =SE_2023!I30 -> 9.6 | BQ30: =SE_2023!J30 -> 190 | BR30: =SE_2023!K30 -> 43 | BS30: =SE_2023!L30 -> 9.6 | BT30: =SE_2023!M30 -> 9.6 | BU30: =SE_2023!N30 -> SE aktivna od 22.8.2022 | BW30: Celotna poraba energije v januarju 2024*: 1550 kWh (od tega EV 0 KWh)
A31: =SE_2023!A31 -> 28 | B31: =SE_2023!$B31 -> Caps (gost) | C31: =SE_2023!$C31 -> okolica Vipave | D31: 28.79 | E31: =D31/$BP31 -> 2.7007505 | F31: 1400 | G31: =F31/$BP31 -> 131.33208 | H31: 221 | L31: =SE_2023!$B31 -> Caps (gost) | M31: =SE_2023!$C31 -> okolica Vipave | N31: 1330 | O31: =N31/$BP31 -> 124.76548 | P31: 584 | T31: =SE_2023!$B31 -> Caps (gost) | U31: =SE_2023!$C31 -> okolica Vipave | W31: =V31/$BP31 -> 0 | AB31: =AA31/$BP31 -> 0 | AG31: =L31 -> Caps (gost) | AH31: =M31 -> okolica Vipave | AI31: 819 | AJ31: =AI31/BP31 -> 76.829268 | AK31: 751 | AO31: =AN31/BP31 -> 0 | AT31: =L31 -> Caps (gost) | AU31: =M31 -> okolica Vipave | AV31: 634 | AW31: =AV31/BP31 -> 59.474672 | AX31: 1240 | AZ31: 1154 | BG31: 0.98 | BH31: =BG31/BP31 -> 0.091932458 | BI31: 49 kWh (ocena) | BJ31: 31.3 | BK31: =BJ31/BP31 -> 2.9362101 | BL31: 50 kWh (ocena) | BM31: =SE_2023!F31 -> 1184.803 | BN31: =SE_2023!G31 -> 130.394 | BO31: =SE_2023!H31 -> 0 | BP31: =SE_2023!I31 -> 10.66 | BQ31: =SE_2023!J31 -> 150 | BR31: =SE_2023!K31 -> 20 | BS31: =SE_2023!L31 -> 10.5 | BT31: =SE_2023!M31 -> 0 | BU31: =SE_2023!N31 -> Priklop oktober 2023 | BW31: Ogrevanje in SV (sanitarna voda): TČ
A32: =SE_2023!A32 -> 29 | B32: =SE_2023!$B32 -> wilson34 | C32: =SE_2023!$C32 -> Prekmurje | D32: 25.5 | E32: =D32/$BP32 -> 2.4519231 | G32: =F32/$BP32 -> 0 | L32: =SE_2023!$B32 -> wilson34 | M32: =SE_2023!$C32 -> Prekmurje | O32: =N32/$BP32 -> 0 | T32: =SE_2023!$B32 -> wilson34 | U32: =SE_2023!$C32 -> Prekmurje | V32: 970 | W32: =V32/$BP32 -> 93.269231 | X32: =V32+753-653 -> 1070 | AA32: 1002 | AB32: =AA32/$BP32 -> 96.346154 | AC32: =AA32+788-682 -> 1108 | AG32: =L32 -> wilson34 | AH32: =M32 -> Prekmurje | AJ32: =AI32/BP32 -> 0 | AO32: =AN32/BP32 -> 0 | AT32: =L32 -> wilson34 | AU32: =M32 -> Prekmurje | BG32: 3.04 | BH32: =BG32/BP32 -> 0.29230769 | BI32: =CONCATENATE(3.04+54.54-0," kWh") -> 57.58 kWh | BJ32: 16.4 | BK32: =BJ32/BP32 -> 1.5769231 | BL32: =CONCATENATE(16.4+54.34-6.39,"kWh") -> 64.35kWh | BM32: =SE_2023!F32 -> 1105.7692 | BN32: =SE_2023!G32 -> 898.07692 | BO32: =SE_2023!H32 -> 1182.6923 | BP32: =SE_2023!I32 -> 10.4 | BQ32: =SE_2023!J32 -> 5.2 kW, 125 5.2 kW, 215 | BR32: =SE_2023!K32 -> 35 | BS32: =SE_2023!L32 -> 0 | BT32: =SE_2023!M32 -> 0 | BU32: =SE_2023!N30 -> SE aktivna od 22.8.2022 | BW32: Opomba 1:
A33: =SE_2023!A33 -> 30 | B33: =SE_2023!$B33 -> sašo65 | C33: =SE_2023!$C33 -> Brežice | E33: =D33/$BP33 -> 0 | G33: =F33/$BP33 -> 0 | L33: =SE_2023!$B33 -> sašo65 | M33: =SE_2023!$C33 -> Brežice | O33: =N33/$BP33 -> 0 | T33: =SE_2023!$B33 -> sašo65 | U33: =SE_2023!$C33 -> Brežice | V33: 1170 | W33: =V33/$BP33 -> 102.00523 | X33: 585 | AB33: =AA33/$BP33 -> 0 | AG33: =L33 -> sašo65 | AH33: =M33 -> Brežice | AI33: 870 | AJ33: =AI33/BP33 -> 75.850044 | AK33: 680 | AO33: =AN33/BP33 -> 0 | AT33: =L33 -> sašo65 | AU33: =M33 -> Brežice | AV33: 698 | AW33: =AV33/BP33 -> 60.854403 | AX33: =698+994-439 -> 1253 | BJ33: 5.8 | BK33: =BJ33/BP33 -> 0.50566696 | BL33: *34-40 kWh/dan (MojElektro) | BM33: =SE_2023!F33 -> 0 | BN33: =SE_2023!G33 -> 0 | BO33: =SE_2023!H33 -> 0 | BP33: =SE_2023!I33 -> 11.47 | BQ33: =SE_2023!J33 -> 194 | BR33: =SE_2023!K33 -> 25 | BS33: =SE_2023!L33 -> 11.2 | BT33: =SE_2023!M33 -> 10.9 | BU33: =SE_2023!N33 -> Zagon julij 2023 kWp = 27 x 425W | BW33: ... za primerjavo še podatki za januar 2023 ...
A34: =SE_2023!A34 -> 31 | B34: =SE_2023!$B34 -> Celje | C34: =SE_2023!$C34 -> okolica Celja | E34: =D34/$BP34 -> 0 | F34: 2050 | G34: =F34/$BP34 -> 131.41026 | H34: 1000 | L34: =SE_2023!$B34 -> Celje | M34: =SE_2023!$C34 -> okolica Celja | N34: 2100 | O34: =N34/$BP34 -> 134.61538 | P34: 1700 | T34: =SE_2023!$B34 -> Celje | U34: =SE_2023!$C34 -> okolica Celja | V34: 1480 | W34: =V34/$BP34 -> 94.871795 | X34: 2200 | AB34: =AA34/$BP34 -> 0 | AG34: =L34 -> Celje | AH34: =M34 -> okolica Celja | AI34: 991 | AJ34: =AI34/BP34 -> 63.525641 | AK34: 2400 | AO34: =AN34/BP34 -> 0 | AT34: =L34 -> Celje | AU34: =M34 -> okolica Celja | AV34: 659 | AW34: =AV34/BP34 -> 42.24359 | AX34: 3200 | BG34: 7.51 | BH34: =BG34/BP34 -> 0.48141026 | BI34: 104 kWh | BJ34: 8.22 | BK34: =BJ34/BP34 -> 0.52692308 | BL34: 111 kWh | BM34: =SE_2023!F34 -> 0 | BN34: =SE_2023!G34 -> 0 | BO34: =SE_2023!H34 -> 0 | BP34: =SE_2023!I34 -> 15.6 | BQ34: =SE_2023!J34 -> 6.746 kW, 136.4 8.854 kW, 223.5 | BR34: =SE_2023!K34 -> ? | BS34: =SE_2023!L34 -> 13.6 | BT34: =SE_2023!M34 -> 0 | BU34: =SE_2023!N34 -> Začetek obratovanja 9/2023 | BW34: Pridelek SE v januarju 2023: 222 kWh
A35: =SE_2023!A35 -> 32 | B35: =SE_2023!$B35 -> vrzislo | C35: =SE_2023!$C35 -> Ljubno ob Savinji | D35: 35.5 | E35: =D35/$BP35 -> 2.3857527 | G35: =F35/$BP35 -> 0 | L35: =SE_2023!$B35 -> vrzislo | M35: =SE_2023!$C35 -> Ljubno ob Savinji | O35: =N35/$BP35 -> 0 | T35: =SE_2023!$B35 -> vrzislo | U35: =SE_2023!$C35 -> Ljubno ob Savinji | W35: =V35/$BP35 -> 0 | AB35: =AA35/$BP35 -> 0 | AG35: =L35 -> vrzislo | AH35: =M35 -> Ljubno ob Savinji | AI35: 964 | AJ35: =AI35/BP35 -> 64.784946 | AK35: =AI35*2 -> 1928 | AN35: =AI35*1.22 -> 1176.08 | AO35: =AN35/BP35 -> 79.037634 | AT35: =L35 -> vrzislo | AU35: =M35 -> Ljubno ob Savinji | AV35: 723 | AW35: =AV35/BP35 -> 48.58871 | AX35: 2660 | BM35: =SE_2023!F35 -> 1135.7527 | BN35: =SE_2023!G35 -> 1116.8011 | BO35: =SE_2023!H35 -> 0 | BP35: =SE_2023!I35 -> 14.88 | BQ35: =SE_2023!J35 -> 135 | BR35: =SE_2023!K35 -> 32 | BS35: =SE_2023!L35 -> 0 | BT35: =SE_2023!M35 -> 10.8 | BU35: =SE_2023!N35 -> V zimskem času senčenje predvsem spodnje vrste zaradi dreves v bližini. Okoli 10 dni ni bilo pravega delovanja Solar Edge zaradi udara strele v juliju (2023). SE postavljena v letu 2019. | BW35: Celotna poraba energije v januarju 2023*: 124 kWh (od tega EV 0 KWh)
A36: =SE_2023!A36 -> 33 | B36: =SE_2023!$B36 -> Mr_Fizl | C36: =SE_2023!$C36 -> Dol pri Ljubljani | D36: 34 | E36: =D36/$BP36 -> 2.3351648 | F36: 1910 | G36: =F36/$BP36 -> 131.18132 | H36: 776 | L36: =SE_2023!$B36 -> Mr_Fizl | M36: =SE_2023!$C36 -> Dol pri Ljubljani | N36: 1850 | O36: =N36/$BP36 -> 127.06044 | P36: 787 | T36: =SE_2023!$B36 -> Mr_Fizl | U36: =SE_2023!$C36 -> Dol pri Ljubljani | W36: =V36/$BP36 -> 0 | AB36: =AA36/$BP36 -> 0 | AG36: =L36 -> Mr_Fizl | AH36: =M36 -> Dol pri Ljubljani | AJ36: =AI36/BP36 -> 0 | AO36: =AN36/BP36 -> 0 | AT36: =L36 -> Mr_Fizl | AU36: =M36 -> Dol pri Ljubljani | AV36: 456 | AW36: =AV36/BP36 -> 31.318681 | AX36: 1030 | BA36: 324 | BB36: =BA36/BP36 -> 22.252747 | BM36: =SE_2023!F36 -> 1071.4286 | BN36: =SE_2023!G36 -> 0 | BO36: =SE_2023!H36 -> 0 | BP36: =SE_2023!I36 -> 14.56 | BQ36: =SE_2023!J36 -> 126 | BR36: =SE_2023!K36 -> ? | BS36: =SE_2023!L36 -> 0 | BT36: =SE_2023!M36 -> 0 | BU36: =SE_2023!N36 -> 0 | BW36: Ogrevanje in SV: plinska peč
A37: =SE_2023!A37 -> 34 | B37: =SE_2023!$B37 -> oTTo | C37: =SE_2023!$C37 -> Škofja Loka | E37: =D37/$BP37 -> 0 | F37: 1432 | G37: =F37/$BP37 -> 123.34195 | H37: 479 | J37: =0+153 -> 153 | L37: =SE_2023!$B37 -> oTTo | M37: =SE_2023!$C37 -> Škofja Loka | N37: 1520 | O37: =N37/$BP37 -> 130.92162 | P37: 680 | R37: =224+166 -> 390 | T37: =SE_2023!$B37 -> oTTo | U37: =SE_2023!$C37 -> Škofja Loka | V37: 997 | W37: =V37/$BP37 -> 85.874246 | X37: 880 | AB37: =AA37/$BP37 -> 0 | AG37: =L37 -> oTTo | AH37: =M37 -> Škofja Loka | AI37: 691 | AJ37: =AI37/BP37 -> 59.517657 | AK37: 1072 | AM37: =553+185 -> 738 | AO37: =AN37/BP37 -> 0 | AT37: =L37 -> oTTo | AU37: =M37 -> Škofja Loka | AV37: 647 | AW37: =AV37/BP37 -> 55.727821 | AX37: 1684.9 | BM37: =SE_2023!F37 -> 0 | BN37: =SE_2023!G37 -> 68.647717 | BO37: =SE_2023!H37 -> 0 | BP37: =SE_2023!I37 -> 11.61 | BQ37: =SE_2023!J37 -> 209 | BR37: =SE_2023!K37 -> 36 | BS37: =SE_2023!L37 -> 0 | BT37: =SE_2023!M37 -> 10.8 | BU37: =SE_2023!N37 -> Zagnana 17.11.2023 | BW37: Opomba 2: še ni bilo TČ
A38: =SE_2023!A38 -> 35 | B38: =SE_2023!$B38 -> ufm | C38: =SE_2023!$C38 -> Osrednja Slovenija, 380 m n.v. | E38: =D38/$BP38 -> 0 | G38: =F38/$BP38 -> 0 | L38: =SE_2023!$B38 -> ufm | M38: =SE_2023!$C38 -> Osrednja Slovenija, 380 m n.v. | O38: =N38/$BP38 -> 0 | T38: =SE_2023!$B38 -> ufm | U38: =SE_2023!$C38 -> Osrednja Slovenija, 380 m n.v. | W38: =V38/$BP38 -> 0 | AB38: =AA38/$BP38 -> 0 | AG38: =L38 -> ufm | AH38: =M38 -> Osrednja Slovenija, 380 m n.v. | AJ38: =AI38/BP38 -> 0 | AO38: =AN38/BP38 -> 0 | AT38: =L38 -> ufm | AU38: =M38 -> Osrednja Slovenija, 380 m n.v. | AV38: 343 | AW38: =AV38/BP38 -> 27.840909 | AX38: =343+1690-128 -> 1905 | BM38: =SE_2023!F38 -> 0 | BN38: =SE_2023!G38 -> 0 | BO38: =SE_2023!H38 -> 0 | BP38: =SE_2023!I38 -> 12.32 | BQ38: =SE_2023!J38 -> 8.36 kW, 245 3.96 kW, 65 | BR38: =SE_2023!K38 -> 29 19 | BS38: =SE_2023!L38 -> 3 | BT38: =SE_2023!M38 -> 2.85 | BU38: =SE_2023!N38 -> Zagon 18.10.2023 Baterija 9.2 kW Limitirana proizvodnja na 10 kW, soglasje z omejitvijo 3 kW.
A39: =SE_2023!A39 -> 36 | B39: =SE_2023!$B39 -> Letalec | C39: =SE_2023!$C39 -> okolica Bleda | D39: 39.91 | E39: =D39/$BP39 -> 3.3980417 | G39: =F39/$BP39 -> 0 | L39: =SE_2023!$B39 -> Letalec | M39: =SE_2023!$C39 -> okolica Bleda | O39: =N39/$BP39 -> 0 | T39: =SE_2023!$B39 -> Letalec | U39: =SE_2023!$C39 -> okolica Bleda | W39: =V39/$BP39 -> 0 | AB39: =AA39/$BP39 -> 0 | AG39: =L39 -> Letalec | AH39: =M39 -> okolica Bleda | AJ39: =AI39/BP39 -> 0 | AO39: =AN39/BP39 -> 0 | AT39: =L39 -> Letalec | AU39: =M39 -> okolica Bleda | BM39: =SE_2023!F39 -> 1160.4938 | BN39: =SE_2023!G39 -> 0 | BO39: =SE_2023!H39 -> 0 | BP39: =SE_2023!I39 -> 11.745 | BQ39: =SE_2023!J39 -> 145 | BR39: =SE_2023!K39 -> 40 | BS39: =SE_2023!L39 -> 11.2 | BT39: =SE_2023!M39 -> 0 | BU39: =SE_2023!N39 -> Priklop 5.2.2024 | BW39: Ime: MAGS
A40: =SE_2023!A40 -> 37 | B40: =SE_2023!$B40 -> misace | C40: =SE_2023!$C40 -> pri Radovljici | E40: =D40/$BP40 -> 0 | G40: =F40/$BP40 -> 0 | L40: =SE_2023!$B40 -> misace | M40: =SE_2023!$C40 -> pri Radovljici | O40: =N40/$BP40 -> 0 | T40: =SE_2023!$B40 -> misace | U40: =SE_2023!$C40 -> pri Radovljici | W40: =V40/$BP40 -> 0 | AB40: =AA40/$BP40 -> 0 | AG40: =L40 -> misace | AH40: =M40 -> pri Radovljici | AJ40: =AI40/BP40 -> 0 | AO40: =AN40/BP40 -> 0 | AT40: =L40 -> misace | AU40: =M40 -> pri Radovljici | AV40: 660 | AW40: =AV40/BP40 -> 57.093426 | BM40: =SE_2023!F40 -> 0 | BN40: =SE_2023!G40 -> 0 | BO40: =SE_2023!H40 -> 0 | BP40: =SE_2023!I40 -> 11.56 | BQ40: =SE_2023!J40 -> 8.16 kW, 135 3.40 kW, 225 | BR40: =SE_2023!K40 -> 45 35 | BS40: =SE_2023!L40 -> 0 | BT40: =SE_2023!M40 -> 10.56 | BU40: =SE_2023!N40 -> Priklop marec 2022 | BW40: Pridelek SE v januarju 2024: 335 kWh
A41: =SE_2023!A41 -> 38 | B41: =SE_2023!$B41 -> simbala007 | C41: =SE_2023!$C41 -> okolica Zagorja ob Savi | E41: =D41/$BP41 -> 0 | G41: =F41/$BP41 -> 0 | L41: =SE_2023!$B41 -> simbala007 | M41: =SE_2023!$C41 -> okolica Zagorja ob Savi | O41: =N41/$BP41 -> 0 | T41: =SE_2023!$B41 -> simbala007 | U41: =SE_2023!$C41 -> okolica Zagorja ob Savi | W41: =V41/$BP41 -> 0 | AB41: =AA41/$BP41 -> 0 | AG41: =L41 -> simbala007 | AH41: =M41 -> okolica Zagorja ob Savi | AJ41: =AI41/BP41 -> 0 | AO41: =AN41/BP41 -> 0 | AT41: =L41 -> simbala007 | AU41: =M41 -> okolica Zagorja ob Savi | BM41: =SE_2023!F41 -> 1006.0852 | BN41: =SE_2023!G41 -> 0 | BO41: =SE_2023!H41 -> 0 | BP41: =SE_2023!I41 -> 12.325 | BQ41: =SE_2023!J41 -> 11.475 kW, 125.9 0.850 kW, 305.9 | BR41: =SE_2023!K41 -> 16.6 16.8 | BS41: =SE_2023!L41 -> 11.28 | BT41: =SE_2023!M41 -> 10.6 | BU41: =SE_2023!N41 -> Priklop 28.2.2024 TČ le za sanitarno vodo
A42: =SE_2023!A42 -> 39 | B42: =SE_2023!$B42 -> shock | C42: =SE_2023!$C42 -> Koper | D42: 37 | E42: =D42/$BP42 -> 3.0327869 | G42: =F42/$BP42 -> 0 | L42: =SE_2023!$B42 -> shock | M42: =SE_2023!$C42 -> Koper | O42: =N42/$BP42 -> 0 | T42: =SE_2023!$B42 -> shock | U42: =SE_2023!$C42 -> Koper | W42: =V42/$BP42 -> 0 | AB42: =AA42/$BP42 -> 0 | AG42: =L42 -> shock | AH42: =M42 -> Koper | AJ42: =AI42/BP42 -> 0 | AO42: =AN42/BP42 -> 0 | AT42: =L42 -> shock | AU42: =M42 -> Koper | BM42: =SE_2023!F42 -> 882.70492 | BN42: =SE_2023!G42 -> 0 | BO42: =SE_2023!H42 -> 0 | BP42: =SE_2023!I42 -> 12.2 | BQ42: =SE_2023!J42 -> 170 | BR42: =SE_2023!K42 -> 25 | BS42: =SE_2023!L42 -> 0 | BT42: =SE_2023!M42 -> 0 | BU42: =SE_2023!N42 -> Priklop zadnji teden maja 2024. Pridelek od konca maja do 31.12.2024: 10769 kWh Na strehi imamo tri dimnike, ki bodo v zimskem času metali senco na sončne panele.
A43: =SE_2023!A43 -> 40 | B43: =SE_2023!$B43 -> DejanB | C43: =SE_2023!$C43 -> Ljubljana Barje | E43: =D43/$BP43 -> 0 | F43: 209.6 | G43: =F43/$BP43 -> 75.942029 | H43: 660.1 | L43: =SE_2023!$B43 -> DejanB | M43: =SE_2023!$C43 -> Ljubljana Barje | N43: 249.6 | O43: =N43/$BP43 -> 90.434783 | P43: 911.6 | T43: =SE_2023!$B43 -> DejanB | U43: =SE_2023!$C43 -> Ljubljana Barje | V43: 144.6 | W43: =V43/$BP43 -> 52.391304 | X43: 1043 | AB43: =AA43/$BP43 -> 0 | AG43: =L43 -> DejanB | AH43: =M43 -> Ljubljana Barje | AJ43: =AI43/BP43 -> 0 | AO43: =AN43/BP43 -> 0 | AT43: =L43 -> DejanB | AU43: =M43 -> Ljubljana Barje | BM43: =SE_2023!F43 -> 0 | BN43: =SE_2023!G43 -> 385.50725 | BO43: =SE_2023!H43 -> 0 | BP43: =SE_2023!I43 -> 2.76 | BQ43: =SE_2023!J43 -> 180 | BR43: =SE_2023!K43 -> 8 | BS43: =SE_2023!L43 -> 0 | BT43: =SE_2023!M43 -> 0.15 | BU43: =SE_2023!N43 -> Priklop 25.6.2023, ZeroExport Izmenično senčenje 4 panelov (sosedov satelitski krožnik)
A44: =SE_2023!A44 -> 41 | B44: =SE_2023!$B44 -> Irmscher | C44: =SE_2023!$C44 -> Ljubljana - okolica | D44: 55.84 | E44: =D44/$BP44 -> 3.625974 | L44: =SE_2023!$B44 -> Irmscher | M44: =SE_2023!$C44 -> Ljubljana - okolica | T44: =SE_2023!$B44 -> Irmscher | U44: =SE_2023!$C44 -> Ljubljana - okolica | AG44: =L44 -> Irmscher | AH44: =M44 -> Ljubljana - okolica | AT44: =L44 -> Irmscher | AU44: =M44 -> Ljubljana - okolica | BM44: =SE_2023!F44 -> 548.05195 | BN44: =SE_2023!G44 -> 0 | BO44: =SE_2023!H44 -> 0 | BP44: =SE_2023!I44 -> 15.4 | BQ44: =SE_2023!J44 -> 12.76 kW, 202 2.64 kW, 202 | BR44: =SE_2023!K44 -> 35 9 | BS44: =SE_2023!L44 -> 13.7 | BU44: =SE_2023!N44 -> Priklop 1.7.2024. Paneli 35x440W Jinko. Od 1.7.-31.12.2024 je bilo 8.44 MWh (avgusta 7 dni blackout)
A45: =SE_2023!A45 -> 42 | B45: =SE_2023!$B45 -> bohinc | C45: =SE_2023!$C45 -> Bohinj | D45: 27.5 | E45: =D45/$BP45 -> 2.0833333 | L45: =SE_2023!$B45 -> bohinc | M45: =SE_2023!$C45 -> Bohinj | T45: =SE_2023!$B45 -> bohinc | U45: =SE_2023!$C45 -> Bohinj | AG45: =L45 -> bohinc | AH45: =M45 -> Bohinj | AT45: =L45 -> bohinc | AU45: =M45 -> Bohinj | BM45: =SE_2023!F45 -> 625 | BN45: =SE_2023!G45 -> 0 | BO45: =SE_2023!H45 -> 0 | BP45: =SE_2023!I45 -> 13.2 | BQ45: =SE_2023!J45 -> 5.28 kW, 210 4.40 kW, 100 1.76 kW, 200 0.88 kW, 190 0.44 kW, 280 0.44 kW, 190 | BR45: =SE_2023!K45 -> 52 48 12 16 25 16 | BS45: =SE_2023!L45 -> 13.6 | BU45: =SE_2023!N45 -> Začetek delovanja (uradni) 3.6.2024. Pred tem SE proizvedla 742 kWh (86+586+70). SE 10.56 kW + baterija. Možnost oddajne moči 13.6 kW. 30.4.2026: popravek oz. k 1,76kW azimuta 100, naklona 48 pripišeš dodatnih 2.64kW . SE iz 10.56 pa je 13.2kW, 30 panelov.
A46: =SE_2023!A46 -> 43 | B46: =SE_2023!$B46 -> marko71 | C46: =SE_2023!$C46 -> Cerknica | D46: 36.55 | E46: =D46/$BP46 -> 3.1949301 | L46: =SE_2023!$B46 -> marko71 | M46: =SE_2023!$C46 -> Cerknica | T46: =SE_2023!$B46 -> marko71 | U46: =SE_2023!$C46 -> Cerknica | AG46: =L46 -> marko71 | AH46: =M46 -> Cerknica | AT46: =L46 -> marko71 | AU46: =M46 -> Cerknica | BM46: =SE_2023!F46 -> 0 | BN46: =SE_2023!G46 -> 0 | BO46: =SE_2023!H46 -> 0 | BP46: =SE_2023!I46 -> 11.44 | BQ46: =SE_2023!J46 -> 210 | BR46: =SE_2023!K46 -> 32.5 | BS46: =SE_2023!L46 -> 0 | BU46: =SE_2023!N46 -> Priklop 19.9.2024. Dimnik senči panele.
A47: =SE_2023!A47 -> 44 | B47: =SE_2023!$B47 -> lokos | C47: =SE_2023!$C47 -> Trebnje | D47: 41.51 | E47: =D47/$BP47 -> 3.0343567 | L47: =SE_2023!$B47 -> lokos | M47: =SE_2023!$C47 -> Trebnje | T47: =SE_2023!$B47 -> lokos | U47: =SE_2023!$C47 -> Trebnje | AG47: =L47 -> lokos | AH47: =M47 -> Trebnje | AT47: =L47 -> lokos | AU47: =M47 -> Trebnje | BM47: =SE_2023!F47 -> 1240.4971 | BN47: =SE_2023!G47 -> 1217.8363 | BO47: =SE_2023!H47 -> 0 | BP47: =SE_2023!I47 -> 13.68 | BQ47: =SE_2023!J47 -> 168 | BR47: =SE_2023!K47 -> 17 | BS47: =SE_2023!L47 -> 13.6
A48: =SE_2023!A48 -> 45 | B48: =SE_2023!$B48 -> gt001 | C48: =SE_2023!$C48 -> Celje okolica | D48: 13.57 | E48: =D48/$BP48 -> 1.4513369 | L48: =SE_2023!$B48 -> gt001 | M48: =SE_2023!$C48 -> Celje okolica | T48: =SE_2023!$B48 -> gt001 | U48: =SE_2023!$C48 -> Celje okolica | AG48: =L48 -> gt001 | AH48: =M48 -> Celje okolica | AT48: =L48 -> gt001 | AU48: =M48 -> Celje okolica | BM48: =SE_2023!F48 -> 1090.9091 | BN48: =SE_2023!G48 -> 0 | BO48: =SE_2023!H48 -> 0 | BP48: =SE_2023!I48 -> 9.35 | BQ48: =SE_2023!J48 -> 99 | BR48: =SE_2023!K48 -> 7 | BS48: =SE_2023!L48 -> 0 | BT48: =SE_2023!M48 -> 6.18 | BU48: =SE_2023!N48 -> 2024 je prvo celo leto obratovanja SE.
BW49: Celotna poraba energije v januarju 2024*: 1535 kWh (od tega EV 285,5KWh)
BW50: Ogrevanje in SV TČ 834 KWh
BW51: Opomba 1:
BW52: ... za primerjavo še podatki za januar 2023 ...
BW53: Pridelek SE v januarju 2023: 197 kW
BW54: Celotna poraba energije v januarju 2023*: 1142 kWh (od tega EV 0 KWh)
BW55: Ogrevanje in SV TČ 708 KWh
BW57: Ime: jormam
BW58: Pridelek SE v januarju 2024: 658 kWh
BW59: Celotna poraba energije v januarju 2024: 2370 kWh
BW60: Ogrevanje + voda = toplotna črpalka.
BW62: Ime: Cimi82
... BW388: Hiša
BW389: 850
BW390: Ev
BW391: 300
BW393: 1. Ime: Letalec007
BW394: 2. Pridelek SE marec 24, kWh: 840
BW395: 3. Vsa poraba v marcu 24, kWh: 844,66
BW396: - Če ni Energy metra, potem iz Moj Elektro:
BW397: 4. Oddaja v omrežje marca 24, kWh:673,83
BW398: 5. Prevzem iz omrežja marca 24, kWh:678,49
BW399: ---------- Še za lansko leto:
BW400: 6. Pridelek SE marec 23, kWh: 866
BW401: 7. Vsa poraba v marcu 23, kWh: 936,5
BW402: - Če ni Energy metra, potem iz Moj Elektro:
BW403: 8. Oddaja v omrežje marca 23, kWh:680,97
BW404: 9. Prevzem iz omrežja marca 23, kWh:751,47
... BW647: 9. Prevzem iz omrežja maja 24, kWh:193

Sheet 21_DEC_2024
A1: Pridelek v najkrajšem dnevu leta 2024 (21.12.2024)
B2: 13.1.2025 | C2: Urejeno po kWh/kWp
B3: Ime | C3: Lokacija | D3: Pridelek SE 21.12.2024 kWh | E3: Relat. pridelek SE 21.12.2024 kWh/kWp
B4: Fantocci2 | C4: Posavje | D4: 37.6 | E4: 4.2727273
B5: cimi82 | C5: okolica NM | D5: 55.28 | E5: 4.1626506
B6: Kvc | C6: Prlekija | D6: 27 | E6: 4
B7: Avatar | C7: Šentvid pri Grobelnem | D7: 49.7 | E7: 3.8828125
B8: slepec | C8: okolica Litije, višina 505 | D8: 52 | E8: 3.8433112
B9: Irmscher | C9: Ljubljana - okolica | D9: 55.84 | E9: 3.625974
B10: du77a | C10: Domžale | D10: 44.5 | E10: 3.6223036
B11: xavi | C11: Maribor - Zrkovci | D11: 31.2 | E11: 3.45898
B12: Letalec | C12: okolica Bleda | D12: 39.91 | E12: 3.3980417
B13: Migaj | C13: na desni strani Mure | D13: 37 | E13: 3.3035714
B14: marko71 | C14: Cerknica | D14: 36.55 | E14: 3.1949301
B15: vip58 | C15: okolica Janč, 530 m n.v. | D15: 37 | E15: 3.1040268
... B31: letalec007 | C31: okolica Cerknice | D31: 12.2 | E31: 1.2512821
B32: pregela | C32: Litija | E32: 0
B33: labelsm | C33: Zgornje Hoče pri MB | E33: 0
B34: vuego | C34: okolica Kamnika | E34: 0
B35: MAGS | C35: okolica Novega mesta | E35: 0
B36: Fery | C36: Cerknica | E36: 0
B37: Unika542 | C37: okolica Ivančne gorice | E37: 0
B38: JohnSnow | C38: J Primorska | E38: 0
B39: veli | C39: Cerknica | E39: 0
B40: rorex | C40: Prekmurje | E40: 0
B41: M0rph3u5 | C41: okolica Mokronoga | E41: 0
B42: sašo65 | C42: Brežice | E42: 0
B43: Celje | C43: okolica Celja | E43: 0
... B48: DejanB | C48: Ljubljana Barje | E48: 0

Sheet Maj_2024
A1: Pridelek in mesečna samooskrbnost v maju 2024.
B2: 27.6.2024 | C2: Urejeno po kWh/kWp (maj 2024)
A3: Samooskrba maj 2024 % | B3: Ime | C3: Lokacija | D3: Pridelek SE maj 2024 kWh | E3: Relat. pridelek SE maj 2024 kWh/kWp | F3: Celotna poraba maj 2024 kWh | G3: Poraba za EV maj 2024 kWh | H3: Poraba za TČ maj 2024 kWh
A4: =IF(F4="","",100*D4/F4) -> 315.78947 | B4: xavi | C4: Maribor - Zrkovci | D4: 1320 | E4: 146.34146 | F4: 418
A5: =IF(F5="","",100*D5/F5) -> 292.05607 | B5: Fantocci2 | C5: Posavje | D5: 1250 | E5: 142.04545 | F5: 428
A6: =IF(F6="","",100*D6/F6) -> 209.1954 | B6: cimi82 | C6: okolica NM | D6: 1820 | E6: 137.04819 | F6: 870
A7: =IF(F7="","",100*D7/F7) -> 179.61165 | B7: slepec | C7: okolica Litije, višina 505 | D7: 1850 | E7: 136.73319 | F7: 1030
A8: =IF(F8="","",100*D8/F8) -> 205 | B8: Celje | C8: okolica Celja | D8: 2050 | E8: 131.41026 | F8: 1000
A9: =IF(F9="","",100*D9/F9) -> 633.48416 | B9: Caps (gost) | C9: okolica Vipave | D9: 1400 | E9: 131.33208 | F9: 221
A10: =IF(F10="","",100*D10/F10) -> 246.13402 | B10: Mr_Fizl | C10: Dol pri Ljubljani | D10: 1910 | E10: 131.18132 | F10: 776
A11: =IF(F11="","",100*D11/F11) -> 374.10072 | B11: vip58 | C11: okolica Janč, 530 m n.v. | D11: 1560 | E11: 130.87248 | F11: 417
A12: =IF(F12="","",100*D12/F12) -> 298.95616 | B12: oTTo | C12: Škofja Loka | D12: 1432 | E12: 123.34195 | F12: 479 | H12: 153
A13: =IF(F13="","",100*D13/F13) -> 411.33333 | B13: Caps | C13: sever Ljubljane | D13: 1234 | E13: 122.17822 | F13: 300
A14: =IF(F14="","",100*D14/F14) -> 203.38983 | B14: bojan03 | C14: okolica Medvod | D14: 1320 | E14: 119.56522 | F14: 649 | H14: 190
A15: =IF(F15="","",100*D15/F15) -> 159.40724 | B15: letalec007 | C15: okolica Cerknice | D15: 1080 | E15: 110.76923 | F15: 677.51
A16: =IF(F16="","",100*D16/F16) -> 31.752765 | B16: DejanB | C16: Ljubljana Barje | D16: 209.6 | E16: 75.942029 | F16: 660.1
A17: =IF(F17="","",100*D17/F17) | B17: JaBK | C17: okolica Kranja | E17: 0
A18: =IF(F18="","",100*D18/F18) | B18: pregela | C18: Litija | E18: 0
A19: =IF(F19="","",100*D19/F19) | B19: labelsm | C19: Zgornje Hoče pri MB | E19: 0
A20: =IF(F20="","",100*D20/F20) | B20: vuego | C20: okolica Kamnika | E20: 0
A21: =IF(F21="","",100*D21/F21) | B21: Dave | C21: okolica Črnomlja | E21: 0
A22: =IF(F22="","",100*D22/F22) | B22: MAGS | C22: okolica Novega mesta | E22: 0
A23: =IF(F23="","",100*D23/F23) | B23: Fery | C23: Cerknica | E23: 0
A24: =IF(F24="","",100*D24/F24) | B24: ivč | C24: Maribor vzhod | E24: 0
A25: =IF(F25="","",100*D25/F25) | B25: du77a | C25: Domžale | E25: 0
A26: =IF(F26="","",100*D26/F26) | B26: Kvc | C26: Prlekija | E26: 0
A27: =IF(F27="","",100*D27/F27) | B27: Unika542 | C27: okolica Ivančne gorice | E27: 0
A28: =IF(F28="","",100*D28/F28) | B28: JohnSnow | C28: J Primorska | E28: 0
... A41: =IF(F41="","",100*D41/F41) | B41: misace | C41: pri Radovljici | E41: 0
B42: simbala007 | C42: okolica Zagorja ob Savi | E42: 0
B43: shock | C43: Koper | E43: 0

Sheet April_2024
A1: Pridelek in mesečna samooskrbnost v aprilu 2024.
B2: 27.6.2024 | C2: Urejeno po kWh/kWp (april 2024)
A3: Samooskrba april 2024 % | B3: Ime | C3: Lokacija | D3: Pridelek SE april 2024 kWh | E3: Relat. pridelek SE april 2024 kWh/kWp | F3: Celotna poraba april 2024 kWh | G3: Poraba za EV april 2024 kWh | H3: Poraba za TČ april 2024 kWh
A4: =IF(F4="","",100*D4/F4) -> 297.72727 | B4: Fantocci2 | C4: Posavje | D4: 1310 | E4: 148.86364 | F4: 440
A5: =IF(F5="","",100*D5/F5) -> 216.61238 | B5: xavi | C5: Maribor - Zrkovci | D5: 1330 | E5: 147.45011 | F5: 614
A6: =IF(F6="","",100*D6/F6) -> 237.2035 | B6: cimi82 | C6: okolica NM | D6: 1900 | E6: 143.07229 | F6: 801
A7: =IF(F7="","",100*D7/F7) -> 195.91837 | B7: slepec | C7: okolica Litije, višina 505 | D7: 1920 | E7: 141.90687 | F7: 980
A8: =IF(F8="","",100*D8/F8) -> 244.74474 | B8: vip58 | C8: okolica Janč, 530 m n.v. | D8: 1630 | E8: 136.74497 | F8: 666
A9: =IF(F9="","",100*D9/F9) -> 123.52941 | B9: Celje | C9: okolica Celja | D9: 2100 | E9: 134.61538 | F9: 1700
A10: =IF(F10="","",100*D10/F10) -> 223.52941 | B10: oTTo | C10: Škofja Loka | D10: 1520 | E10: 130.92162 | F10: 680 | H10: 390
A11: =IF(F11="","",100*D11/F11) -> 235.06989 | B11: Mr_Fizl | C11: Dol pri Ljubljani | D11: 1850 | E11: 127.06044 | F11: 787
A12: =IF(F12="","",100*D12/F12) -> 284.78747 | B12: Caps | C12: sever Ljubljane | D12: 1273 | E12: 126.0396 | F12: 447
A13: =IF(F13="","",100*D13/F13) -> 227.73973 | B13: Caps (gost) | C13: okolica Vipave | D13: 1330 | E13: 124.76548 | F13: 584
A14: =IF(F14="","",100*D14/F14) -> 153.83432 | B14: letalec007 | C14: okolica Cerknice | D14: 1200 | E14: 123.07692 | F14: 780.06
A15: =IF(F15="","",100*D15/F15) -> 171.13665 | B15: bojan03 | C15: okolica Medvod | D15: 1340 | E15: 121.37681 | F15: 783 | H15: 346
A16: =IF(F16="","",100*D16/F16) -> 27.38043 | B16: DejanB | C16: Ljubljana Barje | D16: 249.6 | E16: 90.434783 | F16: 911.6
A17: =IF(F17="","",100*D17/F17) | B17: JaBK | C17: okolica Kranja | E17: 0
A18: =IF(F18="","",100*D18/F18) | B18: pregela | C18: Litija | E18: 0
A19: =IF(F19="","",100*D19/F19) | B19: labelsm | C19: Zgornje Hoče pri MB | E19: 0
A20: =IF(F20="","",100*D20/F20) | B20: vuego | C20: okolica Kamnika | E20: 0
A21: =IF(F21="","",100*D21/F21) | B21: Dave | C21: okolica Črnomlja | E21: 0
A22: =IF(F22="","",100*D22/F22) | B22: MAGS | C22: okolica Novega mesta | E22: 0
A23: =IF(F23="","",100*D23/F23) | B23: Fery | C23: Cerknica | E23: 0
A24: =IF(F24="","",100*D24/F24) | B24: ivč | C24: Maribor vzhod | E24: 0
A25: =IF(F25="","",100*D25/F25) | B25: du77a | C25: Domžale | E25: 0
A26: =IF(F26="","",100*D26/F26) | B26: Kvc | C26: Prlekija | E26: 0
A27: =IF(F27="","",100*D27/F27) | B27: Unika542 | C27: okolica Ivančne gorice | E27: 0
A28: =IF(F28="","",100*D28/F28) | B28: JohnSnow | C28: J Primorska | E28: 0
... A41: =IF(F41="","",100*D41/F41) | B41: misace | C41: pri Radovljici | E41: 0
B42: simbala007 | C42: okolica Zagorja ob Savi | E42: 0
B43: shock | C43: Koper | E43: 0

Sheet Marec_2024
A1: Primerjava mar24/mar23. Mesečna samooskrbnost v marcu 2024.
C2: 27.6.2024 | D2: Urejeno po kWh/kWp (marec 2024)
A3: Pridelek SE mar24/mar23 % | B3: Samooskrba marec 2024 % | C3: Ime | D3: Lokacija | E3: Pridelek SE marec 2024 kWh | F3: Relat. pridelek SE marec 2024 kWh/kWp | G3: Celotna poraba marec 2024 kWh | H3: Poraba za EV marec 2024 kWh | I3: Poraba za TČ marec 2024 kWh | J3: Pridelek SE marec 2023 kWh | K3: Relat. pridelek SE marec 2023 kWh/kWp | L3: Celotna poraba marec 2023 kWh | M3: Poraba za EV marec 2023 kWh | N3: Poraba za TČ marec 2023 kWh
A4: =IF(J4="","",100*E4/J4) -> 91.990291 | B4: =IF(G4="","",100*E4/G4) -> 115.02276 | C4: Kvc | D4: Prlekija | E4: 758 | F4: 112.2963 | G4: 659 | I4: 290 | J4: 824 | K4: 122.07407 | L4: 695 | N4: 304
A5: =IF(J5="","",100*E5/J5) -> 98.792757 | B5: =IF(G5="","",100*E5/G5) -> 125.73624 | C5: xavi | D5: Maribor - Zrkovci | E5: 982 | F5: 108.86918 | G5: 781 | J5: 994 | K5: 110.19956
A6: =IF(J6="","",100*E6/J6) | B6: =IF(G6="","",100*E6/G6) -> 162.71478 | C6: Fantocci2 | D6: Posavje | E6: 947 | F6: 107.61364 | G6: 582 | K6: 0
A7: =IF(J7="","",100*E7/J7) | B7: =IF(G7="","",100*E7/G7) -> 154.01786 | C7: cimi82 | D7: okolica NM | E7: 1380 | F7: 103.91566 | G7: 896 | K7: 0
A8: =IF(J8="","",100*E8/J8) | B8: =IF(G8="","",100*E8/G8) -> 200 | C8: sašo65 | D8: Brežice | E8: 1170 | F8: 102.00523 | G8: 585 | K8: 0
A9: =IF(J9="","",100*E9/J9) | B9: =IF(G9="","",100*E9/G9) -> 117.3913 | C9: slepec | D9: okolica Litije, višina 505 | E9: 1350 | F9: 99.778271 | G9: 1150 | H9: 300 | K9: 0
A10: =IF(J10="","",100*E10/J10) -> 99.054983 | B10: =IF(G10="","",100*E10/G10) -> 138.08383 | C10: vip58 | D10: okolica Janč, 530 m n.v. | E10: 1153 | F10: 96.728188 | G10: 835 | J10: 1164 | K10: 97.651007 | L10: 905
A11: =IF(J11="","",100*E11/J11) -> 85.9375 | B11: =IF(G11="","",100*E11/G11) -> 100 | C11: veli | D11: Cerknica | E11: 1100 | F11: 96.491228 | G11: 1100 | J11: 1280 | K11: 112.2807 | L11: 1016.48
A12: =IF(J12="","",100*E12/J12) | B12: =IF(G12="","",100*E12/G12) -> 67.272727 | C12: Celje | D12: okolica Celja | E12: 1480 | F12: 94.871795 | G12: 2200 | K12: 0
A13: =IF(J13="","",100*E13/J13) -> 96.806387 | B13: =IF(G13="","",100*E13/G13) -> 90.654206 | C13: wilson34 | D13: Prekmurje | E13: 970 | F13: 93.269231 | G13: 1070 | J13: 1002 | K13: 96.346154 | L13: 1108
A14: =IF(J14="","",100*E14/J14) | B14: =IF(G14="","",100*E14/G14) -> 91.133005 | C14: JohnSnow | D14: J Primorska | E14: 1110 | F14: 92.5 | G14: 1218 | I14: 553 | K14: 0
A15: =IF(J15="","",100*E15/J15) -> 104.31589 | B15: =IF(G15="","",100*E15/G15) -> 119.83122 | C15: du77a | D15: Domžale | E15: 1136 | F15: 92.470492 | G15: 948 | J15: 1089 | K15: 88.644689 | L15: 737
A16: =IF(J16="","",100*E16/J16) -> 96.997691 | B16: =IF(G16="","",100*E16/G16) -> 99.448299 | C16: letalec007 | D16: okolica Cerknice | E16: 840 | F16: 86.153846 | G16: 844.66 | J16: 866 | K16: 88.820513 | L16: 936.5
A17: =IF(J17="","",100*E17/J17) | B17: =IF(G17="","",100*E17/G17) -> 113.29545 | C17: oTTo | D17: Škofja Loka | E17: 997 | F17: 85.874246 | G17: 880 | K17: 0
A18: =IF(J18="","",100*E18/J18) -> 91.047619 | B18: =IF(G18="","",100*E18/G18) -> 118.46344 | C18: SebaR | D18: Braslovče | E18: 956 | F18: 83.859649 | G18: 807 | I18: 518 | J18: 1050 | K18: 92.105263 | L18: 883 | N18: 625
A19: =IF(J19="","",100*E19/J19) -> 92.039258 | B19: =IF(G19="","",100*E19/G19) -> 95.583239 | C19: Caps | D19: sever Ljubljane | E19: 844 | F19: 83.564356 | G19: 883 | J19: 917 | K19: 90.792079 | L19: 974
A20: =IF(J20="","",100*E20/J20) -> 99.672846 | B20: =IF(G20="","",100*E20/G20) -> 84.551341 | C20: MAGS | D20: okolica Novega mesta | E20: 914 | F20: 81.973094 | G20: 1081 | J20: 917 | K20: 82.242152 | L20: 1060
A21: =IF(J21="","",100*E21/J21) | B21: =IF(G21="","",100*E21/G21) -> 102.781 | C21: bojan03 | D21: okolica Medvod | E21: 887 | F21: 80.344203 | G21: 863 | I21: 453 | K21: 0
A22: =IF(J22="","",100*E22/J22) | B22: =IF(G22="","",100*E22/G22) -> 13.863854 | C22: DejanB | D22: Ljubljana Barje | E22: 144.6 | F22: 52.391304 | G22: 1043 | K22: 0
A23: =IF(J23="","",100*E23/J23) | B23: =IF(G23="","",100*E23/G23) | C23: JaBK | D23: okolica Kranja | F23: 0 | K23: 0
A24: =IF(J24="","",100*E24/J24) | B24: =IF(G24="","",100*E24/G24) | C24: pregela | D24: Litija | F24: 0 | K24: 0
A25: =IF(J25="","",100*E25/J25) | B25: =IF(G25="","",100*E25/G25) | C25: labelsm | D25: Zgornje Hoče pri MB | F25: 0 | K25: 0
A26: =IF(J26="","",100*E26/J26) | B26: =IF(G26="","",100*E26/G26) | C26: vuego | D26: okolica Kamnika | F26: 0 | K26: 0
A27: =IF(J27="","",100*E27/J27) | B27: =IF(G27="","",100*E27/G27) | C27: Dave | D27: okolica Črnomlja | F27: 0 | K27: 0
A28: =IF(J28="","",100*E28/J28) | B28: =IF(G28="","",100*E28/G28) | C28: Fery | D28: Cerknica | F28: 0 | K28: 0
A29: =IF(J29="","",100*E29/J29) | B29: =IF(G29="","",100*E29/G29) | C29: ivč | D29: Maribor vzhod | F29: 0 | K29: 0
A30: =IF(J30="","",100*E30/J30) | B30: =IF(G30="","",100*E30/G30) | C30: Unika542 | D30: okolica Ivančne gorice | F30: 0 | K30: 0
A31: =IF(J31="","",100*E31/J31) | B31: =IF(G31="","",100*E31/G31) | C31: jormam | D31: Tolmin | F31: 0 | K31: 0
A32: =IF(J32="","",100*E32/J32) | B32: =IF(G32="","",100*E32/G32) | C32: Migaj | D32: na desni strani Mure | F32: 0 | K32: 0
A33: =IF(J33="","",100*E33/J33) | B33: =IF(G33="","",100*E33/G33) | C33: Avatar | D33: Šentvid pri Grobelnem | F33: 0 | K33: 0
A34: =IF(J34="","",100*E34/J34) | B34: =IF(G34="","",100*E34/G34) | C34: rorex | D34: Prekmurje | F34: 0 | K34: 0
... A41: =IF(J41="","",100*E41/J41) | B41: =IF(G41="","",100*E41/G41) | C41: misace | D41: pri Radovljici | F41: 0 | K41: 0
C42: simbala007 | D42: okolica Zagorja ob Savi | F42: 0
C43: shock | D43: Koper | F43: 0

Sheet Februar_2024
A1: Primerjava feb24/feb23. Mesečna samooskrbnost v februarju 2024.
C2: 3.4.2024 15:14 | D2: Urejeno po kWh/kWp (februar 2024)
A3: Pridelek SE feb24/feb23 % | B3: Samooskrba februar 2024 % | C3: Ime | D3: Lokacija | E3: Pridelek SE februar 2024 kWh | F3: Relat. pridelek SE februar 2024 kWh/kWp | G3: Celotna poraba februar 2024 kWh | H3: Poraba za EV februar 2024 kWh | I3: Poraba za TČ februar 2024 kWh | J3: Pridelek SE februar 2023 kWh | K3: Relat. pridelek SE februar 2023 kWh/kWp | L3: Celotna poraba februar 2023 kWh | M3: Poraba za EV februar 2023 kWh | N3: Poraba za TČ februar 2023 kWh
A4: =IF(J4="","",100*E4/J4) | B4: =IF(G4="","",100*E4/G4) -> 119.08178 | C4: Fantocci2 | D4: Posavje | E4: 747 | F4: 84.886364 | G4: 627.3 | K4: 0
A5: =IF(J5="","",100*E5/J5) | B5: =IF(G5="","",100*E5/G5) -> 87.145607 | C5: xavi | D5: Maribor - Zrkovci | E5: 740.993 | F5: 82.15 | G5: 850.293 | K5: 0
A6: =IF(J6="","",100*E6/J6) | B6: =IF(G6="","",100*E6/G6) -> 146.69421 | C6: cimi82 | D6: okolica NM | E6: 1065 | F6: 80.195783 | G6: 726 | K6: 0
A7: =IF(J7="","",100*E7/J7) | B7: =IF(G7="","",100*E7/G7) -> 72.727273 | C7: Migaj | D7: na desni strani Mure | E7: 880 | F7: 78.571429 | G7: 1210 | K7: 0
A8: =IF(J8="","",100*E8/J8) | B8: =IF(G8="","",100*E8/G8) -> 109.05459 | C8: Caps (gost) | D8: okolica Vipave | E8: 819 | F8: 76.829268 | G8: 751 | K8: 0
A9: =IF(J9="","",100*E9/J9) | B9: =IF(G9="","",100*E9/G9) -> 127.94118 | C9: sašo65 | D9: Brežice | E9: 870 | F9: 75.850044 | G9: 680 | K9: 0
A10: =IF(J10="","",100*E10/J10) | B10: =IF(G10="","",100*E10/G10) -> 64.62585 | C10: slepec | D10: okolica Litije, višina 505 | E10: 950 | F10: 70.214339 | G10: 1470 | H10: 670 | I10: 302 | K10: 0
A11: =IF(J11="","",100*E11/J11) -> 76.666667 | B11: =IF(G11="","",100*E11/G11) -> 72.407407 | C11: veli | D11: Cerknica | E11: 782 | F11: 68.596491 | G11: 1080 | I11: 435.58 | J11: 1020 | K11: 89.473684 | L11: 1300 | N11: 784.89
A12: =IF(J12="","",100*E12/J12) -> 72.93578 | B12: =IF(G12="","",100*E12/G12) | C12: Fery | D12: Cerknica | E12: 795 | F12: 66.25 | J12: 1090 | K12: 90.833333
A13: =IF(J13="","",100*E13/J13) -> 81.967213 | B13: =IF(G13="","",100*E13/G13) -> 50 | C13: vrzislo | D13: Ljubno ob Savinji | E13: 964 | F13: 64.784946 | G13: 1928 | J13: 1176.08 | K13: 79.037634
A14: =IF(J14="","",100*E14/J14) | B14: =IF(G14="","",100*E14/G14) -> 41.291667 | C14: Celje | D14: okolica Celja | E14: 991 | F14: 63.525641 | G14: 2400 | K14: 0
A15: =IF(J15="","",100*E15/J15) -> 89.515072 | B15: =IF(G15="","",100*E15/G15) -> 74.158523 | C15: SebaR | D15: Braslovče | E15: 683 | F15: 59.912281 | G15: 921 | I15: 633 | J15: 763 | K15: 66.929825 | L15: 1060 | N15: 836
A16: =IF(J16="","",100*E16/J16) | B16: =IF(G16="","",100*E16/G16) -> 64.458955 | C16: oTTo | D16: Škofja Loka | E16: 691 | F16: 59.517657 | G16: 1072 | I16: 738 | K16: 0
A17: =IF(J17="","",100*E17/J17) | B17: =IF(G17="","",100*E17/G17) -> 53.409962 | C17: JohnSnow | D17: J Primorska | E17: 697 | F17: 58.083333 | G17: 1305 | I17: 893 | K17: 0
A18: =IF(J18="","",100*E18/J18) -> 155.08475 | B18: =IF(G18="","",100*E18/G18) -> 63.986014 | C18: letalec007 | D18: okolica Cerknice | E18: 549 | F18: 56.307692 | G18: 858 | I18: 357.9 | J18: 354 | K18: 36.307692 | L18: 1024.8 | N18: 527.3
A19: =IF(J19="","",100*E19/J19) -> 76.550681 | B19: =IF(G19="","",100*E19/G19) -> 54 | C19: Caps | D19: sever Ljubljane | E19: 506 | F19: 50.09901 | G19: 937.03704 | J19: 661 | K19: 65.445545 | L19: 695.78947
A20: =IF(J20="","",100*E20/J20) | B20: =IF(G20="","",100*E20/G20) | C20: JaBK | D20: okolica Kranja | E20: 653.4 | F20: 48.4 | K20: 0
A21: =IF(J21="","",100*E21/J21) | B21: =IF(G21="","",100*E21/G21) -> 36.382226 | C21: jormam | D21: Tolmin | E21: 560.45 | F21: 44.339399 | G21: 1540.45 | K21: 0
A22: =IF(J22="","",100*E22/J22) | B22: =IF(G22="","",100*E22/G22) | C22: pregela | D22: Litija | F22: 0 | K22: 0
A23: =IF(J23="","",100*E23/J23) | B23: =IF(G23="","",100*E23/G23) | C23: labelsm | D23: Zgornje Hoče pri MB | F23: 0 | K23: 0
A24: =IF(J24="","",100*E24/J24) | B24: =IF(G24="","",100*E24/G24) | C24: vuego | D24: okolica Kamnika | F24: 0 | K24: 0
A25: =IF(J25="","",100*E25/J25) | B25: =IF(G25="","",100*E25/G25) | C25: Dave | D25: okolica Črnomlja | F25: 0 | K25: 0
A26: =IF(J26="","",100*E26/J26) | B26: =IF(G26="","",100*E26/G26) | C26: MAGS | D26: okolica Novega mesta | F26: 0 | K26: 0
A27: =IF(J27="","",100*E27/J27) | B27: =IF(G27="","",100*E27/G27) | C27: ivč | D27: Maribor vzhod | F27: 0 | K27: 0
A28: =IF(J28="","",100*E28/J28) | B28: =IF(G28="","",100*E28/G28) | C28: vip58 | D28: okolica Janč, 530 m n.v. | F28: 0 | K28: 0
A29: =IF(J29="","",100*E29/J29) | B29: =IF(G29="","",100*E29/G29) | C29: du77a | D29: Domžale | F29: 0 | K29: 0
A30: =IF(J30="","",100*E30/J30) | B30: =IF(G30="","",100*E30/G30) | C30: Kvc | D30: Prlekija | F30: 0 | K30: 0
A31: =IF(J31="","",100*E31/J31) | B31: =IF(G31="","",100*E31/G31) | C31: Unika542 | D31: okolica Ivančne gorice | F31: 0 | K31: 0
A32: =IF(J32="","",100*E32/J32) | B32: =IF(G32="","",100*E32/G32) | C32: bojan03 | D32: okolica Medvod | F32: 0 | K32: 0
A33: =IF(J33="","",100*E33/J33) | B33: =IF(G33="","",100*E33/G33) | C33: Avatar | D33: Šentvid pri Grobelnem | F33: 0 | K33: 0
... A41: =IF(J41="","",100*E41/J41) | B41: =IF(G41="","",100*E41/G41) | C41: simbala007 | D41: okolica Zagorja ob Savi | F41: 0 | K41: 0
A42: =IF(J42="","",100*E42/J42) | B42: =IF(G42="","",100*E42/G42)
A43: =IF(J43="","",100*E43/J43) | B43: =IF(G43="","",100*E43/G43)
A44: =IF(J44="","",100*E44/J44) | B44: =IF(G44="","",100*E44/G44)
A45: =IF(J45="","",100*E45/J45) | B45: =IF(G45="","",100*E45/G45)
A46: =IF(J46="","",100*E46/J46) | B46: =IF(G46="","",100*E46/G46)
A47: =IF(J47="","",100*E47/J47) | B47: =IF(G47="","",100*E47/G47)
A48: =IF(J48="","",100*E48/J48) | B48: =IF(G48="","",100*E48/G48)
A49: =IF(J49="","",100*E49/J49) | B49: =IF(G49="","",100*E49/G49)
A50: =IF(J50="","",100*E50/J50) | B50: =IF(G50="","",100*E50/G50)
A51: =IF(J51="","",100*E51/J51) | B51: =IF(G51="","",100*E51/G51)
A52: =IF(J52="","",100*E52/J52) | B52: =IF(G52="","",100*E52/G52)
A53: =IF(J53="","",100*E53/J53) | B53: =IF(G53="","",100*E53/G53)
... A109: =IF(J109="","",100*E109/J109) | B109: =IF(G109="","",100*E109/G109)

Sheet Januar_2024
A1: Primerjava jan24/jan23. Mesečna samooskrbnost v januarju 2024.
C2: 3.4.2024 15:15 | D2: Urejeno po kWh/kWp (januar 2024)
A3: Pridelek SE jan24/jan23 % | B3: Samooskrba januar 2024 % | C3: Ime | D3: Lokacija | E3: Pridelek SE januar 2024 kWh | F3: Relat. pridelek SE januar 2024 kWh/kWp | G3: Celotna poraba januar 2024 kWh | H3: Poraba za EV januar 2024 kWh | I3: Poraba za TČ januar 2024 kWh | J3: Pridelek SE januar 2023 kWh | K3: Relat. pridelek SE januar 2023 kWh/kWp | L3: Celotna poraba januar 2023 kWh | M3: Poraba za EV januar 2023 kWh | N3: Poraba za TČ januar 2023 kWh
A4: =IF(J4="","",100*E4/J4) | B4: =IF(G4="","",100*E4/G4) -> 73.466667 | C4: slepec | D4: okolica Litije, višina 505 | E4: 1102 | F4: 81.448633 | G4: 1500 | H4: 450 | I4: 560 | L4: 980 | N4: 535
A5: =IF(J5="","",100*E5/J5) -> 160.66066 | B5: =IF(G5="","",100*E5/G5) -> 62.281723 | C5: Kvc | D5: Prlekija | E5: 535 | F5: 79.259259 | G5: 859 | I5: 408 | J5: 333 | K5: 49.333333 | L5: 887 | N5: 379
A6: =IF(J6="","",100*E6/J6) | B6: =IF(G6="","",100*E6/G6) -> 78.369196 | C6: Fantocci2 | D6: Posavje | E6: 692 | F6: 78.636364 | G6: 883
A7: =IF(J7="","",100*E7/J7) -> 276.70807 | B7: =IF(G7="","",100*E7/G7) -> 62.307692 | C7: veli | D7: Cerknica | E7: 891 | F7: 78.157895 | G7: 1430 | I7: 761 | J7: 322 | K7: 28.245614 | L7: 1444
A8: =IF(J8="","",100*E8/J8) -> 320.68966 | B8: =IF(G8="","",100*E8/G8) | C8: Fery | D8: Cerknica | E8: 930 | F8: 77.5 | J8: 290 | K8: 24.166667
A9: =IF(J9="","",100*E9/J9) | B9: =IF(G9="","",100*E9/G9) -> 120.35503 | C9: cimi82 | D9: okolica NM | E9: 1017 | F9: 76.581325 | G9: 845 | H9: 350 do 400
A10: =IF(J10="","",100*E10/J10) -> 161.70732 | B10: =IF(G10="","",100*E10/G10) -> 51.435221 | C10: xavi | D10: Maribor - Zrkovci | E10: 663 | F10: 73.503326 | G10: 1289 | J10: 410 | K10: 45.454545
A11: =IF(J11="","",100*E11/J11) -> 224.86034 | B11: =IF(G11="","",100*E11/G11) -> 60.984848 | C11: vip58 | D11: okolica Janč, 530 m n.v. | E11: 805 | F11: 67.533557 | G11: 1320 | I11: 846 | J11: 358 | K11: 30.033557 | L11: 1290 | N11: 912
A12: =IF(J12="","",100*E12/J12) | B12: =IF(G12="","",100*E12/G12) -> 37 | C12: Migaj | D12: na desni strani Mure | E12: 740 | F12: 66.071429 | G12: 2000
A13: =IF(J13="","",100*E13/J13) | B13: =IF(G13="","",100*E13/G13) -> 55.706305 | C13: sašo65 | D13: Brežice | E13: 698 | F13: 60.854403 | G13: 1253
A14: =IF(J14="","",100*E14/J14) | B14: =IF(G14="","",100*E14/G14) -> 39.365774 | C14: JohnSnow | D14: J Primorska | E14: 720 | F14: 60 | G14: 1829 | I14: 1008
A15: =IF(J15="","",100*E15/J15) | B15: =IF(G15="","",100*E15/G15) -> 51.129032 | C15: Caps (gost) | D15: okolica Vipave | E15: 634 | F15: 59.474672 | G15: 1240 | I15: 1154
A16: =IF(J16="","",100*E16/J16) -> 180.55556 | B16: =IF(G16="","",100*E16/G16) -> 50.70922 | C16: du77a | D16: Domžale | E16: 715 | F16: 58.201058 | G16: 1410 | I16: 775 | J16: 396 | K16: 32.234432
A17: =IF(J17="","",100*E17/J17) | B17: =IF(G17="","",100*E17/G17) | C17: misace | D17: pri Radovljici | E17: 660 | F17: 57.093426
A18: =IF(J18="","",100*E18/J18) | B18: =IF(G18="","",100*E18/G18) -> 38.399905 | C18: oTTo | D18: Škofja Loka | E18: 647 | F18: 55.727821 | G18: 1684.9
A19: =IF(J19="","",100*E19/J19) | B19: =IF(G19="","",100*E19/G19) -> 27.763713 | C19: jormam | D19: Tolmin | E19: 658 | F19: 52.056962 | G19: 2370
A20: =IF(J20="","",100*E20/J20) -> 363.90977 | B20: =IF(G20="","",100*E20/G20) -> 40.509211 | C20: letalec007 | D20: okolica Cerknice | E20: 484 | F20: 49.641026 | G20: 1194.79 | I20: 541.5 | J20: 133 | K20: 13.641026 | L20: 1198.55 | N20: 494.3
A21: =IF(J21="","",100*E21/J21) | B21: =IF(G21="","",100*E21/G21) -> 27.180451 | C21: vrzislo | D21: Ljubno ob Savinji | E21: 723 | F21: 48.58871 | G21: 2660
A22: =IF(J22="","",100*E22/J22) | B22: =IF(G22="","",100*E22/G22) -> 39.636664 | C22: bojan03 | D22: okolica Medvod | E22: 480 | F22: 43.478261 | G22: 1211 | I22: 718
A23: =IF(J23="","",100*E23/J23) | B23: =IF(G23="","",100*E23/G23) -> 20.59375 | C23: Celje | D23: okolica Celja | E23: 659 | F23: 42.24359 | G23: 3200
A24: =IF(J24="","",100*E24/J24) -> 174.79675 | B24: =IF(G24="","",100*E24/G24) -> 30.06993 | C24: SebaR | D24: Braslovče | E24: 430 | F24: 37.719298 | G24: 1430 | I24: 1098 | J24: 246 | K24: 21.578947 | L24: 1320 | N24: 1063
A25: =IF(J25="","",100*E25/J25) | B25: =IF(G25="","",100*E25/G25) | C25: Dave | D25: okolica Črnomlja | E25: 491 | F25: 36.861862 | I25: 599
A26: =IF(J26="","",100*E26/J26) | B26: =IF(G26="","",100*E26/G26) -> 25.405405 | C26: labelsm | D26: Zgornje Hoče pri MB | E26: 470 | F26: 36.153846 | G26: 1850 | I26: 1310
A27: =IF(J27="","",100*E27/J27) -> 162.61261 | B27: =IF(G27="","",100*E27/G27) -> 23.141026 | C27: Caps | D27: sever Ljubljane | E27: 361 | F27: 35.742574 | G27: 1560 | I27: 1284 | J27: 222 | K27: 21.980198 | L27: 124
A28: =IF(J28="","",100*E28/J28) -> 140.74074 | B28: =IF(G28="","",100*E28/G28) -> 44.271845 | C28: Mr_Fizl | D28: Dol pri Ljubljani | E28: 456 | F28: 31.318681 | G28: 1030 | J28: 324 | K28: 22.252747
A29: =IF(J29="","",100*E29/J29) -> 170.05076 | B29: =IF(G29="","",100*E29/G29) -> 21.824104 | C29: MAGS | D29: okolica Novega mesta | E29: 335 | F29: 30.044843 | G29: 1535 | H29: 285.5 | I29: 834 | J29: 197 | K29: 17.668161 | L29: 1142 | N29: 708
A30: =IF(J30="","",100*E30/J30) | B30: =IF(G30="","",100*E30/G30) -> 18.005249 | C30: ufm | D30: Osrednja Slovenija, 380 m n.v. | E30: 343 | F30: 27.840909 | G30: 1905
A31: =IF(J31="","",100*E31/J31) | B31: =IF(G31="","",100*E31/G31) | C31: JaBK | D31: okolica Kranja
A32: =IF(J32="","",100*E32/J32) | B32: =IF(G32="","",100*E32/G32) | C32: pregela | D32: Litija
A33: =IF(J33="","",100*E33/J33) | B33: =IF(G33="","",100*E33/G33) | C33: vuego | D33: okolica Kamnika
A34: =IF(J34="","",100*E34/J34) | B34: =IF(G34="","",100*E34/G34) | C34: ivč | D34: Maribor vzhod
A35: =IF(J35="","",100*E35/J35) | B35: =IF(G35="","",100*E35/G35) | C35: Unika542 | D35: okolica Ivančne gorice
A36: =IF(J36="","",100*E36/J36) | B36: =IF(G36="","",100*E36/G36) | C36: Avatar | D36: Šentvid pri Grobelnem
A37: =IF(J37="","",100*E37/J37) | B37: =IF(G37="","",100*E37/G37) | C37: rorex | D37: Prekmurje
A38: =IF(J38="","",100*E38/J38) | B38: =IF(G38="","",100*E38/G38) | C38: M0rph3u5 | D38: okolica Mokronoga
A39: =IF(J39="","",100*E39/J39) | B39: =IF(G39="","",100*E39/G39) | C39: wilson34 | D39: Prekmurje
A40: =IF(J40="","",100*E40/J40) | B40: =IF(G40="","",100*E40/G40) | C40: Letalec | D40: okolica Bleda
A41: =IF(J41="","",100*E41/J41) | B41: =IF(G41="","",100*E41/G41) | C41: simbala007 | D41: okolica Zagorja ob Savi
A42: =IF(J42="","",100*E42/J42) | B42: =IF(G42="","",100*E42/G42)
A43: =IF(J43="","",100*E43/J43) | B43: =IF(G43="","",100*E43/G43)
A44: =IF(J44="","",100*E44/J44) | B44: =IF(G44="","",100*E44/G44)
A45: =IF(J45="","",100*E45/J45) | B45: =IF(G45="","",100*E45/G45)
A46: =IF(J46="","",100*E46/J46) | B46: =IF(G46="","",100*E46/G46)
A47: =IF(J47="","",100*E47/J47) | B47: =IF(G47="","",100*E47/G47)
A48: =IF(J48="","",100*E48/J48) | B48: =IF(G48="","",100*E48/G48)
A49: =IF(J49="","",100*E49/J49) | B49: =IF(G49="","",100*E49/G49)
A50: =IF(J50="","",100*E50/J50) | B50: =IF(G50="","",100*E50/G50)
A51: =IF(J51="","",100*E51/J51) | B51: =IF(G51="","",100*E51/G51)
A52: =IF(J52="","",100*E52/J52) | B52: =IF(G52="","",100*E52/G52)
A53: =IF(J53="","",100*E53/J53) | B53: =IF(G53="","",100*E53/G53)
... A64: =IF(J64="","",100*E64/J64) | B64: =IF(G64="","",100*E64/G64)

Sheet Pridelek_16jan24
A1: Pridelki SE forumašev na sončen dan 16.1.2024 (nekateri so imeli meglo), ki se je popoldan skvaril. Seveda samo tistih, ki so poslali podatke.
A2: Urejeno po kWh/kWp | C2: Izračun porabe energije v objektu iz podatkov SE in Moj Elektro. PORABA = SE_energija + Prejeta_iz_omrežja - Oddana_v_omrežje
A3: 9.2.2024
A4: Ime | B4: Lokacija | C4: Pridelek 16.1.2024 kWh | D4: Relat. pridelek 16.1.2024 kWh/kWp | E4: Poraba energije v objektu 16.1.2024
A5: veli | B5: Cerknica | C5: 42.7 | D5: 3.745614 | E5: 37.6 kWh
A6: xavi | B6: Maribor - Zrkovci | C6: 31 | D6: 3.4368071 | E6: 47.11 kWh
A7: M0rph3u5 | B7: okolica Mokronoga | C7: 32.8 | D7: 3.4166667 | E7: 40.08 kWh
A8: du77a | B8: Domžale | C8: 39.3 | D8: 3.1990232
A9: slepec | B9: okolica Litije, višina 505 | C9: 42 | D9: 3.1042129 | E9: 30 kWh EV se ni polnil
A10: Caps (gost) | B10: okolica Vipave | C10: 31.3 | D10: 2.9362101 | E10: 50 kWh (ocena)
A11: letalec007 | B11: okolica Cerknice | C11: 27.6 | D11: 2.8307692
A12: jormam | B12: Tolmin | C12: 34.7 | D12: 2.7452532 | E12: 76.3 kWh
A13: vip58 | B13: okolica Janč, 530 m n.v. | C13: 32.7 | D13: 2.7432886 | E13: 40.5 kWh
A14: JaBK | B14: okolica Kranja | C14: 28.5 | D14: 2.1111111 | E14: 42.5 kWh
A15: ivč | B15: Maribor vzhod | C15: 17.8 | D15: 2.0843091
A16: Caps | B16: sever Ljubljane | C16: 21 | D16: 2.0792079 | E16: 40 kWh
A17: bojan03 | B17: okolica Medvod | C17: 22.5 | D17: 2.0380435 | E17: 40.9 kWh
A18: Migaj | B18: na desni strani Mure | C18: 20 | D18: 1.7857143 | E18: 52 kWh do 18:30
A19: rorex | B19: Prekmurje | C19: 21.1 | D19: 1.7583333
A20: labelsm | B20: Zgornje Hoče pri MB | C20: 21.5 | D20: 1.6538462 | E20: 63.5 kWh do 22h
A21: wilson34 | B21: Prekmurje | C21: 16.4 | D21: 1.5769231 | E21: 64.35kWh
A22: MAGS | B22: okolica Novega mesta | C22: 15.7 | D22: 1.4080717 | E22: 63.6 kWh
A23: cimi82 | B23: okolica NM | C23: 7.43 | D23: 0.55948795 | E23: 10.4 kWh
A24: SebaR | B24: Braslovče | C24: 6.31 | D24: 0.55350877 | E24: 60.2 kWh
A25: sašo65 | B25: Brežice | C25: 5.8 | D25: 0.52727273 | E25: *34-40 kWh/dan (MojElektro)
A26: Celje | B26: okolica Celja | C26: 8.22 | D26: 0.52692308 | E26: 111 kWh
A27: pregela | B27: Litija
A28: vuego | B28: okolica Kamnika
A29: Dave | B29: okolica Črnomlja
A30: Fery | B30: Cerknica
A31: Kvc | B31: Prlekija
A32: Unika542 | B32: okolica Ivančne gorice
A33: Fantocci2 | B33: Posavje
A34: JohnSnow | B34: J Primorska
A35: Avatar | B35: Šentvid pri Grobelnem
A36: vrzislo | B36: Ljubno ob Savinji
A37: Mr_Fizl | B37: Dol pri Ljubljani
A38: oTTo | B38: Škofja Loka
... A40: Letalec | B40: okolica Bleda

Sheet Pridelek_17jan24
A1: Pridelki SE forumašev na deževen dan 17.1.2024. Seveda samo tistih, ki so poslali podatke.
A2: Urejeno po kWh/kWp | C2: Izračun porabe energije v objektu iz podatkov SE in Moj Elektro. PORABA = SE_energija + Prejeta_iz_omrežja - Oddana_v_omrežje
A3: 9.2.2024
A4: Ime | B4: Lokacija | C4: Pridelek 17.1.2024 kWh | D4: Relat. pridelek 17.1.2024 kWh/kWp | E4: Poraba energije v objektu 17.1.2024
A5: SebaR | B5: Braslovče | C5: 8.07 | D5: 0.70789474 | E5: 55.4 kWh
A6: M0rph3u5 | B6: okolica Mokronoga | C6: 5.32 | D6: 0.55416667 | E6: 44.47 kWh
A7: vip58 | B7: okolica Janč, 530 m n.v. | C7: 6.5 | D7: 0.54530201 | E7: 37.5 kWh
A8: labelsm | B8: Zgornje Hoče pri MB | C8: 6.5 | D8: 0.5 | E8: 45 kWh do 20h
A9: Celje | B9: okolica Celja | C9: 7.51 | D9: 0.48141026 | E9: 104 kWh
A10: slepec | B10: okolica Litije, višina 505 | C10: 5.5 | D10: 0.40650407 | E10: 70 kWh (25+45) hiša, EV
A11: cimi82 | B11: okolica NM | C11: 5.32 | D11: 0.40060241 | E11: 37.6 kWh
A12: bojan03 | B12: okolica Medvod | C12: 4.1 | D12: 0.37137681 | E12: 32 kWh
A13: JaBK | B13: okolica Kranja | C13: 4.83 | D13: 0.35777778 | E13: 41 kWh
A14: xavi | B14: Maribor - Zrkovci | C14: 3.21 | D14: 0.35587583 | E14: 42.47
A15: rorex | B15: Prekmurje | C15: 3.72 | D15: 0.31
A16: MAGS | B16: okolica Novega mesta | C16: 3.4 | D16: 0.30493274 | E16: 29.9 kWh
A17: wilson34 | B17: Prekmurje | C17: 3.04 | D17: 0.29230769 | E17: 57.58 kWh
A18: veli | B18: Cerknica | C18: 2.65 | D18: 0.23245614 | E18: 38.2 kWh
A19: Caps | B19: sever Ljubljane | C19: 2.14 | D19: 0.21188119 | E19: 41.16 kWh
A20: du77a | B20: Domžale | C20: 2.3 | D20: 0.18722019
A21: jormam | B21: Tolmin | C21: 1.5 | D21: 0.11867089 | E21: 87 kWh
A22: Caps (gost) | B22: okolica Vipave | C22: 0.98 | D22: 0.091932458 | E22: 49 kWh (ocena)
A23: letalec007 | B23: okolica Cerknice | C23: 0.702 | D23: 0.072 | E23: 33 kWh do 20h
A24: pregela | B24: Litija
A25: vuego | B25: okolica Kamnika
A26: Dave | B26: okolica Črnomlja
A27: Fery | B27: Cerknica
A28: ivč | B28: Maribor vzhod
A29: Kvc | B29: Prlekija
A30: Unika542 | B30: okolica Ivančne gorice
A31: Fantocci2 | B31: Posavje
A32: JohnSnow | B32: J Primorska
A33: Migaj | B33: na desni strani Mure
A34: Avatar | B34: Šentvid pri Grobelnem
A35: sašo65 | B35: Brežice
... A40: Letalec | B40: okolica Bleda
